BEGIN:VCALENDAR
VERSION:2.0
PRODID:-//Diana Marie Keller - ECPv6.15.16.1//NONSGML v1.0//EN
CALSCALE:GREGORIAN
METHOD:PUBLISH
X-ORIGINAL-URL:https://dianamariekeller.com
X-WR-CALDESC:Events for Diana Marie Keller
REFRESH-INTERVAL;VALUE=DURATION:PT1H
X-Robots-Tag:noindex
X-PUBLISHED-TTL:PT1H
BEGIN:VTIMEZONE
TZID:America/New_York
BEGIN:DAYLIGHT
TZOFFSETFROM:-0500
TZOFFSETTO:-0400
TZNAME:EDT
DTSTART:20240310T070000
END:DAYLIGHT
BEGIN:STANDARD
TZOFFSETFROM:-0400
TZOFFSETTO:-0500
TZNAME:EST
DTSTART:20241103T060000
END:STANDARD
BEGIN:DAYLIGHT
TZOFFSETFROM:-0500
TZOFFSETTO:-0400
TZNAME:EDT
DTSTART:20250309T070000
END:DAYLIGHT
BEGIN:STANDARD
TZOFFSETFROM:-0400
TZOFFSETTO:-0500
TZNAME:EST
DTSTART:20251102T060000
END:STANDARD
BEGIN:DAYLIGHT
TZOFFSETFROM:-0500
TZOFFSETTO:-0400
TZNAME:EDT
DTSTART:20260308T070000
END:DAYLIGHT
BEGIN:STANDARD
TZOFFSETFROM:-0400
TZOFFSETTO:-0500
TZNAME:EST
DTSTART:20261101T060000
END:STANDARD
END:VTIMEZONE
BEGIN:VEVENT
DTSTART;TZID=America/New_York:20250711T110000
DTEND;TZID=America/New_York:20250711T140000
DTSTAMP:20260424T044050
CREATED:20250603T142127Z
LAST-MODIFIED:20250603T153129Z
UID:10000190-1752231600-1752242400@dianamariekeller.com
SUMMARY:Fierce Ladies Coworking Session - Square Mile Coffee Company
DESCRIPTION:Join us for a Fierce Ladies Coworking Session at Square Mile Coffee Company and give your workday a refreshing twist. \nThis session is perfect for women who want to switch up their routine\, boost their productivity\, and feel inspired by the presence of fellow fierce ladies—all in a cozy\, vibrant café setting. Whether you’re working remotely\, running your own business\, or just need a space to focus\, this coworking session is designed to help you feel energized and supported. \nThere’s something powerful about working alongside other women who are also showing up and getting things done. It’s not just about crossing off tasks—it’s about being in a room full of possibility. Conversations spark ideas. A shared smile can reset your energy. You don’t have to do it all alone—and this is your reminder of that. \nBring your laptop\, charger\, and anything else you need to stay productive. We’ll provide the coffee and the community spirit. You’re welcome to stay for the full session or drop in when it works for you—this space is for you\, no pressure\, just connection and progress. \nAdd this event to your Google Calendar by CLICKING HERE! \nThe Fierce Ladies Collective is designed for the spirited woman eager to explore the depths of her potential in a supportive and dynamic environment. Whether you’re a professional seeking deeper connections\, a creative soul looking to express herself\, or someone yearning to break out of the everyday routine\, our community is your sanctuary. We cater to those who value authenticity and are ready to step outside their comfort zones to forge genuine friendships and embrace transformative experiences. At the Fierce Ladies Collective\, you’ll find a diverse group of women committed to empowering each other\, sharing in each other’s victories\, and growing together in a space that celebrates every step of the journey. \nJoin the Facebook Group here: https://www.facebook.com/groups/1206674110190854/
URL:https://dianamariekeller.com/event-1/fierce-ladies-coworking-session-square-mile-coffee-company/
LOCATION:Square Mile Coffee Compay\, 7420 Hamilton Ave\, Mt. Healtht\, OH\, 45231
CATEGORIES:Fierce Ladies Coffeehouse Work Sessions
ATTACH;FMTTYPE=image/png:https://dianamariekeller.com/wp-content/uploads/2025/02/Coworking-Sessions-1.png
ORGANIZER;CN="KMF%3A Keep Moving Forward%2C LLC":MAILTO:Diana.Marie.Keller@gmail.com
END:VEVENT
END:VCALENDAR