BEGIN:VCALENDAR
VERSION:2.0
PRODID:-//Diana Marie Keller - ECPv6.15.16.1//NONSGML v1.0//EN
CALSCALE:GREGORIAN
METHOD:PUBLISH
X-ORIGINAL-URL:https://dianamariekeller.com
X-WR-CALDESC:Events for Diana Marie Keller
REFRESH-INTERVAL;VALUE=DURATION:PT1H
X-Robots-Tag:noindex
X-PUBLISHED-TTL:PT1H
BEGIN:VTIMEZONE
TZID:America/New_York
BEGIN:DAYLIGHT
TZOFFSETFROM:-0500
TZOFFSETTO:-0400
TZNAME:EDT
DTSTART:20230312T070000
END:DAYLIGHT
BEGIN:STANDARD
TZOFFSETFROM:-0400
TZOFFSETTO:-0500
TZNAME:EST
DTSTART:20231105T060000
END:STANDARD
BEGIN:DAYLIGHT
TZOFFSETFROM:-0500
TZOFFSETTO:-0400
TZNAME:EDT
DTSTART:20240310T070000
END:DAYLIGHT
BEGIN:STANDARD
TZOFFSETFROM:-0400
TZOFFSETTO:-0500
TZNAME:EST
DTSTART:20241103T060000
END:STANDARD
BEGIN:DAYLIGHT
TZOFFSETFROM:-0500
TZOFFSETTO:-0400
TZNAME:EDT
DTSTART:20250309T070000
END:DAYLIGHT
BEGIN:STANDARD
TZOFFSETFROM:-0400
TZOFFSETTO:-0500
TZNAME:EST
DTSTART:20251102T060000
END:STANDARD
BEGIN:DAYLIGHT
TZOFFSETFROM:-0500
TZOFFSETTO:-0400
TZNAME:EDT
DTSTART:20260308T070000
END:DAYLIGHT
BEGIN:STANDARD
TZOFFSETFROM:-0400
TZOFFSETTO:-0500
TZNAME:EST
DTSTART:20261101T060000
END:STANDARD
END:VTIMEZONE
BEGIN:VEVENT
DTSTART;TZID=America/New_York:20251114T184500
DTEND;TZID=America/New_York:20251114T204500
DTSTAMP:20260424T012703
CREATED:20250719T115846Z
LAST-MODIFIED:20251112T204149Z
UID:10000211-1763145900-1763153100@dianamariekeller.com
SUMMARY:Fierce Ladies Monthly Meal – Sotto
DESCRIPTION:Join the Fierce Ladies Collective for our November Monthly Meal at Sotto\, one of Cincinnati’s most beloved underground gems. \nWith its dim lighting\, candlelit tables\, and Italian dishes made from scratch\, Sotto creates an atmosphere that’s both elegant and deeply cozy—the perfect setting for slow conversation and deeper connection. Whether you’re catching up with familiar faces or joining us for the first time\, this evening is all about community\, presence\, and great food. \nOur Monthly Meals are intentionally intimate and welcoming—designed for women who crave more than surface-level conversation and want to feel truly seen and included. You’ll leave with a full heart\, a full belly\, and maybe a new friend or two. \nTickets do NOT include the cost of your meal at the restaurant.\n**PLEASE BE ADVISED – Tickets are NON-REFUNDABLE\, but are transferrable. You must find your own transfer.** \nAdd this event to your Google Calendar by CLICKING HERE! \nThe Fierce Ladies Collective is a community for women who are ready to show up\, be real\, and build meaningful friendships. Whether you’re new to Cincinnati or just looking to expand your circle\, FLC creates fun\, low-pressure spaces to connect—from social hours and monthly meals to creative events and coworking sessions. We believe friendship should be easier to find\, and that you don’t have to change who you are to belong. If you’ve ever felt like making friends as an adult is hard\, you’re not alone—and you’re in the right place. Come as you are; there’s a seat for you here. \nJoin the Facebook Group here: https://www.facebook.com/groups/1206674110190854/
URL:https://dianamariekeller.com/event-1/fierce-ladies-monthly-meal-sotto/
LOCATION:Sotto\, 118 E 6th St\, Cincinnati\, OH\, 45202
CATEGORIES:Fierce Ladies Open House Dinner
ATTACH;FMTTYPE=image/png:https://dianamariekeller.com/wp-content/uploads/2025/02/Monthly-Meal-1.png
ORGANIZER;CN="KMF%3A Keep Moving Forward%2C LLC":MAILTO:Diana.Marie.Keller@gmail.com
END:VEVENT
BEGIN:VEVENT
DTSTART;TZID=America/New_York:20240830T184500
DTEND;TZID=America/New_York:20240830T204500
DTSTAMP:20260424T012703
CREATED:20240527T170107Z
LAST-MODIFIED:20240626T223212Z
UID:10000104-1725043500-1725050700@dianamariekeller.com
SUMMARY:Fierce Ladies Open House Dinner – Sotto
DESCRIPTION:Join us for our August Fierce Ladies Open House Dinner at Sotto on Friday\, August 30th\, from 6:45pm – 8:45pm. Tickets are $17.50 and include one FREE beverage! (You will pay for the cost of your meal.) This will be an opportunity to meet other women\, and just talk and hang out! \nRESERVE YOUR SEAT HERE! — SOLD OUT!\n**PLEASE BE ADVISED – Tickets are NON-REFUNDABLE\, but are transferrable. You must find your own transfer.** \nAdd this event to your Google Calendar by CLICKING HERE! \nThe Fierce Ladies Collective is designed for the spirited woman eager to explore the depths of her potential in a supportive and dynamic environment. Whether you’re a professional seeking deeper connections\, a creative soul looking to express herself\, or someone yearning to break out of the everyday routine\, our community is your sanctuary. We cater to those who value authenticity and are ready to step outside their comfort zones to forge genuine friendships and embrace transformative experiences. At the Fierce Ladies Collective\, you’ll find a diverse group of women committed to empowering each other\, sharing in each other’s victories\, and growing together in a space that celebrates every step of the journey. \nJoin the Facebook Group here: https://www.facebook.com/groups/1206674110190854/
URL:https://dianamariekeller.com/event-1/fierce-ladies-open-house-dinner-sotto/
LOCATION:Sotto\, 118 E 6th St\, Cincinnati\, OH\, 45202
CATEGORIES:Fierce Ladies Monthly Meetup
ORGANIZER;CN="KMF%3A Keep Moving Forward%2C LLC":MAILTO:Diana.Marie.Keller@gmail.com
END:VEVENT
END:VCALENDAR