BEGIN:VCALENDAR
VERSION:2.0
PRODID:-//Diana Marie Keller - ECPv6.15.16.1//NONSGML v1.0//EN
CALSCALE:GREGORIAN
METHOD:PUBLISH
X-ORIGINAL-URL:https://dianamariekeller.com
X-WR-CALDESC:Events for Diana Marie Keller
REFRESH-INTERVAL;VALUE=DURATION:PT1H
X-Robots-Tag:noindex
X-PUBLISHED-TTL:PT1H
BEGIN:VTIMEZONE
TZID:America/New_York
BEGIN:DAYLIGHT
TZOFFSETFROM:-0500
TZOFFSETTO:-0400
TZNAME:EDT
DTSTART:20240310T070000
END:DAYLIGHT
BEGIN:STANDARD
TZOFFSETFROM:-0400
TZOFFSETTO:-0500
TZNAME:EST
DTSTART:20241103T060000
END:STANDARD
BEGIN:DAYLIGHT
TZOFFSETFROM:-0500
TZOFFSETTO:-0400
TZNAME:EDT
DTSTART:20250309T070000
END:DAYLIGHT
BEGIN:STANDARD
TZOFFSETFROM:-0400
TZOFFSETTO:-0500
TZNAME:EST
DTSTART:20251102T060000
END:STANDARD
BEGIN:DAYLIGHT
TZOFFSETFROM:-0500
TZOFFSETTO:-0400
TZNAME:EDT
DTSTART:20260308T070000
END:DAYLIGHT
BEGIN:STANDARD
TZOFFSETFROM:-0400
TZOFFSETTO:-0500
TZNAME:EST
DTSTART:20261101T060000
END:STANDARD
END:VTIMEZONE
BEGIN:VEVENT
DTSTART;TZID=America/New_York:20250329T100000
DTEND;TZID=America/New_York:20250329T120000
DTSTAMP:20260424T093408
CREATED:20241208T162902Z
LAST-MODIFIED:20250310T182317Z
UID:10000160-1743242400-1743249600@dianamariekeller.com
SUMMARY:Fierce Ladies Monthly Meetup - Queen City Clay Wheel Throwing
DESCRIPTION:Discover the art of wheel throwing at Queen City Clay! This workshop is perfect for both beginners and those with more experience. With no prior experience required\, you’ll be guided by skilled instructors through the entire process of creating your own piece on the wheel. From centering the clay to shaping your vessel and applying glaze\, each step is a chance to learn and enjoy the art of ceramics. \nThis session includes all necessary materials—clay\, tools\, firing\, and glazes. It’s a wonderful opportunity to relax\, unleash your inner artist\, and create a unique piece of art alongside fellow Fierce Ladies. \n**PLEASE BE ADVISED – Tickets are NON-REFUNDABLE\, but are transferrable. You must find your own transfer.** \nAdd this event to your Google Calendar by CLICKING HERE! \nThe Fierce Ladies Collective is designed for the spirited woman eager to explore the depths of her potential in a supportive and dynamic environment. Whether you’re a professional seeking deeper connections\, a creative soul looking to express herself\, or someone yearning to break out of the everyday routine\, our community is your sanctuary. We cater to those who value authenticity and are ready to step outside their comfort zones to forge genuine friendships and embrace transformative experiences. At the Fierce Ladies Collective\, you’ll find a diverse group of women committed to empowering each other\, sharing in each other’s victories\, and growing together in a space that celebrates every step of the journey. \nJoin the Facebook Group here: https://www.facebook.com/groups/1206674110190854/
URL:https://dianamariekeller.com/event-1/fierce-ladies-monthly-meetup-queen-city-clay-wheel-throwing/
LOCATION:Queen City Clay\, 2760 Highland Ave\, Cincinnati\, OH\, 45212\, United States
CATEGORIES:Fierce Ladies Monthly Meetup
ORGANIZER;CN="KMF%3A Keep Moving Forward%2C LLC":MAILTO:Diana.Marie.Keller@gmail.com
END:VEVENT
END:VCALENDAR