BEGIN:VCALENDAR
VERSION:2.0
PRODID:-//Diana Marie Keller - ECPv6.15.16.1//NONSGML v1.0//EN
CALSCALE:GREGORIAN
METHOD:PUBLISH
X-ORIGINAL-URL:https://dianamariekeller.com
X-WR-CALDESC:Events for Diana Marie Keller
REFRESH-INTERVAL;VALUE=DURATION:PT1H
X-Robots-Tag:noindex
X-PUBLISHED-TTL:PT1H
BEGIN:VTIMEZONE
TZID:America/New_York
BEGIN:DAYLIGHT
TZOFFSETFROM:-0500
TZOFFSETTO:-0400
TZNAME:EDT
DTSTART:20240310T070000
END:DAYLIGHT
BEGIN:STANDARD
TZOFFSETFROM:-0400
TZOFFSETTO:-0500
TZNAME:EST
DTSTART:20241103T060000
END:STANDARD
BEGIN:DAYLIGHT
TZOFFSETFROM:-0500
TZOFFSETTO:-0400
TZNAME:EDT
DTSTART:20250309T070000
END:DAYLIGHT
BEGIN:STANDARD
TZOFFSETFROM:-0400
TZOFFSETTO:-0500
TZNAME:EST
DTSTART:20251102T060000
END:STANDARD
BEGIN:DAYLIGHT
TZOFFSETFROM:-0500
TZOFFSETTO:-0400
TZNAME:EDT
DTSTART:20260308T070000
END:DAYLIGHT
BEGIN:STANDARD
TZOFFSETFROM:-0400
TZOFFSETTO:-0500
TZNAME:EST
DTSTART:20261101T060000
END:STANDARD
END:VTIMEZONE
BEGIN:VEVENT
DTSTART;TZID=America/New_York:20250517T120000
DTEND;TZID=America/New_York:20250517T170000
DTSTAMP:20260424T062447
CREATED:20250222T133808Z
LAST-MODIFIED:20250517T105741Z
UID:10000176-1747483200-1747501200@dianamariekeller.com
SUMMARY:Fierce Ladies Monthly Experience - 2nd Annual Connector Crawl
DESCRIPTION:Get ready for an epic day of exploration and camaraderie at the 2ND ANNUAL Cincinnati Connector Crawl! From the historic streets of Over-The-Rhine to the bustling scenes at The Banks\, this crawl is your ticket to explore like never before. Join fellow adventurers as we hop aboard the Connector and journey through downtown\, making stops at handpicked bars\, restaurants\, and points of interest along the way. With the flexibility to branch out on your own at each stop\, you have the freedom to tailor the day to your preferences and create unforgettable memories with friends old and new. \nWhat to Expect:\nKickstart at Northern Row: Join us for brunch /lunch and get to know your fellow crawlers. Here’s where your adventure begins!\nExclusive Swag Bag: Get equipped with a swag bag packed with essentials to keep you comfy and stylish throughout the day.\nCurated Stops with Freedom to Explore: At each neighborhood stop\, you’ll have the freedom to explore top spots\, each offering unique experiences.\nSeamless Navigation: Dive into each location with ease using our provided guides\, ensuring you don’t miss out on any hidden gems.\nWrap up the Day Your Way: The official crawl concludes at the Hanke Exchange Station\, but feel free to continue exploring or circle back to Northern Row to end your day. \n**PLEASE BE ADVISED – Tickets are NON-REFUNDABLE\, but are transferrable. You must find your own transfer.** \nAdd this event to your Google Calendar by CLICKING HERE! \nThe Fierce Ladies Collective is designed for the spirited woman eager to explore the depths of her potential in a supportive and dynamic environment. Whether you’re a professional seeking deeper connections\, a creative soul looking to express herself\, or someone yearning to break out of the everyday routine\, our community is your sanctuary. We cater to those who value authenticity and are ready to step outside their comfort zones to forge genuine friendships and embrace transformative experiences. At the Fierce Ladies Collective\, you’ll find a diverse group of women committed to empowering each other\, sharing in each other’s victories\, and growing together in a space that celebrates every step of the journey. \nJoin the Facebook Group here: https://www.facebook.com/groups/1206674110190854/
URL:https://dianamariekeller.com/event-1/fierce-ladies-monthly-experience-2nd-annual-connector-crawl/
LOCATION:Northern Row\, 111 W McMicken Ave\, Cincinnati\, OH\, 45202
CATEGORIES:Fierce Ladies Monthly Meetup
ATTACH;FMTTYPE=image/png:https://dianamariekeller.com/wp-content/uploads/2025/02/Fierce-Ladies-Monthly-Experience.png
ORGANIZER;CN="KMF%3A Keep Moving Forward%2C LLC":MAILTO:Diana.Marie.Keller@gmail.com
END:VEVENT
END:VCALENDAR