BEGIN:VCALENDAR
VERSION:2.0
PRODID:-//Diana Marie Keller - ECPv6.15.16.1//NONSGML v1.0//EN
CALSCALE:GREGORIAN
METHOD:PUBLISH
X-WR-CALNAME:Diana Marie Keller
X-ORIGINAL-URL:https://dianamariekeller.com
X-WR-CALDESC:Events for Diana Marie Keller
REFRESH-INTERVAL;VALUE=DURATION:PT1H
X-Robots-Tag:noindex
X-PUBLISHED-TTL:PT1H
BEGIN:VTIMEZONE
TZID:America/New_York
BEGIN:DAYLIGHT
TZOFFSETFROM:-0500
TZOFFSETTO:-0400
TZNAME:EDT
DTSTART:20240310T070000
END:DAYLIGHT
BEGIN:STANDARD
TZOFFSETFROM:-0400
TZOFFSETTO:-0500
TZNAME:EST
DTSTART:20241103T060000
END:STANDARD
BEGIN:DAYLIGHT
TZOFFSETFROM:-0500
TZOFFSETTO:-0400
TZNAME:EDT
DTSTART:20250309T070000
END:DAYLIGHT
BEGIN:STANDARD
TZOFFSETFROM:-0400
TZOFFSETTO:-0500
TZNAME:EST
DTSTART:20251102T060000
END:STANDARD
BEGIN:DAYLIGHT
TZOFFSETFROM:-0500
TZOFFSETTO:-0400
TZNAME:EDT
DTSTART:20260308T070000
END:DAYLIGHT
BEGIN:STANDARD
TZOFFSETFROM:-0400
TZOFFSETTO:-0500
TZNAME:EST
DTSTART:20261101T060000
END:STANDARD
END:VTIMEZONE
BEGIN:VEVENT
DTSTART;TZID=America/New_York:20250206T170000
DTEND;TZID=America/New_York:20250206T200000
DTSTAMP:20260424T124900
CREATED:20250121T145949Z
LAST-MODIFIED:20250122T163435Z
UID:10000168-1738861200-1738872000@dianamariekeller.com
SUMMARY:Ascending Women: Ladies Who Lead
DESCRIPTION:Ascending Women is an event series featuring strong\, inspiring women who have overcome big challenges. It’s an opportunity to connect\, learn from\, and grow with each other. \nDiana Keller\, and the Fierce Ladies Collective\, in collaboration with Rachel DesRochers of Power to Pursue and Rhiannon Hoeweler of MadTree are excited to bring you the February edition of Ascending Women. This monthly event series is dedicated to featuring strong\, inspiring women who have overcome challenges and continue to drive change in their communities. \nThe February Ascending Women event\, Ladies Who Lead\, will focus on Redefining Leadership: Building Community Through Connection. This theme emphasizes that leadership is not about formal titles or roles but about building meaningful connections\, uplifting others\, and fostering collaboration. \nJoin us at MadTree Brewing on Thursday\, February 6th\, from 5:00 PM to 8:00 PM for a night of fun\, networking\, and inspiration. \n\nGET YOUR TICKETS HERE
URL:https://dianamariekeller.com/event-1/ascending-women-ladies-who-lead/
LOCATION:MadTree Brewing\, 3301 Madison Rd\, Cincinnati\, OH\, 45209\, United States
ORGANIZER;CN="KMF%3A Keep Moving Forward%2C LLC":MAILTO:Diana.Marie.Keller@gmail.com
END:VEVENT
END:VCALENDAR