BEGIN:VCALENDAR
VERSION:2.0
PRODID:-//Diana Marie Keller - ECPv6.15.16.1//NONSGML v1.0//EN
CALSCALE:GREGORIAN
METHOD:PUBLISH
X-ORIGINAL-URL:https://dianamariekeller.com
X-WR-CALDESC:Events for Diana Marie Keller
REFRESH-INTERVAL;VALUE=DURATION:PT1H
X-Robots-Tag:noindex
X-PUBLISHED-TTL:PT1H
BEGIN:VTIMEZONE
TZID:America/New_York
BEGIN:DAYLIGHT
TZOFFSETFROM:-0500
TZOFFSETTO:-0400
TZNAME:EDT
DTSTART:20240310T070000
END:DAYLIGHT
BEGIN:STANDARD
TZOFFSETFROM:-0400
TZOFFSETTO:-0500
TZNAME:EST
DTSTART:20241103T060000
END:STANDARD
BEGIN:DAYLIGHT
TZOFFSETFROM:-0500
TZOFFSETTO:-0400
TZNAME:EDT
DTSTART:20250309T070000
END:DAYLIGHT
BEGIN:STANDARD
TZOFFSETFROM:-0400
TZOFFSETTO:-0500
TZNAME:EST
DTSTART:20251102T060000
END:STANDARD
BEGIN:DAYLIGHT
TZOFFSETFROM:-0500
TZOFFSETTO:-0400
TZNAME:EDT
DTSTART:20260308T070000
END:DAYLIGHT
BEGIN:STANDARD
TZOFFSETFROM:-0400
TZOFFSETTO:-0500
TZNAME:EST
DTSTART:20261101T060000
END:STANDARD
END:VTIMEZONE
BEGIN:VEVENT
DTSTART;TZID=America/New_York:20250523T183000
DTEND;TZID=America/New_York:20250523T203000
DTSTAMP:20260424T104727
CREATED:20250413T233342Z
LAST-MODIFIED:20250414T115936Z
UID:10000188-1748025000-1748032200@dianamariekeller.com
SUMMARY:Fierce Ladies Newbie Meal - MadTree Alcove
DESCRIPTION:New to the Fierce Ladies Collective? This one’s just for you. – The Fierce Ladies Newbie Meal is designed specifically for women who have attended five or fewer FLC events. It’s a relaxed\, small-group dinner (just 6–8 people!) where you can meet others who are also new\, share stories\, and ease into the community without the pressure of a big crowd. Whether you’re feeling a little nervous about putting yourself out there or just want a more intimate setting to get started\, this is your seat at the table. Come hungry\, leave connected. \nJoin us for a relaxed evening at MadTree Alcove\, a beautifully designed space with a fresh\, seasonal menu and warm atmosphere. This dinner is the perfect chance to ease into the FLC community\, connect with other first-timers\, and enjoy meaningful conversation over a great meal. Tickets are $20 and include one FREE beverage! (You will pay for the cost of your meal.) \n**PLEASE BE ADVISED – Tickets are NON-REFUNDABLE\, but are transferrable. You must find your own transfer.** \nAdd this event to your Google Calendar by CLICKING HERE! \nThe Fierce Ladies Collective is designed for the spirited woman eager to explore the depths of her potential in a supportive and dynamic environment. Whether you’re a professional seeking deeper connections\, a creative soul looking to express herself\, or someone yearning to break out of the everyday routine\, our community is your sanctuary. We cater to those who value authenticity and are ready to step outside their comfort zones to forge genuine friendships and embrace transformative experiences. At the Fierce Ladies Collective\, you’ll find a diverse group of women committed to empowering each other\, sharing in each other’s victories\, and growing together in a space that celebrates every step of the journey. \nJoin the Facebook Group here: https://www.facebook.com/groups/1206674110190854/
URL:https://dianamariekeller.com/event-1/fierce-ladies-newbie-meal-madtree-alcove/
LOCATION:MadTree Alcove\, 1410 Vine St\, Cincinnati\, OH\, 45202\, United States
CATEGORIES:Fierce Ladies Open House Dinner
ATTACH;FMTTYPE=image/png:https://dianamariekeller.com/wp-content/uploads/2025/04/Newbie-Meal.png
ORGANIZER;CN="KMF%3A Keep Moving Forward%2C LLC":MAILTO:Diana.Marie.Keller@gmail.com
END:VEVENT
END:VCALENDAR