BEGIN:VCALENDAR
VERSION:2.0
PRODID:-//Diana Marie Keller - ECPv6.15.16.1//NONSGML v1.0//EN
CALSCALE:GREGORIAN
METHOD:PUBLISH
X-WR-CALNAME:Diana Marie Keller
X-ORIGINAL-URL:https://dianamariekeller.com
X-WR-CALDESC:Events for Diana Marie Keller
REFRESH-INTERVAL;VALUE=DURATION:PT1H
X-Robots-Tag:noindex
X-PUBLISHED-TTL:PT1H
BEGIN:VTIMEZONE
TZID:America/New_York
BEGIN:DAYLIGHT
TZOFFSETFROM:-0500
TZOFFSETTO:-0400
TZNAME:EDT
DTSTART:20230312T070000
END:DAYLIGHT
BEGIN:STANDARD
TZOFFSETFROM:-0400
TZOFFSETTO:-0500
TZNAME:EST
DTSTART:20231105T060000
END:STANDARD
BEGIN:DAYLIGHT
TZOFFSETFROM:-0500
TZOFFSETTO:-0400
TZNAME:EDT
DTSTART:20240310T070000
END:DAYLIGHT
BEGIN:STANDARD
TZOFFSETFROM:-0400
TZOFFSETTO:-0500
TZNAME:EST
DTSTART:20241103T060000
END:STANDARD
BEGIN:DAYLIGHT
TZOFFSETFROM:-0500
TZOFFSETTO:-0400
TZNAME:EDT
DTSTART:20250309T070000
END:DAYLIGHT
BEGIN:STANDARD
TZOFFSETFROM:-0400
TZOFFSETTO:-0500
TZNAME:EST
DTSTART:20251102T060000
END:STANDARD
END:VTIMEZONE
BEGIN:VEVENT
DTSTART;TZID=America/New_York:20240614T183000
DTEND;TZID=America/New_York:20240614T203000
DTSTAMP:20260423T160511
CREATED:20240329T163904Z
LAST-MODIFIED:20240604T092657Z
UID:10000098-1718389800-1718397000@dianamariekeller.com
SUMMARY:Fierce Ladies Open House Dinner – Juniper's Gin Bar
DESCRIPTION:Join us for our June Fierce Ladies Open House Dinner at Juniper’s Gin Bar on Friday\, June 14th\, from 6:30pm – 8:30pm. Tickets are $15 and include one FREE beverage! (You will pay for the cost of your meal.) This will be an opportunity to meet other women\, and just talk and hang out! \nRESERVE YOUR SEAT HERE! – SOLD OUT!\n**PLEASE BE ADVISED – Tickets are NON-REFUNDABLE\, but are transferrable. You must find your own transfer.** \nAdd this event to your Google Calendar by CLICKING HERE! \nThe Fierce Ladies Collective is a group of ambitious\, hard-working\, enthusiastic\, and driven women to come together and support one another! Whether you’re an entrepreneur\, a momma\, a woman with goals\, or someone who needs a community to lean into\, we’ve got you covered! We are focused on lifting each other up\, supporting one another\, coming together to accomplish goals\, and finding the community we need to take us to that next step! We host monthly in-person meetups and one virtual happy hour per month. \nJoin the Facebook Group here: https://www.facebook.com/groups/1206674110190854/
URL:https://dianamariekeller.com/event-1/fierce-ladies-open-house-dinner-junipers/
LOCATION:Juniper’s Gin Bar\, 409 W 6th St\, Covington\, KY\, 41011
CATEGORIES:Fierce Ladies Open House Dinner
ORGANIZER;CN="KMF%3A Keep Moving Forward%2C LLC":MAILTO:Diana.Marie.Keller@gmail.com
END:VEVENT
END:VCALENDAR