BEGIN:VCALENDAR
VERSION:2.0
PRODID:-//Diana Marie Keller - ECPv6.15.16.1//NONSGML v1.0//EN
CALSCALE:GREGORIAN
METHOD:PUBLISH
X-WR-CALNAME:Diana Marie Keller
X-ORIGINAL-URL:https://dianamariekeller.com
X-WR-CALDESC:Events for Diana Marie Keller
REFRESH-INTERVAL;VALUE=DURATION:PT1H
X-Robots-Tag:noindex
X-PUBLISHED-TTL:PT1H
BEGIN:VTIMEZONE
TZID:America/New_York
BEGIN:DAYLIGHT
TZOFFSETFROM:-0500
TZOFFSETTO:-0400
TZNAME:EDT
DTSTART:20230312T070000
END:DAYLIGHT
BEGIN:STANDARD
TZOFFSETFROM:-0400
TZOFFSETTO:-0500
TZNAME:EST
DTSTART:20231105T060000
END:STANDARD
BEGIN:DAYLIGHT
TZOFFSETFROM:-0500
TZOFFSETTO:-0400
TZNAME:EDT
DTSTART:20240310T070000
END:DAYLIGHT
BEGIN:STANDARD
TZOFFSETFROM:-0400
TZOFFSETTO:-0500
TZNAME:EST
DTSTART:20241103T060000
END:STANDARD
BEGIN:DAYLIGHT
TZOFFSETFROM:-0500
TZOFFSETTO:-0400
TZNAME:EDT
DTSTART:20250309T070000
END:DAYLIGHT
BEGIN:STANDARD
TZOFFSETFROM:-0400
TZOFFSETTO:-0500
TZNAME:EST
DTSTART:20251102T060000
END:STANDARD
BEGIN:DAYLIGHT
TZOFFSETFROM:-0500
TZOFFSETTO:-0400
TZNAME:EDT
DTSTART:20260308T070000
END:DAYLIGHT
BEGIN:STANDARD
TZOFFSETFROM:-0400
TZOFFSETTO:-0500
TZNAME:EST
DTSTART:20261101T060000
END:STANDARD
BEGIN:DAYLIGHT
TZOFFSETFROM:-0500
TZOFFSETTO:-0400
TZNAME:EDT
DTSTART:20270314T070000
END:DAYLIGHT
BEGIN:STANDARD
TZOFFSETFROM:-0400
TZOFFSETTO:-0500
TZNAME:EST
DTSTART:20271107T060000
END:STANDARD
END:VTIMEZONE
BEGIN:VEVENT
DTSTART;TZID=America/New_York:20260217T183000
DTEND;TZID=America/New_York:20260217T203000
DTSTAMP:20260423T175937
CREATED:20251124T202158Z
LAST-MODIFIED:20251124T203707Z
UID:10000241-1771353000-1771360200@dianamariekeller.com
SUMMARY:Fierce Ladies Social Hour – Factory 52 (Standard Tier)
DESCRIPTION:Join us for a midweek reset at our February Social Hour\, hosted at Factory 52—a lively gathering space with flexible seating\, local food options\, and an inviting community feel. \nOur Fierce Ladies Collective Social Hours are low-pressure\, high-vibe evenings to meet new women\, catch up with familiar faces\, and be part of a space that makes connection feel easy. Whether you’re coming straight from work or just need a night out of the house\, there’s a seat for you. \nCome as you are—solo or with a friend—and enjoy a laid-back night of real conversation. \nAdd this event to your Google Calendar by CLICKING HERE! \nThe Fierce Ladies Collective is a community for women who are ready to show up\, be real\, and build meaningful friendships. Whether you’re new to Cincinnati or just looking to expand your circle\, FLC creates fun\, low-pressure spaces to connect—from social hours and monthly meals to creative events and coworking sessions. We believe friendship should be easier to find\, and that you don’t have to change who you are to belong. If you’ve ever felt like making friends as an adult is hard\, you’re not alone—and you’re in the right place. Come as you are; there’s a seat for you here. \nJoin the Facebook Group here: https://www.facebook.com/groups/1206674110190854/
URL:https://dianamariekeller.com/event-1/fierce-ladies-social-hour-factory-52-standard-tier/
LOCATION:Factory 52\, 4590 Beech St\, Cincinnati\, OH\, 45212
CATEGORIES:Fierce Ladies Social Hour
ATTACH;FMTTYPE=image/png:https://dianamariekeller.com/wp-content/uploads/2025/02/Social-Hour-1.png
ORGANIZER;CN="KMF%3A Keep Moving Forward%2C LLC":MAILTO:Diana.Marie.Keller@gmail.com
END:VEVENT
BEGIN:VEVENT
DTSTART;TZID=America/New_York:20260217T183000
DTEND;TZID=America/New_York:20260217T203000
DTSTAMP:20260423T175937
CREATED:20251124T201945Z
LAST-MODIFIED:20251124T202106Z
UID:10000242-1771353000-1771360200@dianamariekeller.com
SUMMARY:Fierce Ladies Social Hour – Factory 52 (Basic Tier)
DESCRIPTION:Join us for a midweek reset at our February Social Hour\, hosted at Factory 52—a lively gathering space with flexible seating\, local food options\, and an inviting community feel. \nOur Fierce Ladies Collective Social Hours are low-pressure\, high-vibe evenings to meet new women\, catch up with familiar faces\, and be part of a space that makes connection feel easy. Whether you’re coming straight from work or just need a night out of the house\, there’s a seat for you. \nCome as you are—solo or with a friend—and enjoy a laid-back night of real conversation. \nThe Fierce Ladies Collective is a community for women who are ready to show up\, be real\, and build meaningful friendships. Whether you’re new to Cincinnati or just looking to expand your circle\, FLC creates fun\, low-pressure spaces to connect—from social hours and monthly meals to creative events and coworking sessions. We believe friendship should be easier to find\, and that you don’t have to change who you are to belong. If you’ve ever felt like making friends as an adult is hard\, you’re not alone—and you’re in the right place. Come as you are; there’s a seat for you here. \nJoin the Facebook Group here: https://www.facebook.com/groups/1206674110190854/
URL:https://dianamariekeller.com/event-1/fierce-ladies-social-hour-factory-52-basic-tier/
LOCATION:Factory 52\, 4590 Beech St\, Cincinnati\, OH\, 45212
CATEGORIES:Fierce Ladies Social Hour
ATTACH;FMTTYPE=image/png:https://dianamariekeller.com/wp-content/uploads/2025/02/Social-Hour-1.png
ORGANIZER;CN="KMF%3A Keep Moving Forward%2C LLC":MAILTO:Diana.Marie.Keller@gmail.com
END:VEVENT
BEGIN:VEVENT
DTSTART;TZID=America/New_York:20251119T183000
DTEND;TZID=America/New_York:20251119T203000
DTSTAMP:20260423T175937
CREATED:20250922T192112Z
LAST-MODIFIED:20250922T192311Z
UID:10000224-1763577000-1763584200@dianamariekeller.com
SUMMARY:Fierce Ladies Social Hour – Factory 52 (Standard + Premium Tier)
DESCRIPTION:Join us for a Fierce Ladies Social Hour at Factory 52—a buzzing gathering spot with food\, drinks\, and space to mingle. \nThis midweek meetup is the perfect chance to press pause on your routine and spend time with women who are all about showing up\, being real\, and having a good time. Whether it’s your first event or your fifteenth\, you’ll be welcomed with open arms and invited into easy\, genuine conversation. \nFactory 52’s open layout and variety of food options make it easy to grab a bite\, sip on something fun\, and move around the space at your own pace. It’s casual\, unstructured\, and perfect for making new friends without the pressure. \nCome as you are. We’ll be there to greet you. \n**PLEASE BE ADVISED – Tickets are NON-REFUNDABLE\, but are transferrable. You must find your own transfer.** \nThe Fierce Ladies Collective is a community for women who are ready to show up\, be real\, and build meaningful friendships. Whether you’re new to Cincinnati or just looking to expand your circle\, FLC creates fun\, low-pressure spaces to connect—from social hours and monthly meals to creative events and coworking sessions. We believe friendship should be easier to find\, and that you don’t have to change who you are to belong. If you’ve ever felt like making friends as an adult is hard\, you’re not alone—and you’re in the right place. Come as you are; there’s a seat for you here. \nJoin the Facebook Group here: https://www.facebook.com/groups/1206674110190854/
URL:https://dianamariekeller.com/event-1/fierce-ladies-social-hour-factory-52-standard-premium-tier/
LOCATION:Factory 52\, 4590 Beech St\, Cincinnati\, OH\, 45212
CATEGORIES:Fierce Ladies Social Hour
ATTACH;FMTTYPE=image/png:https://dianamariekeller.com/wp-content/uploads/2025/02/Social-Hour-1.png
ORGANIZER;CN="KMF%3A Keep Moving Forward%2C LLC":MAILTO:Diana.Marie.Keller@gmail.com
END:VEVENT
BEGIN:VEVENT
DTSTART;TZID=America/New_York:20251119T183000
DTEND;TZID=America/New_York:20251119T203000
DTSTAMP:20260423T175937
CREATED:20250719T121755Z
LAST-MODIFIED:20250922T195023Z
UID:10000212-1763577000-1763584200@dianamariekeller.com
SUMMARY:Fierce Ladies Social Hour – Factory 52 (Basic Tier)
DESCRIPTION:Interested in saving money? Become a FLC Standard or Premium member and attend this event FOR FREE! Upgrade here! \nJoin us for a Fierce Ladies Social Hour at Factory 52—a buzzing gathering spot with food\, drinks\, and space to mingle.\nThis midweek meetup is the perfect chance to press pause on your routine and spend time with women who are all about showing up\, being real\, and having a good time. Whether it’s your first event or your fifteenth\, you’ll be welcomed with open arms and invited into easy\, genuine conversation. \nFactory 52’s open layout and variety of food options make it easy to grab a bite\, sip on something fun\, and move around the space at your own pace. It’s casual\, unstructured\, and perfect for making new friends without the pressure. \nCome as you are. We’ll be there to greet you. \n**PLEASE BE ADVISED – Tickets are NON-REFUNDABLE\, but are transferrable. You must find your own transfer.** \nThe Fierce Ladies Collective is a community for women who are ready to show up\, be real\, and build meaningful friendships. Whether you’re new to Cincinnati or just looking to expand your circle\, FLC creates fun\, low-pressure spaces to connect—from social hours and monthly meals to creative events and coworking sessions. We believe friendship should be easier to find\, and that you don’t have to change who you are to belong. If you’ve ever felt like making friends as an adult is hard\, you’re not alone—and you’re in the right place. Come as you are; there’s a seat for you here. \nJoin the Facebook Group here: https://www.facebook.com/groups/1206674110190854/
URL:https://dianamariekeller.com/event-1/fierce-ladies-social-hour-factory-52-6/
LOCATION:Factory 52\, 4590 Beech St\, Cincinnati\, OH\, 45212
CATEGORIES:Fierce Ladies Social Hour
ATTACH;FMTTYPE=image/png:https://dianamariekeller.com/wp-content/uploads/2025/02/Social-Hour-1.png
ORGANIZER;CN="KMF%3A Keep Moving Forward%2C LLC":MAILTO:Diana.Marie.Keller@gmail.com
END:VEVENT
BEGIN:VEVENT
DTSTART;TZID=America/New_York:20250820T183000
DTEND;TZID=America/New_York:20250820T203000
DTSTAMP:20260423T175937
CREATED:20250603T143946Z
LAST-MODIFIED:20250715T160355Z
UID:10000196-1755714600-1755721800@dianamariekeller.com
SUMMARY:Fierce Ladies Social Hour – Factory 52
DESCRIPTION:Join the Fierce Ladies Collective for a Social Hour at Factory 52!\nTake a well-deserved break and spend your evening surrounded by laughter\, community\, and meaningful conversation. Our Fierce Ladies Social Hour is designed to be casual and welcoming—no pressure\, no expectations\, just good vibes and great people. \nThis month\, we’re heading to Factory 52—a lively\, open-air gathering spot that’s perfect for a fun evening out. With food vendors\, drinks\, and plenty of space to mingle\, it’s the kind of spot where conversation flows easily and connections happen naturally. \nWhether it’s your first time attending or you’ve been coming to events for a while\, this is a space where you can show up just as you are. Social Hours are the heart of FLC—where you can drop the small talk\, share real moments\, and meet women who are ready to build friendship and community right alongside you. \nCome alone or bring a friend—either way\, you’ll walk away with new connections and maybe even some fresh inspiration. It’s easy\, it’s fun\, and it’s exactly the kind of pause your week might need. \nAdd this event to your Google Calendar by CLICKING HERE! \nThe Fierce Ladies Collective is designed for the spirited woman eager to explore the depths of her potential in a supportive and dynamic environment. Whether you’re a professional seeking deeper connections\, a creative soul looking to express herself\, or someone yearning to break out of the everyday routine\, our community is your sanctuary. We cater to those who value authenticity and are ready to step outside their comfort zones to forge genuine friendships and embrace transformative experiences. At the Fierce Ladies Collective\, you’ll find a diverse group of women committed to empowering each other\, sharing in each other’s victories\, and growing together in a space that celebrates every step of the journey. \nJoin the Facebook Group here: https://www.facebook.com/groups/1206674110190854/
URL:https://dianamariekeller.com/event-1/fierce-ladies-social-hour-factory-52-5/
LOCATION:Factory 52\, 4590 Beech St\, Cincinnati\, OH\, 45212
CATEGORIES:Fierce Ladies Social Hour
ATTACH;FMTTYPE=image/png:https://dianamariekeller.com/wp-content/uploads/2025/02/Social-Hour-1.png
ORGANIZER;CN="KMF%3A Keep Moving Forward%2C LLC":MAILTO:Diana.Marie.Keller@gmail.com
END:VEVENT
BEGIN:VEVENT
DTSTART;TZID=America/New_York:20250416T183000
DTEND;TZID=America/New_York:20250416T203000
DTSTAMP:20260423T175937
CREATED:20250222T130417Z
LAST-MODIFIED:20250413T232128Z
UID:10000170-1744828200-1744835400@dianamariekeller.com
SUMMARY:Fierce Ladies Social Hour - Factory 52
DESCRIPTION:Join us at Factory 52 for a laid-back evening of lively conversations and laughter. Our Social Hour offers the perfect opportunity to unwind after a busy day\, meet new members\, and deepen connections with friends in the Fierce Ladies Collective. Come share a drink and enjoy the vibrant atmosphere! \nAdd this event to your Google Calendar by CLICKING HERE! \nThe Fierce Ladies Collective is designed for the spirited woman eager to explore the depths of her potential in a supportive and dynamic environment. Whether you’re a professional seeking deeper connections\, a creative soul looking to express herself\, or someone yearning to break out of the everyday routine\, our community is your sanctuary. We cater to those who value authenticity and are ready to step outside their comfort zones to forge genuine friendships and embrace transformative experiences. At the Fierce Ladies Collective\, you’ll find a diverse group of women committed to empowering each other\, sharing in each other’s victories\, and growing together in a space that celebrates every step of the journey. \nJoin the Facebook Group here: https://www.facebook.com/groups/1206674110190854/
URL:https://dianamariekeller.com/event-1/fierce-ladies-social-hour-factory-52-4/
LOCATION:Factory 52\, 4590 Beech St\, Cincinnati\, OH\, 45212
CATEGORIES:Fierce Ladies Social Hour
ATTACH;FMTTYPE=image/png:https://dianamariekeller.com/wp-content/uploads/2025/02/Social-Hour-1.png
ORGANIZER;CN="KMF%3A Keep Moving Forward%2C LLC":MAILTO:Diana.Marie.Keller@gmail.com
END:VEVENT
BEGIN:VEVENT
DTSTART;TZID=America/New_York:20250313T183000
DTEND;TZID=America/New_York:20250313T203000
DTSTAMP:20260423T175937
CREATED:20241208T161932Z
LAST-MODIFIED:20241209T144757Z
UID:10000159-1741890600-1741897800@dianamariekeller.com
SUMMARY:Fierce Ladies Social Hour - Factory 52
DESCRIPTION:Gather for a casual and enjoyable evening at our Social Hour at Factory 52! This month\, we’re adding a twist with an optional Trivia Night for those who love a good challenge. Whether you decide to test your knowledge or simply want to chat and unwind\, this event promises a great opportunity to connect with fellow members of the Fierce Ladies Collective in a lively setting. \nAdd this event to your Google Calendar by CLICKING HERE! \nThe Fierce Ladies Collective is designed for the spirited woman eager to explore the depths of her potential in a supportive and dynamic environment. Whether you’re a professional seeking deeper connections\, a creative soul looking to express herself\, or someone yearning to break out of the everyday routine\, our community is your sanctuary. We cater to those who value authenticity and are ready to step outside their comfort zones to forge genuine friendships and embrace transformative experiences. At the Fierce Ladies Collective\, you’ll find a diverse group of women committed to empowering each other\, sharing in each other’s victories\, and growing together in a space that celebrates every step of the journey. \nJoin the Facebook Group here: https://www.facebook.com/groups/1206674110190854/
URL:https://dianamariekeller.com/event-1/fierce-ladies-social-hour-factory-52-3/
LOCATION:Factory 52\, 4590 Beech St\, Cincinnati\, OH\, 45212
CATEGORIES:Fierce Ladies Social Hour
ATTACH;FMTTYPE=image/png:https://dianamariekeller.com/wp-content/uploads/2024/07/Social-Hour.png
ORGANIZER;CN="KMF%3A Keep Moving Forward%2C LLC":MAILTO:Diana.Marie.Keller@gmail.com
END:VEVENT
BEGIN:VEVENT
DTSTART;TZID=America/New_York:20241217T183000
DTEND;TZID=America/New_York:20241217T203000
DTSTAMP:20260423T175937
CREATED:20240730T195917Z
LAST-MODIFIED:20240730T195917Z
UID:10000129-1734460200-1734467400@dianamariekeller.com
SUMMARY:Fierce Ladies Social Hour - Factory 52
DESCRIPTION:Join us for the Fierce Ladies Social Hour\, a free monthly event where women of the Fierce Ladies Collective come together for a casual and friendly gathering. Whether you’re new to the community or a long-time member\, this is the perfect opportunity to unwind\, meet new friends\, and enjoy some great company in a relaxed setting. \nWe’ll be meeting at either Element Eatery or Factory 52\, alternating venues to keep things fresh and exciting. Enjoy a variety of delicious food and drinks while engaging in meaningful conversations with like-minded women. \nAdd this event to your Google Calendar by CLICKING HERE! \nThe Fierce Ladies Collective is designed for the spirited woman eager to explore the depths of her potential in a supportive and dynamic environment. Whether you’re a professional seeking deeper connections\, a creative soul looking to express herself\, or someone yearning to break out of the everyday routine\, our community is your sanctuary. We cater to those who value authenticity and are ready to step outside their comfort zones to forge genuine friendships and embrace transformative experiences. At the Fierce Ladies Collective\, you’ll find a diverse group of women committed to empowering each other\, sharing in each other’s victories\, and growing together in a space that celebrates every step of the journey. \nJoin the Facebook Group here: https://www.facebook.com/groups/1206674110190854/
URL:https://dianamariekeller.com/event-1/fierce-ladies-social-hour-factory-52-2/
LOCATION:Factory 52\, 4590 Beech St\, Cincinnati\, OH\, 45212
CATEGORIES:Fierce Ladies Social Hour
ATTACH;FMTTYPE=image/png:https://dianamariekeller.com/wp-content/uploads/2024/07/Social-Hour.png
ORGANIZER;CN="KMF%3A Keep Moving Forward%2C LLC":MAILTO:Diana.Marie.Keller@gmail.com
END:VEVENT
BEGIN:VEVENT
DTSTART;TZID=America/New_York:20241016T183000
DTEND;TZID=America/New_York:20241016T203000
DTSTAMP:20260423T175937
CREATED:20240730T195830Z
LAST-MODIFIED:20240730T195830Z
UID:10000127-1729103400-1729110600@dianamariekeller.com
SUMMARY:Fierce Ladies Social Hour - Factory 52
DESCRIPTION:Join us for the Fierce Ladies Social Hour\, a free monthly event where women of the Fierce Ladies Collective come together for a casual and friendly gathering. Whether you’re new to the community or a long-time member\, this is the perfect opportunity to unwind\, meet new friends\, and enjoy some great company in a relaxed setting. \nWe’ll be meeting at either Element Eatery or Factory 52\, alternating venues to keep things fresh and exciting. Enjoy a variety of delicious food and drinks while engaging in meaningful conversations with like-minded women. \nAdd this event to your Google Calendar by CLICKING HERE! \nThe Fierce Ladies Collective is designed for the spirited woman eager to explore the depths of her potential in a supportive and dynamic environment. Whether you’re a professional seeking deeper connections\, a creative soul looking to express herself\, or someone yearning to break out of the everyday routine\, our community is your sanctuary. We cater to those who value authenticity and are ready to step outside their comfort zones to forge genuine friendships and embrace transformative experiences. At the Fierce Ladies Collective\, you’ll find a diverse group of women committed to empowering each other\, sharing in each other’s victories\, and growing together in a space that celebrates every step of the journey. \nJoin the Facebook Group here: https://www.facebook.com/groups/1206674110190854/
URL:https://dianamariekeller.com/event-1/fierce-ladies-social-hour-factory-52/
LOCATION:Factory 52\, 4590 Beech St\, Cincinnati\, OH\, 45212
CATEGORIES:Fierce Ladies Social Hour
ATTACH;FMTTYPE=image/png:https://dianamariekeller.com/wp-content/uploads/2024/07/Social-Hour.png
ORGANIZER;CN="KMF%3A Keep Moving Forward%2C LLC":MAILTO:Diana.Marie.Keller@gmail.com
END:VEVENT
BEGIN:VEVENT
DTSTART;TZID=America/New_York:20240307T183000
DTEND;TZID=America/New_York:20240307T203000
DTSTAMP:20260423T175937
CREATED:20240211T155111Z
LAST-MODIFIED:20240211T155111Z
UID:10000093-1709836200-1709843400@dianamariekeller.com
SUMMARY:Fierce Ladies Monthly Meetup – Factory 52 Night Out
DESCRIPTION:Mark your calendars for a fabulous evening of connection and empowerment at Factory 52 in Norwood\, Ohio\, on Thursday\, March 7th\, from 6:30 to 8:30 pm. This casual meetup is your chance to mingle\, make new friends\, and indulge in some delicious eats from Factory 52’s diverse food options. Whether you’re in the mood for savory bites or sweet treats\, Factory 52 has something for everyone! Feel free to explore the shops\, unwind with a drink\, or simply enjoy the vibrant atmosphere surrounded by fellow fierce ladies.\n​\nAs if that wasn’t enticing enough\, Factory 52 is also home to Aces Pickleball Court\, offering an exciting opportunity for those who want to add a little sporty fun to the mix! Reserve your spot and join other fierce ladies for a friendly game or two.\n​\nBest of all\, this event is completely FREE—simply pay for whatever you decide to indulge in. \n​\nAdd this event to your Google Calendar by CLICKING HERE!\n​\nThe Fierce Ladies Collective is a group of ambitious\, hard-working\, enthusiastic\, and driven women to come together and support one another! Whether you’re an entrepreneur\, a momma\, a woman with goals\, or someone who needs a community to lean into\, we’ve got you covered! We are focused on lifting each other up\, supporting one another\, coming together to accomplish goals\, and finding the community we need to take us to that next step! We host monthly in-person meetups and one virtual happy hour per month.\n​\nJoin the Facebook Group here: https://www.facebook.com/groups/1206674110190854/
URL:https://dianamariekeller.com/event-1/fierce-ladies-monthly-meetup-factory-52-night-out/
LOCATION:Factory 52\, 4590 Beech St\, Cincinnati\, OH\, 45212
CATEGORIES:Fierce Ladies Monthly Meetup
ORGANIZER;CN="KMF%3A Keep Moving Forward%2C LLC":MAILTO:Diana.Marie.Keller@gmail.com
END:VEVENT
END:VCALENDAR