BEGIN:VCALENDAR
VERSION:2.0
PRODID:-//Diana Marie Keller - ECPv6.15.16.1//NONSGML v1.0//EN
CALSCALE:GREGORIAN
METHOD:PUBLISH
X-WR-CALNAME:Diana Marie Keller
X-ORIGINAL-URL:https://dianamariekeller.com
X-WR-CALDESC:Events for Diana Marie Keller
REFRESH-INTERVAL;VALUE=DURATION:PT1H
X-Robots-Tag:noindex
X-PUBLISHED-TTL:PT1H
BEGIN:VTIMEZONE
TZID:America/New_York
BEGIN:DAYLIGHT
TZOFFSETFROM:-0500
TZOFFSETTO:-0400
TZNAME:EDT
DTSTART:20230312T070000
END:DAYLIGHT
BEGIN:STANDARD
TZOFFSETFROM:-0400
TZOFFSETTO:-0500
TZNAME:EST
DTSTART:20231105T060000
END:STANDARD
BEGIN:DAYLIGHT
TZOFFSETFROM:-0500
TZOFFSETTO:-0400
TZNAME:EDT
DTSTART:20240310T070000
END:DAYLIGHT
BEGIN:STANDARD
TZOFFSETFROM:-0400
TZOFFSETTO:-0500
TZNAME:EST
DTSTART:20241103T060000
END:STANDARD
BEGIN:DAYLIGHT
TZOFFSETFROM:-0500
TZOFFSETTO:-0400
TZNAME:EDT
DTSTART:20250309T070000
END:DAYLIGHT
BEGIN:STANDARD
TZOFFSETFROM:-0400
TZOFFSETTO:-0500
TZNAME:EST
DTSTART:20251102T060000
END:STANDARD
BEGIN:DAYLIGHT
TZOFFSETFROM:-0500
TZOFFSETTO:-0400
TZNAME:EDT
DTSTART:20260308T070000
END:DAYLIGHT
BEGIN:STANDARD
TZOFFSETFROM:-0400
TZOFFSETTO:-0500
TZNAME:EST
DTSTART:20261101T060000
END:STANDARD
END:VTIMEZONE
BEGIN:VEVENT
DTSTART;TZID=America/New_York:20250130T183000
DTEND;TZID=America/New_York:20250130T210000
DTSTAMP:20260424T030935
CREATED:20250112T190139Z
LAST-MODIFIED:20250112T190139Z
UID:10000167-1738261800-1738270800@dianamariekeller.com
SUMMARY:Fierce Ladies Board Game Night
DESCRIPTION:Join us for a fun-filled evening of connection and friendly competition at the Fierce Ladies Collective Board Game Night! Hosted by Fierce Lady Jessica Wert\, this event is the perfect way to unwind\, laugh\, and bond with other incredible women in our community. \nWe’ll kick off the night with group games that are easy to learn and full of fun\, followed by time to break out into smaller groups to explore even more games. Whether you’re a seasoned board game enthusiast or just looking for a casual\, lighthearted night out\, this event has something for everyone. Don’t worry about bringing a game—Jessica will have a selection of party-style games ready to go! However\, if there’s a game you love and want to share\, feel free to bring it along (though it’s not required). \nAdd this event to your Google Calendar by CLICKING HERE! \nThe Fierce Ladies Collective is designed for the spirited woman eager to explore the depths of her potential in a supportive and dynamic environment. Whether you’re a professional seeking deeper connections\, a creative soul looking to express herself\, or someone yearning to break out of the everyday routine\, our community is your sanctuary. We cater to those who value authenticity and are ready to step outside their comfort zones to forge genuine friendships and embrace transformative experiences. At the Fierce Ladies Collective\, you’ll find a diverse group of women committed to empowering each other\, sharing in each other’s victories\, and growing together in a space that celebrates every step of the journey. \nJoin the Facebook Group here: https://www.facebook.com/groups/1206674110190854/
URL:https://dianamariekeller.com/event-1/fierce-ladies-board-game-night/
LOCATION:Element Eatery\, 5350 Medpace Way\, Cincinnati\, OH\, 45227
CATEGORIES:Fierce Ladies Board Game Night
ATTACH;FMTTYPE=image/png:https://dianamariekeller.com/wp-content/uploads/2025/01/Fierce-Ladies-Board-Game-Night.png
ORGANIZER;CN="KMF%3A Keep Moving Forward%2C LLC":MAILTO:Diana.Marie.Keller@gmail.com
END:VEVENT
BEGIN:VEVENT
DTSTART;TZID=America/New_York:20250108T183000
DTEND;TZID=America/New_York:20250108T203000
DTSTAMP:20260424T030935
CREATED:20241208T145539Z
LAST-MODIFIED:20241209T144734Z
UID:10000150-1736361000-1736368200@dianamariekeller.com
SUMMARY:Fierce Ladies Social Hour - Element Eatery
DESCRIPTION:Step into the new year with clarity and vision at our January Social Hour\, themed around 2025 Planning and Vision Boarding. Held at Element Eatery\, this gathering invites you to map out your aspirations in a relaxed\, supportive setting. Bring your own vision board supplies and let’s envision a bright future together!f \nAdd this event to your Google Calendar by CLICKING HERE! \nThe Fierce Ladies Collective is designed for the spirited woman eager to explore the depths of her potential in a supportive and dynamic environment. Whether you’re a professional seeking deeper connections\, a creative soul looking to express herself\, or someone yearning to break out of the everyday routine\, our community is your sanctuary. We cater to those who value authenticity and are ready to step outside their comfort zones to forge genuine friendships and embrace transformative experiences. At the Fierce Ladies Collective\, you’ll find a diverse group of women committed to empowering each other\, sharing in each other’s victories\, and growing together in a space that celebrates every step of the journey. \nJoin the Facebook Group here: https://www.facebook.com/groups/1206674110190854/
URL:https://dianamariekeller.com/event-1/fierce-ladies-social-hour-element-eatery-3/
LOCATION:Element Eatery\, 5350 Medpace Way\, Cincinnati\, OH\, 45227
CATEGORIES:Fierce Ladies Social Hour
ATTACH;FMTTYPE=image/png:https://dianamariekeller.com/wp-content/uploads/2024/07/Social-Hour.png
ORGANIZER;CN="KMF%3A Keep Moving Forward%2C LLC":MAILTO:Diana.Marie.Keller@gmail.com
END:VEVENT
BEGIN:VEVENT
DTSTART;TZID=America/New_York:20241106T183000
DTEND;TZID=America/New_York:20241106T203000
DTSTAMP:20260424T030935
CREATED:20240730T195844Z
LAST-MODIFIED:20241106T151038Z
UID:10000128-1730917800-1730925000@dianamariekeller.com
SUMMARY:Fierce Ladies Social Hour - Element Eatery
DESCRIPTION:Join us for the Fierce Ladies Social Hour\, a free monthly event where women of the Fierce Ladies Collective come together for a casual and friendly gathering. Whether you’re new to the community or a long-time member\, this is the perfect opportunity to unwind\, meet new friends\, and enjoy some great company in a relaxed setting. \nWe’ll be meeting at either Element Eatery or Factory 52\, alternating venues to keep things fresh and exciting. Enjoy a variety of delicious food and drinks while engaging in meaningful conversations with like-minded women. \nAdd this event to your Google Calendar by CLICKING HERE! \nThe Fierce Ladies Collective is designed for the spirited woman eager to explore the depths of her potential in a supportive and dynamic environment. Whether you’re a professional seeking deeper connections\, a creative soul looking to express herself\, or someone yearning to break out of the everyday routine\, our community is your sanctuary. We cater to those who value authenticity and are ready to step outside their comfort zones to forge genuine friendships and embrace transformative experiences. At the Fierce Ladies Collective\, you’ll find a diverse group of women committed to empowering each other\, sharing in each other’s victories\, and growing together in a space that celebrates every step of the journey. \nJoin the Facebook Group here: https://www.facebook.com/groups/1206674110190854/
URL:https://dianamariekeller.com/event-1/fierce-ladies-social-hour-element-eatery/
LOCATION:Element Eatery\, 5350 Medpace Way\, Cincinnati\, OH\, 45227
CATEGORIES:Fierce Ladies Social Hour
ATTACH;FMTTYPE=image/png:https://dianamariekeller.com/wp-content/uploads/2024/07/Social-Hour.png
ORGANIZER;CN="KMF%3A Keep Moving Forward%2C LLC":MAILTO:Diana.Marie.Keller@gmail.com
END:VEVENT
END:VCALENDAR