BEGIN:VCALENDAR
VERSION:2.0
PRODID:-//Diana Marie Keller - ECPv6.15.16.1//NONSGML v1.0//EN
CALSCALE:GREGORIAN
METHOD:PUBLISH
X-WR-CALNAME:Diana Marie Keller
X-ORIGINAL-URL:https://dianamariekeller.com
X-WR-CALDESC:Events for Diana Marie Keller
REFRESH-INTERVAL;VALUE=DURATION:PT1H
X-Robots-Tag:noindex
X-PUBLISHED-TTL:PT1H
BEGIN:VTIMEZONE
TZID:America/New_York
BEGIN:DAYLIGHT
TZOFFSETFROM:-0500
TZOFFSETTO:-0400
TZNAME:EDT
DTSTART:20240310T070000
END:DAYLIGHT
BEGIN:STANDARD
TZOFFSETFROM:-0400
TZOFFSETTO:-0500
TZNAME:EST
DTSTART:20241103T060000
END:STANDARD
BEGIN:DAYLIGHT
TZOFFSETFROM:-0500
TZOFFSETTO:-0400
TZNAME:EDT
DTSTART:20250309T070000
END:DAYLIGHT
BEGIN:STANDARD
TZOFFSETFROM:-0400
TZOFFSETTO:-0500
TZNAME:EST
DTSTART:20251102T060000
END:STANDARD
BEGIN:DAYLIGHT
TZOFFSETFROM:-0500
TZOFFSETTO:-0400
TZNAME:EDT
DTSTART:20260308T070000
END:DAYLIGHT
BEGIN:STANDARD
TZOFFSETFROM:-0400
TZOFFSETTO:-0500
TZNAME:EST
DTSTART:20261101T060000
END:STANDARD
END:VTIMEZONE
BEGIN:VEVENT
DTSTART;TZID=America/New_York:20250118T110000
DTEND;TZID=America/New_York:20250118T140000
DTSTAMP:20260424T075237
CREATED:20241208T150059Z
LAST-MODIFIED:20250115T140451Z
UID:10000151-1737198000-1737208800@dianamariekeller.com
SUMMARY:Fierce Ladies Monthly Meetup – Eden Park Adventure
DESCRIPTION:Embark on a fun-filled adventure with the Fierce Ladies Collective at Eden Park! This meetup offers a day of art\, nature\, and connection\, starting with a visit to the Cincinnati Art Museum\, followed by a stroll through the vibrant Krohn Conservatory. \nAt the Art Museum\, explore captivating exhibits at your own pace\, including the optional special exhibit\, Discovering Ansel Adams (tickets $10 online or $12 in-person). Whether you’re an art enthusiast who loves to take your time or prefer a quicker walkthrough\, we’ll help match you with others who share your pace. \nOnce you’re ready\, head over to Krohn Conservatory to experience Emerge\, a magical celebration of renewal and growth. This floral show features breathtaking displays\, including a slithering snake made of coleus and moss\, whimsical topiaries\, and a vibrant array of blooms. \nThis event is designed for you to enjoy at your own speed—whether it’s an hour or an afternoon\, this adventure is yours to shape. Join us for a day of meaningful connections\, inspiration\, and discovery. \n\nDate: Saturday\, January 18th\nTime: 11:00 AM – 2:00 PM (or longer if you choose!)\nMeeting Point: Cincinnati Art Museum (Free parking available)\n\n**PLEASE BE ADVISED – Tickets are NON-REFUNDABLE\, but are transferrable. You must find your own transfer.** \nAdd this event to your Google Calendar by CLICKING HERE! \nThe Fierce Ladies Collective is designed for the spirited woman eager to explore the depths of her potential in a supportive and dynamic environment. Whether you’re a professional seeking deeper connections\, a creative soul looking to express herself\, or someone yearning to break out of the everyday routine\, our community is your sanctuary. We cater to those who value authenticity and are ready to step outside their comfort zones to forge genuine friendships and embrace transformative experiences. At the Fierce Ladies Collective\, you’ll find a diverse group of women committed to empowering each other\, sharing in each other’s victories\, and growing together in a space that celebrates every step of the journey. \nJoin the Facebook Group here: https://www.facebook.com/groups/1206674110190854/
URL:https://dianamariekeller.com/event-1/fierce-ladies-monthly-meetup-eden-park-adventure/
LOCATION:Eden Park\, 950 Eden Park Dr\, Cincinnati\, Ohio\, 45202
CATEGORIES:Fierce Ladies Monthly Meetup
ORGANIZER;CN="KMF%3A Keep Moving Forward%2C LLC":MAILTO:Diana.Marie.Keller@gmail.com
END:VEVENT
END:VCALENDAR