BEGIN:VCALENDAR
VERSION:2.0
PRODID:-//Diana Marie Keller - ECPv6.15.16.1//NONSGML v1.0//EN
CALSCALE:GREGORIAN
METHOD:PUBLISH
X-ORIGINAL-URL:https://dianamariekeller.com
X-WR-CALDESC:Events for Diana Marie Keller
REFRESH-INTERVAL;VALUE=DURATION:PT1H
X-Robots-Tag:noindex
X-PUBLISHED-TTL:PT1H
BEGIN:VTIMEZONE
TZID:UTC
BEGIN:STANDARD
TZOFFSETFROM:+0000
TZOFFSETTO:+0000
TZNAME:UTC
DTSTART:20230101T000000
END:STANDARD
END:VTIMEZONE
BEGIN:VEVENT
DTSTART;TZID=UTC:20241019T123000
DTEND;TZID=UTC:20241019T143000
DTSTAMP:20260424T051027
CREATED:20240730T195940Z
LAST-MODIFIED:20241010T201916Z
UID:10000131-1729341000-1729348200@dianamariekeller.com
SUMMARY:Fierce Ladies Monthly Meetup – Afternoon Glow Bowling
DESCRIPTION:Get ready for an afternoon of fun and laughter at our October Fierce Ladies Monthly Meetup – Afternoon Glow Bowling! Join the Fierce Ladies Collective for a fantastic time under the glow lights\, where you can enjoy all-you-can-bowl for 2 hours. Whether you’re a seasoned bowler or just looking to have a good time\, this event promises to be a blast for everyone. Shoes are included\, so just bring yourself and your enthusiasm! \nDon’t miss out on this chance to unwind\, strike up some fun\, and create unforgettable memories with the amazing women of the Fierce Ladies Collective. \n**PLEASE BE ADVISED – Tickets are NON-REFUNDABLE\, but are transferrable. You must find your own transfer.** \nAdd this event to your Google Calendar by CLICKING HERE! \nThe Fierce Ladies Collective is designed for the spirited woman eager to explore the depths of her potential in a supportive and dynamic environment. Whether you’re a professional seeking deeper connections\, a creative soul looking to express herself\, or someone yearning to break out of the everyday routine\, our community is your sanctuary. We cater to those who value authenticity and are ready to step outside their comfort zones to forge genuine friendships and embrace transformative experiences. At the Fierce Ladies Collective\, you’ll find a diverse group of women committed to empowering each other\, sharing in each other’s victories\, and growing together in a space that celebrates every step of the journey. \nJoin the Facebook Group here: https://www.facebook.com/groups/1206674110190854/
URL:https://dianamariekeller.com/event-1/fierce-ladies-monthly-meetup-afternoon-glow-bowling/
LOCATION:Crossgate Lanes\, 4230 Hunt Rd.\, Blue Ash\, OH\, 45242
CATEGORIES:Fierce Ladies Monthly Meetup
ORGANIZER;CN="KMF%3A Keep Moving Forward%2C LLC":MAILTO:Diana.Marie.Keller@gmail.com
END:VEVENT
END:VCALENDAR