BEGIN:VCALENDAR
VERSION:2.0
PRODID:-//Diana Marie Keller - ECPv6.15.16.1//NONSGML v1.0//EN
CALSCALE:GREGORIAN
METHOD:PUBLISH
X-ORIGINAL-URL:https://dianamariekeller.com
X-WR-CALDESC:Events for Diana Marie Keller
REFRESH-INTERVAL;VALUE=DURATION:PT1H
X-Robots-Tag:noindex
X-PUBLISHED-TTL:PT1H
BEGIN:VTIMEZONE
TZID:America/New_York
BEGIN:DAYLIGHT
TZOFFSETFROM:-0500
TZOFFSETTO:-0400
TZNAME:EDT
DTSTART:20240310T070000
END:DAYLIGHT
BEGIN:STANDARD
TZOFFSETFROM:-0400
TZOFFSETTO:-0500
TZNAME:EST
DTSTART:20241103T060000
END:STANDARD
BEGIN:DAYLIGHT
TZOFFSETFROM:-0500
TZOFFSETTO:-0400
TZNAME:EDT
DTSTART:20250309T070000
END:DAYLIGHT
BEGIN:STANDARD
TZOFFSETFROM:-0400
TZOFFSETTO:-0500
TZNAME:EST
DTSTART:20251102T060000
END:STANDARD
BEGIN:DAYLIGHT
TZOFFSETFROM:-0500
TZOFFSETTO:-0400
TZNAME:EDT
DTSTART:20260308T070000
END:DAYLIGHT
BEGIN:STANDARD
TZOFFSETFROM:-0400
TZOFFSETTO:-0500
TZNAME:EST
DTSTART:20261101T060000
END:STANDARD
END:VTIMEZONE
BEGIN:VEVENT
DTSTART;TZID=America/New_York:20251205T110000
DTEND;TZID=America/New_York:20251205T140000
DTSTAMP:20260423T223751
CREATED:20250721T133917Z
LAST-MODIFIED:20251029T150756Z
UID:10000222-1764932400-1764943200@dianamariekeller.com
SUMMARY:Fierce Ladies Coworking Session – COhatch (Kenwood)
DESCRIPTION:Join the Fierce Ladies Collective for a cozy end-of-year coworking session at COhatch Kenwood—a bright\, modern coworking space perfect for wrapping up your week and your to-do list. \nWhether you’re catching up on emails\, dreaming up new goals\, or simply craving the vibe of working around like-minded women\, this session is your reminder that you don’t have to go it alone. COhatch offers beautiful\, functional space with great energy\, flexible seating\, and a quiet hum of productivity that helps you actually get things done. \nThere’s no formal agenda—just bring what you’re working on and settle in. Some women stay the whole time\, others pop in for a few hours. We’ll be coworking from 11:00 AM–2:00 PM\, but you’re welcome to arrive as early as 9:00 AM. \nLet’s finish the year strong—together. \nWe’ll be working from 11:00 AM–2:00 PM\, but you’re welcome to arrive as early as 9:00 AM. \nThe Fierce Ladies Collective is a community for women who are ready to show up\, be real\, and build meaningful friendships. Whether you’re new to Cincinnati or just looking to expand your circle\, FLC creates fun\, low-pressure spaces to connect—from social hours and monthly meals to creative events and coworking sessions. We believe friendship should be easier to find\, and that you don’t have to change who you are to belong. If you’ve ever felt like making friends as an adult is hard\, you’re not alone—and you’re in the right place. Come as you are; there’s a seat for you here. \nJoin the Facebook Group here: https://www.facebook.com/groups/1206674110190854/
URL:https://dianamariekeller.com/event-1/fierce-ladies-coworking-session-cohatch-kenwood/
LOCATION:COHatch (Kenwood)\, 7875 Montgomery Rd\, Suite 42\, Cincinnati\, OH\, 45236
CATEGORIES:Fierce Ladies Coffeehouse Work Sessions
ATTACH;FMTTYPE=image/png:https://dianamariekeller.com/wp-content/uploads/2025/02/Coworking-Sessions-1.png
ORGANIZER;CN="KMF%3A Keep Moving Forward%2C LLC":MAILTO:Diana.Marie.Keller@gmail.com
END:VEVENT
BEGIN:VEVENT
DTSTART;TZID=America/New_York:20250905T110000
DTEND;TZID=America/New_York:20250905T140000
DTSTAMP:20260423T223751
CREATED:20250603T162257Z
LAST-MODIFIED:20250821T131811Z
UID:10000199-1757070000-1757080800@dianamariekeller.com
SUMMARY:Fierce Ladies Coworking Session - COHatch (Kenwood)
DESCRIPTION:Ready to escape the home office? Join us for a FREE Fierce Ladies Coworking Session at COhatch Kenwood—a bright\, modern coworking space designed to help you focus\, connect\, and get things done. \nWhether you’re diving into deep work\, dreaming up your next big idea\, or just need a change of scenery\, this coworking session invites you into a space filled with encouragement\, productivity\, and like-minded women who get what it means to juggle a full life while pursuing big goals. \nThere’s no formal agenda—just bring your laptop\, charger\, and whatever you’re working on. Some women stay the whole time\, others pop in for a few hours—it’s completely up to you. \nWe’ll be working from 11:00 AM to 2:00 PM\, but you’re welcome to arrive as early as 9:00 AM if you’d like to settle in early. \nCOhatch Kenwood offers flexible seating\, great lighting\, and an energizing yet cozy vibe that makes it easy to stay focused. It’s a great space to refocus\, reset\, and maybe even spark a new friendship while you’re at it. \nYou don’t have to build your dreams in isolation—this is your reminder that community and productivity can go hand in hand. \n\n\n\n\nThe Fierce Ladies Collective is a community for women who are ready to show up\, be real\, and build meaningful friendships. Whether you’re new to Cincinnati or just looking to expand your circle\, FLC creates fun\, low-pressure spaces to connect—from social hours and monthly meals to creative events and coworking sessions. We believe friendship should be easier to find\, and that you don’t have to change who you are to belong. If you’ve ever felt like making friends as an adult is hard\, you’re not alone—and you’re in the right place. Come as you are; there’s a seat for you here. \nJoin the Facebook Group here: https://www.facebook.com/groups/1206674110190854/
URL:https://dianamariekeller.com/event-1/fierce-ladies-coworking-session-cohatch-kenwood-2/
LOCATION:COHatch (Kenwood)\, 7875 Montgomery Rd\, Suite 42\, Cincinnati\, OH\, 45236
CATEGORIES:Fierce Ladies Coffeehouse Work Sessions
ATTACH;FMTTYPE=image/png:https://dianamariekeller.com/wp-content/uploads/2025/02/Coworking-Sessions-1.png
ORGANIZER;CN="KMF%3A Keep Moving Forward%2C LLC":MAILTO:Diana.Marie.Keller@gmail.com
END:VEVENT
END:VCALENDAR