BEGIN:VCALENDAR
VERSION:2.0
PRODID:-//Diana Marie Keller - ECPv6.15.16.1//NONSGML v1.0//EN
CALSCALE:GREGORIAN
METHOD:PUBLISH
X-ORIGINAL-URL:https://dianamariekeller.com
X-WR-CALDESC:Events for Diana Marie Keller
REFRESH-INTERVAL;VALUE=DURATION:PT1H
X-Robots-Tag:noindex
X-PUBLISHED-TTL:PT1H
BEGIN:VTIMEZONE
TZID:America/New_York
BEGIN:DAYLIGHT
TZOFFSETFROM:-0500
TZOFFSETTO:-0400
TZNAME:EDT
DTSTART:20250309T070000
END:DAYLIGHT
BEGIN:STANDARD
TZOFFSETFROM:-0400
TZOFFSETTO:-0500
TZNAME:EST
DTSTART:20251102T060000
END:STANDARD
BEGIN:DAYLIGHT
TZOFFSETFROM:-0500
TZOFFSETTO:-0400
TZNAME:EDT
DTSTART:20260308T070000
END:DAYLIGHT
BEGIN:STANDARD
TZOFFSETFROM:-0400
TZOFFSETTO:-0500
TZNAME:EST
DTSTART:20261101T060000
END:STANDARD
BEGIN:DAYLIGHT
TZOFFSETFROM:-0500
TZOFFSETTO:-0400
TZNAME:EDT
DTSTART:20270314T070000
END:DAYLIGHT
BEGIN:STANDARD
TZOFFSETFROM:-0400
TZOFFSETTO:-0500
TZNAME:EST
DTSTART:20271107T060000
END:STANDARD
END:VTIMEZONE
BEGIN:VEVENT
DTSTART;TZID=America/New_York:20260306T110000
DTEND;TZID=America/New_York:20260306T140000
DTSTAMP:20260423T160757
CREATED:20251124T220102Z
LAST-MODIFIED:20251124T220102Z
UID:10000246-1772794800-1772805600@dianamariekeller.com
SUMMARY:Fierce Ladies Coworking Session – CoHatch (Hamilton)
DESCRIPTION:We’re heading to COHatch Hamilton for our March coworking session—a bright and modern space perfect for knocking out your task list while feeling connected to something bigger. \nThis is a bring-what-you’re-working-on\, sit-where-you-feel-best\, chat-when-you-need-a-break kind of event. Whether you’re deep in client work or just catching up on life admin\, you’ll leave feeling productive and supported. \nWe’ll be working from 11:00 AM–2:00 PM\, but you’re welcome to arrive as early as 9:00 AM. \nThe Fierce Ladies Collective is a community for women who are ready to show up\, be real\, and build meaningful friendships. Whether you’re new to Cincinnati or just looking to expand your circle\, FLC creates fun\, low-pressure spaces to connect—from social hours and monthly meals to creative events and coworking sessions. We believe friendship should be easier to find\, and that you don’t have to change who you are to belong. If you’ve ever felt like making friends as an adult is hard\, you’re not alone—and you’re in the right place. Come as you are; there’s a seat for you here. \nJoin the Facebook Group here: https://www.facebook.com/groups/1206674110190854/
URL:https://dianamariekeller.com/event-1/fierce-ladies-coworking-session-cohatch-hamilton/
LOCATION:CoHatch (Hamilton)\, 219 High St\, Hamilton\, OH 45011
CATEGORIES:Fierce Ladies Coffeehouse Work Sessions
ATTACH;FMTTYPE=image/png:https://dianamariekeller.com/wp-content/uploads/2025/02/Coworking-Sessions-1.png
ORGANIZER;CN="KMF%3A Keep Moving Forward%2C LLC":MAILTO:Diana.Marie.Keller@gmail.com
END:VEVENT
END:VCALENDAR