BEGIN:VCALENDAR
VERSION:2.0
PRODID:-//Diana Marie Keller - ECPv6.15.16.1//NONSGML v1.0//EN
CALSCALE:GREGORIAN
METHOD:PUBLISH
X-ORIGINAL-URL:https://dianamariekeller.com
X-WR-CALDESC:Events for Diana Marie Keller
REFRESH-INTERVAL;VALUE=DURATION:PT1H
X-Robots-Tag:noindex
X-PUBLISHED-TTL:PT1H
BEGIN:VTIMEZONE
TZID:America/New_York
BEGIN:DAYLIGHT
TZOFFSETFROM:-0500
TZOFFSETTO:-0400
TZNAME:EDT
DTSTART:20250309T070000
END:DAYLIGHT
BEGIN:STANDARD
TZOFFSETFROM:-0400
TZOFFSETTO:-0500
TZNAME:EST
DTSTART:20251102T060000
END:STANDARD
BEGIN:DAYLIGHT
TZOFFSETFROM:-0500
TZOFFSETTO:-0400
TZNAME:EDT
DTSTART:20260308T070000
END:DAYLIGHT
BEGIN:STANDARD
TZOFFSETFROM:-0400
TZOFFSETTO:-0500
TZNAME:EST
DTSTART:20261101T060000
END:STANDARD
BEGIN:DAYLIGHT
TZOFFSETFROM:-0500
TZOFFSETTO:-0400
TZNAME:EDT
DTSTART:20270314T070000
END:DAYLIGHT
BEGIN:STANDARD
TZOFFSETFROM:-0400
TZOFFSETTO:-0500
TZNAME:EST
DTSTART:20271107T060000
END:STANDARD
END:VTIMEZONE
BEGIN:VEVENT
DTSTART;TZID=America/New_York:20260129T183000
DTEND;TZID=America/New_York:20260129T203000
DTSTAMP:20260423T193022
CREATED:20251124T185443Z
LAST-MODIFIED:20251202T001752Z
UID:10000238-1769711400-1769718600@dianamariekeller.com
SUMMARY:Fierce Ladies Monthly Experience – Escape Room Adventure
DESCRIPTION:We’re kicking off the new year with a little mystery\, teamwork\, and adrenaline! Join the Fierce Ladies Collective at Breakout Games – Hyde Park for a thrilling escape room adventure inside their popular Mystery Mansion experience. \nThis spine‑tingling story drops you into the decaying ruins of an old mansion\, abandoned decades ago by a reclusive and eccentric family. Rumors of a lingering presence swirl through the halls—and it’s up to your team to uncover the truth. You’ll race the clock together to unravel clues\, solve puzzles\, and uncover long‑buried secrets before time runs out. \nWhether you’re an escape room lover or a first‑timer\, this experience is all about teamwork\, laughter\, and stepping into something adventurous with other women who love to have fun. No pressure—just collective brilliance\, a few surprises along the way\, and the Fierce energy you know and love. \nCome ready to collaborate\, trust your instincts\, and make some unforgettable memories.Let’s escape the ordinary… and the mansion. \n**PLEASE BE ADVISED – Tickets are NON-REFUNDABLE\, but are transferrable. You must find your own transfer.** \nAdd this event to your Google Calendar by CLICKING HERE! \nThe Fierce Ladies Collective is a community for women who are ready to show up\, be real\, and build meaningful friendships. Whether you’re new to Cincinnati or just looking to expand your circle\, FLC creates fun\, low-pressure spaces to connect—from social hours and monthly meals to creative events and coworking sessions. We believe friendship should be easier to find\, and that you don’t have to change who you are to belong. If you’ve ever felt like making friends as an adult is hard\, you’re not alone—and you’re in the right place. Come as you are; there’s a seat for you here. \nJoin the Facebook Group here: https://www.facebook.com/groups/1206674110190854/
URL:https://dianamariekeller.com/event-1/fierce-ladies-monthly-experience-escape-room-adventure/
LOCATION:Breakout Games\, 3653 Michigan Ave Suite 205B\, Cincinnati\, OH 45208
CATEGORIES:Fierce Ladies Monthly Meetup
ATTACH;FMTTYPE=image/png:https://dianamariekeller.com/wp-content/uploads/2025/02/Fierce-Ladies-Monthly-Experience.png
ORGANIZER;CN="KMF%3A Keep Moving Forward%2C LLC":MAILTO:Diana.Marie.Keller@gmail.com
END:VEVENT
END:VCALENDAR