BEGIN:VCALENDAR
VERSION:2.0
PRODID:-//Diana Marie Keller - ECPv6.15.16.1//NONSGML v1.0//EN
CALSCALE:GREGORIAN
METHOD:PUBLISH
X-WR-CALNAME:Diana Marie Keller
X-ORIGINAL-URL:https://dianamariekeller.com
X-WR-CALDESC:Events for Diana Marie Keller
REFRESH-INTERVAL;VALUE=DURATION:PT1H
X-Robots-Tag:noindex
X-PUBLISHED-TTL:PT1H
BEGIN:VTIMEZONE
TZID:America/New_York
BEGIN:DAYLIGHT
TZOFFSETFROM:-0500
TZOFFSETTO:-0400
TZNAME:EDT
DTSTART:20230312T070000
END:DAYLIGHT
BEGIN:STANDARD
TZOFFSETFROM:-0400
TZOFFSETTO:-0500
TZNAME:EST
DTSTART:20231105T060000
END:STANDARD
BEGIN:DAYLIGHT
TZOFFSETFROM:-0500
TZOFFSETTO:-0400
TZNAME:EDT
DTSTART:20240310T070000
END:DAYLIGHT
BEGIN:STANDARD
TZOFFSETFROM:-0400
TZOFFSETTO:-0500
TZNAME:EST
DTSTART:20241103T060000
END:STANDARD
BEGIN:DAYLIGHT
TZOFFSETFROM:-0500
TZOFFSETTO:-0400
TZNAME:EDT
DTSTART:20250309T070000
END:DAYLIGHT
BEGIN:STANDARD
TZOFFSETFROM:-0400
TZOFFSETTO:-0500
TZNAME:EST
DTSTART:20251102T060000
END:STANDARD
END:VTIMEZONE
BEGIN:VEVENT
DTSTART;TZID=America/New_York:20240823T110000
DTEND;TZID=America/New_York:20240823T140000
DTSTAMP:20260424T112606
CREATED:20240604T155516Z
LAST-MODIFIED:20240626T223232Z
UID:10000114-1724410800-1724421600@dianamariekeller.com
SUMMARY:Fierce Ladies Coffeehouse Work Sessions - Birdie's Coffee Co
DESCRIPTION:Introducing the Fierce Ladies Coffeehouse Work Sessions! These sessions are designed to empower women by offering a fresh environment to work in\, while also encouraging you to make new friends\, and support local businesses! \nWhether you’re a freelancer\, remote worker\, or entrepreneur\, our Coffeehouse Work Sessions are the perfect opportunity to break out of your routine\, find inspiration in new surroundings\, and build meaningful connections. \nNote: Be sure to bring your laptop\, charger\, and anything else you need to get your work done. We’ll provide the coffee and community spirit! \nThese work sessions are offered 1 – 2 times per month and will rotate to various coffee shops around the Greater Cincinnati area! Be sure to check out where we are headed each week! \nAdd this event to your Google Calendar by CLICKING HERE! \nThe Fierce Ladies Collective is designed for the spirited woman eager to explore the depths of her potential in a supportive and dynamic environment. Whether you’re a professional seeking deeper connections\, a creative soul looking to express herself\, or someone yearning to break out of the everyday routine\, our community is your sanctuary. We cater to those who value authenticity and are ready to step outside their comfort zones to forge genuine friendships and embrace transformative experiences. At the Fierce Ladies Collective\, you’ll find a diverse group of women committed to empowering each other\, sharing in each other’s victories\, and growing together in a space that celebrates every step of the journey. \nJoin the Facebook Group here: https://www.facebook.com/groups/1206674110190854/ \n\n\n\n\n\n\n\n 
URL:https://dianamariekeller.com/event-1/fierce-ladies-coffeehouse-work-sessions-birdies-coffee-co/
LOCATION:Birdie’s Coffee Co\, 4030 Forest Ave\, Cincinnati\, OH\, 45212
CATEGORIES:Fierce Ladies Coffeehouse Work Sessions
ATTACH;FMTTYPE=image/png:https://dianamariekeller.com/wp-content/uploads/2024/06/Coffeehouse-Work-Sessions.png
ORGANIZER;CN="KMF%3A Keep Moving Forward%2C LLC":MAILTO:Diana.Marie.Keller@gmail.com
END:VEVENT
END:VCALENDAR