BEGIN:VCALENDAR
VERSION:2.0
PRODID:-//Diana Marie Keller - ECPv6.15.16.1//NONSGML v1.0//EN
CALSCALE:GREGORIAN
METHOD:PUBLISH
X-WR-CALNAME:Diana Marie Keller
X-ORIGINAL-URL:https://dianamariekeller.com
X-WR-CALDESC:Events for Diana Marie Keller
REFRESH-INTERVAL;VALUE=DURATION:PT1H
X-Robots-Tag:noindex
X-PUBLISHED-TTL:PT1H
BEGIN:VTIMEZONE
TZID:America/New_York
BEGIN:DAYLIGHT
TZOFFSETFROM:-0500
TZOFFSETTO:-0400
TZNAME:EDT
DTSTART:20230312T070000
END:DAYLIGHT
BEGIN:STANDARD
TZOFFSETFROM:-0400
TZOFFSETTO:-0500
TZNAME:EST
DTSTART:20231105T060000
END:STANDARD
BEGIN:DAYLIGHT
TZOFFSETFROM:-0500
TZOFFSETTO:-0400
TZNAME:EDT
DTSTART:20240310T070000
END:DAYLIGHT
BEGIN:STANDARD
TZOFFSETFROM:-0400
TZOFFSETTO:-0500
TZNAME:EST
DTSTART:20241103T060000
END:STANDARD
BEGIN:DAYLIGHT
TZOFFSETFROM:-0500
TZOFFSETTO:-0400
TZNAME:EDT
DTSTART:20250309T070000
END:DAYLIGHT
BEGIN:STANDARD
TZOFFSETFROM:-0400
TZOFFSETTO:-0500
TZNAME:EST
DTSTART:20251102T060000
END:STANDARD
END:VTIMEZONE
BEGIN:VEVENT
DTSTART;TZID=America/New_York:20240727T180000
DTEND;TZID=America/New_York:20240727T203000
DTSTAMP:20260424T112347
CREATED:20240527T165732Z
LAST-MODIFIED:20240727T111911Z
UID:10000103-1722103200-1722112200@dianamariekeller.com
SUMMARY:Fierce Ladies Open House Dinner – Baru
DESCRIPTION:Join us for our July Fierce Ladies Open House Dinner at Baru on Saturday\, July 27th\, from 6:00pm – 8:00pm. Tickets are $15 and include one FREE beverage! (You will pay for the cost of your meal.) This will be an opportunity to meet other women\, and just talk and hang out! \nRESERVE YOUR SEAT HERE! – SOLD OUT!\n**PLEASE BE ADVISED – Tickets are NON-REFUNDABLE\, but are transferrable. You must find your own transfer.** \nAdd this event to your Google Calendar by CLICKING HERE! \nThe Fierce Ladies Collective is designed for the spirited woman eager to explore the depths of her potential in a supportive and dynamic environment. Whether you’re a professional seeking deeper connections\, a creative soul looking to express herself\, or someone yearning to break out of the everyday routine\, our community is your sanctuary. We cater to those who value authenticity and are ready to step outside their comfort zones to forge genuine friendships and embrace transformative experiences. At the Fierce Ladies Collective\, you’ll find a diverse group of women committed to empowering each other\, sharing in each other’s victories\, and growing together in a space that celebrates every step of the journey. \nJoin the Facebook Group here: https://www.facebook.com/groups/1206674110190854/
URL:https://dianamariekeller.com/event-1/fierce-ladies-open-house-dinner-baru/
LOCATION:Baru\, 595 Race St\, Cincinnati\, OH\, 45202
CATEGORIES:Fierce Ladies Open House Dinner
ORGANIZER;CN="KMF%3A Keep Moving Forward%2C LLC":MAILTO:Diana.Marie.Keller@gmail.com
END:VEVENT
END:VCALENDAR