BEGIN:VCALENDAR
VERSION:2.0
PRODID:-//Diana Marie Keller - ECPv6.15.16.1//NONSGML v1.0//EN
CALSCALE:GREGORIAN
METHOD:PUBLISH
X-ORIGINAL-URL:https://dianamariekeller.com
X-WR-CALDESC:Events for Diana Marie Keller
REFRESH-INTERVAL;VALUE=DURATION:PT1H
X-Robots-Tag:noindex
X-PUBLISHED-TTL:PT1H
BEGIN:VTIMEZONE
TZID:America/New_York
BEGIN:DAYLIGHT
TZOFFSETFROM:-0500
TZOFFSETTO:-0400
TZNAME:EDT
DTSTART:20240310T070000
END:DAYLIGHT
BEGIN:STANDARD
TZOFFSETFROM:-0400
TZOFFSETTO:-0500
TZNAME:EST
DTSTART:20241103T060000
END:STANDARD
BEGIN:DAYLIGHT
TZOFFSETFROM:-0500
TZOFFSETTO:-0400
TZNAME:EDT
DTSTART:20250309T070000
END:DAYLIGHT
BEGIN:STANDARD
TZOFFSETFROM:-0400
TZOFFSETTO:-0500
TZNAME:EST
DTSTART:20251102T060000
END:STANDARD
BEGIN:DAYLIGHT
TZOFFSETFROM:-0500
TZOFFSETTO:-0400
TZNAME:EDT
DTSTART:20260308T070000
END:DAYLIGHT
BEGIN:STANDARD
TZOFFSETFROM:-0400
TZOFFSETTO:-0500
TZNAME:EST
DTSTART:20261101T060000
END:STANDARD
BEGIN:DAYLIGHT
TZOFFSETFROM:-0500
TZOFFSETTO:-0400
TZNAME:EDT
DTSTART:20270314T070000
END:DAYLIGHT
BEGIN:STANDARD
TZOFFSETFROM:-0400
TZOFFSETTO:-0500
TZNAME:EST
DTSTART:20271107T060000
END:STANDARD
END:VTIMEZONE
BEGIN:VEVENT
DTSTART;TZID=America/New_York:20260206T110000
DTEND;TZID=America/New_York:20260206T140000
DTSTAMP:20260423T180048
CREATED:20251124T202428Z
LAST-MODIFIED:20251229T165157Z
UID:10000243-1770375600-1770386400@dianamariekeller.com
SUMMARY:Fierce Ladies Coworking Session – Aviatra Accelerators
DESCRIPTION:Join us for our February coworking session at Aviatra Accelerators\, a mission-driven space designed to uplift and empower women in business. \nWhether you’re building your brand\, catching up on admin work\, or just need an inspiring change of scenery\, this is your chance to work alongside like-minded women in a space that gets what you’re building. Expect friendly faces\, a productive vibe\, and the encouragement to keep moving forward. \nWe’ll be working from 11:00 AM–2:00 PM\, but you’re welcome to arrive as early as 9:00 AM. \nThe Fierce Ladies Collective is a community for women who are ready to show up\, be real\, and build meaningful friendships. Whether you’re new to Cincinnati or just looking to expand your circle\, FLC creates fun\, low-pressure spaces to connect—from social hours and monthly meals to creative events and coworking sessions. We believe friendship should be easier to find\, and that you don’t have to change who you are to belong. If you’ve ever felt like making friends as an adult is hard\, you’re not alone—and you’re in the right place. Come as you are; there’s a seat for you here. \nJoin the Facebook Group here: https://www.facebook.com/groups/1206674110190854/
URL:https://dianamariekeller.com/event-1/fierce-ladies-coworking-session-aviatra-accelerators-2/
LOCATION:Aviatra Accelerators\, 114 W Pike St\, Covington\, KY\, 41011
CATEGORIES:Fierce Ladies Coffeehouse Work Sessions
ATTACH;FMTTYPE=image/png:https://dianamariekeller.com/wp-content/uploads/2025/02/Coworking-Sessions-1.png
ORGANIZER;CN="KMF%3A Keep Moving Forward%2C LLC":MAILTO:Diana.Marie.Keller@gmail.com
END:VEVENT
BEGIN:VEVENT
DTSTART;TZID=America/New_York:20251107T110000
DTEND;TZID=America/New_York:20251107T140000
DTSTAMP:20260423T180048
CREATED:20250719T115353Z
LAST-MODIFIED:20250719T115353Z
UID:10000210-1762513200-1762524000@dianamariekeller.com
SUMMARY:Fierce Ladies Coworking Session – Aviatra Accelerators
DESCRIPTION:Ready to work alongside women who get it? Join us for our Fierce Ladies Coworking Session at Aviatra Accelerators\, a beautiful coworking space in the heart of Covington. \nWhether you’re growing a business\, tackling your inbox\, or just want to get out of the house and into a supportive space\, this is your chance to co-work in community. Aviatra’s incubator space offers a professional yet welcoming environment with flexible seating\, natural light\, and a mission rooted in empowering women—making it the perfect partner for this month’s session. \nThere’s no formal agenda—just bring your laptop\, charger\, and whatever you need to be productive. Some women stay the whole time\, others pop in and out. Either way\, you’ll find a friendly vibe\, shared momentum\, and the encouragement to keep moving forward. \nWe’ll be working from 11:00 AM–2:00 PM\, but you’re welcome to arrive as early as 9:00 AM. \nThe Fierce Ladies Collective is a community for women who are ready to show up\, be real\, and build meaningful friendships. Whether you’re new to Cincinnati or just looking to expand your circle\, FLC creates fun\, low-pressure spaces to connect—from social hours and monthly meals to creative events and coworking sessions. We believe friendship should be easier to find\, and that you don’t have to change who you are to belong. If you’ve ever felt like making friends as an adult is hard\, you’re not alone—and you’re in the right place. Come as you are; there’s a seat for you here. \nJoin the Facebook Group here: https://www.facebook.com/groups/1206674110190854/
URL:https://dianamariekeller.com/event-1/fierce-ladies-coworking-session-aviatra-accelerators/
LOCATION:Aviatra Accelerators\, 114 W Pike St\, Covington\, KY\, 41011
CATEGORIES:Fierce Ladies Coffeehouse Work Sessions
ATTACH;FMTTYPE=image/png:https://dianamariekeller.com/wp-content/uploads/2025/02/Coworking-Sessions-1.png
ORGANIZER;CN="KMF%3A Keep Moving Forward%2C LLC":MAILTO:Diana.Marie.Keller@gmail.com
END:VEVENT
END:VCALENDAR