BEGIN:VCALENDAR
VERSION:2.0
PRODID:-//Diana Marie Keller - ECPv6.15.16.1//NONSGML v1.0//EN
CALSCALE:GREGORIAN
METHOD:PUBLISH
X-WR-CALNAME:Diana Marie Keller
X-ORIGINAL-URL:https://dianamariekeller.com
X-WR-CALDESC:Events for Diana Marie Keller
REFRESH-INTERVAL;VALUE=DURATION:PT1H
X-Robots-Tag:noindex
X-PUBLISHED-TTL:PT1H
BEGIN:VTIMEZONE
TZID:America/New_York
BEGIN:DAYLIGHT
TZOFFSETFROM:-0500
TZOFFSETTO:-0400
TZNAME:EDT
DTSTART:20250309T070000
END:DAYLIGHT
BEGIN:STANDARD
TZOFFSETFROM:-0400
TZOFFSETTO:-0500
TZNAME:EST
DTSTART:20251102T060000
END:STANDARD
BEGIN:DAYLIGHT
TZOFFSETFROM:-0500
TZOFFSETTO:-0400
TZNAME:EDT
DTSTART:20260308T070000
END:DAYLIGHT
BEGIN:STANDARD
TZOFFSETFROM:-0400
TZOFFSETTO:-0500
TZNAME:EST
DTSTART:20261101T060000
END:STANDARD
BEGIN:DAYLIGHT
TZOFFSETFROM:-0500
TZOFFSETTO:-0400
TZNAME:EDT
DTSTART:20270314T070000
END:DAYLIGHT
BEGIN:STANDARD
TZOFFSETFROM:-0400
TZOFFSETTO:-0500
TZNAME:EST
DTSTART:20271107T060000
END:STANDARD
END:VTIMEZONE
BEGIN:VEVENT
DTSTART;VALUE=DATE:20260924
DTEND;VALUE=DATE:20260928
DTSTAMP:20260423T182054
CREATED:20251018T194935Z
LAST-MODIFIED:20251018T195025Z
UID:10000233-1790208000-1790553599@dianamariekeller.com
SUMMARY:BECOME: 4th Annual FLC Retreat - SHARED King Bed (Shared Bath)
DESCRIPTION:A cozy\, inviting king room that shares a nearby bathroom — the perfect blend of comfort and connection. Great for friends attending together or anyone who values community with a little extra space to retreat at day’s end.Your stay includes all retreat programming\, meals\, and experiences throughout the BECOME weekend — guiding you through reflection\, renewal\, and celebration as you step into your next chapter.
URL:https://dianamariekeller.com/event-1/become-4th-annual-flc-retreat-shared-king-bed-shared-bath/
CATEGORIES:Fierce Ladies Collective Retreat
ATTACH;FMTTYPE=image/png:https://dianamariekeller.com/wp-content/uploads/2025/10/4-1.png
ORGANIZER;CN="KMF%3A Keep Moving Forward%2C LLC":MAILTO:Diana.Marie.Keller@gmail.com
END:VEVENT
BEGIN:VEVENT
DTSTART;VALUE=DATE:20260924
DTEND;VALUE=DATE:20260928
DTSTAMP:20260423T182055
CREATED:20251018T195608Z
LAST-MODIFIED:20251018T195608Z
UID:10000234-1790208000-1790553599@dianamariekeller.com
SUMMARY:BECOME: 4th Annual FLC Retreat - SHARED King Bed (Own Bath)
DESCRIPTION:This elegant king room offers comfort and privacy with its own bathroom and classic charm. Ideal for the woman who wants quiet space while still being close to the heart of the retreat.Your registration includes three nights in the mansion\, all meals\, workshops\, and experiences designed to help you explore who you’ve been\, who you are\, and who you’re becoming. You’ll leave feeling grounded\, inspired\, and deeply seen.
URL:https://dianamariekeller.com/event-1/become-4th-annual-flc-retreat-shared-king-bed-own-bath/
CATEGORIES:Fierce Ladies Collective Retreat
ATTACH;FMTTYPE=image/png:https://dianamariekeller.com/wp-content/uploads/2025/10/6.png
ORGANIZER;CN="KMF%3A Keep Moving Forward%2C LLC":MAILTO:Diana.Marie.Keller@gmail.com
END:VEVENT
END:VCALENDAR