BEGIN:VCALENDAR
VERSION:2.0
PRODID:-//Diana Marie Keller - ECPv6.15.16.1//NONSGML v1.0//EN
CALSCALE:GREGORIAN
METHOD:PUBLISH
X-ORIGINAL-URL:https://dianamariekeller.com
X-WR-CALDESC:Events for Diana Marie Keller
REFRESH-INTERVAL;VALUE=DURATION:PT1H
X-Robots-Tag:noindex
X-PUBLISHED-TTL:PT1H
BEGIN:VTIMEZONE
TZID:America/New_York
BEGIN:DAYLIGHT
TZOFFSETFROM:-0500
TZOFFSETTO:-0400
TZNAME:EDT
DTSTART:20230312T070000
END:DAYLIGHT
BEGIN:STANDARD
TZOFFSETFROM:-0400
TZOFFSETTO:-0500
TZNAME:EST
DTSTART:20231105T060000
END:STANDARD
BEGIN:DAYLIGHT
TZOFFSETFROM:-0500
TZOFFSETTO:-0400
TZNAME:EDT
DTSTART:20240310T070000
END:DAYLIGHT
BEGIN:STANDARD
TZOFFSETFROM:-0400
TZOFFSETTO:-0500
TZNAME:EST
DTSTART:20241103T060000
END:STANDARD
BEGIN:DAYLIGHT
TZOFFSETFROM:-0500
TZOFFSETTO:-0400
TZNAME:EDT
DTSTART:20250309T070000
END:DAYLIGHT
BEGIN:STANDARD
TZOFFSETFROM:-0400
TZOFFSETTO:-0500
TZNAME:EST
DTSTART:20251102T060000
END:STANDARD
END:VTIMEZONE
BEGIN:VEVENT
DTSTART;TZID=America/New_York:20240527T183000
DTEND;TZID=America/New_York:20240527T203000
DTSTAMP:20260424T062520
CREATED:20240430T165950Z
LAST-MODIFIED:20240430T165950Z
UID:10000100-1716834600-1716841800@dianamariekeller.com
SUMMARY:May Hike - Cincy Hikes Mt. Airy Mondays
DESCRIPTION:Join for the May Hike at Mt. Airy Forest! This is a hike with CINCINNATI HIKES! This is NOT a private FLC event! \nKick off your week with a 3 mile hike (approximately). The hike will be moderately paced. Trails can be muddy with exposed roots and rocks so appropriate footwear is a must. Please try to be prompt as we will hit the trails as close to 6:30 as possible. We will hike in light rain but not thunder\, lightning\, heavy rains or high wind. Meeting will be at: Mt. Airy Forest Everybody’s Treehouse\, 1212 Trail Ridge Rd\, Cincinnati\, OH 45223\, USA\n\nPlease RSVP at their website! https://www.cincinnatihikes.com/event-details/cincy-hikes-mt-airy-mondays-2024-05-27-18-30 \nAdd this event to your Google Calendar by CLICKING HERE!\n​\nThe Fierce Ladies Collective is a group of ambitious\, hard-working\, enthusiastic\, and driven women to come together and support one another! Whether you’re an entrepreneur\, a momma\, a woman with goals\, or someone who needs a community to lean into\, we’ve got you covered! We are focused on lifting each other up\, supporting one another\, coming together to accomplish goals\, and finding the community we need to take us to that next step! We host monthly in-person meetups and one virtual happy hour per month.\n​\nJoin the Facebook Group here: https://www.facebook.com/groups/1206674110190854/ \n 
URL:https://dianamariekeller.com/event-1/may-hike-cincy-hikes-mt-airy-mondays/
LOCATION:Mt. Airy Forest\, 1212 Trail Ridge Rd\, Cincinnati\, OH\, 45223
CATEGORIES:Fierce Ladies Go Hiking
END:VEVENT
BEGIN:VEVENT
DTSTART;TZID=America/New_York:20240428T150000
DTEND;TZID=America/New_York:20240428T180000
DTSTAMP:20260424T062520
CREATED:20240414T112705Z
LAST-MODIFIED:20240414T115030Z
UID:10000099-1714316400-1714327200@dianamariekeller.com
SUMMARY:April Hike - Cincy Views & Brews at Spring Grove
DESCRIPTION:Join for the April Hike at Spring Grove Cemetary! This is a hike with CINCINNATI HIKES! This is NOT a private FLC event! \nCome join for a fully paved\, moderate-paced 5.1 mile hike around Spring Grove Cemetery followed by social hour at Urban Artifact. We will be walking the perimeter of the cemetery (AllTrails loop)\, which can easily be modified to decrease the distance (and get to the brewery faster!) Fast and slow walkers welcome – depending on attendance numbers\, we will likely form two groups based on speed at the start of the hike. Our after-hike social will be a 3 min drive away at Urban Artifact\, a brewery operating out of the beautiful St. Patrick’s Church known for its architecture and fruit tart beers (also serving cocktails\, a variety of beers\, and Deeper Roots coffee). Outside food is welcome in the outside space. \nPlease RSVP at their website!\nhttps://www.cincinnatihikes.com/event-details/cincy-hikes-views-and-brews-at-spring-grove \nAdd this event to your Google Calendar by CLICKING HERE!\n​\nThe Fierce Ladies Collective is a group of ambitious\, hard-working\, enthusiastic\, and driven women to come together and support one another! Whether you’re an entrepreneur\, a momma\, a woman with goals\, or someone who needs a community to lean into\, we’ve got you covered! We are focused on lifting each other up\, supporting one another\, coming together to accomplish goals\, and finding the community we need to take us to that next step! We host monthly in-person meetups and one virtual happy hour per month.\n​\nJoin the Facebook Group here: https://www.facebook.com/groups/1206674110190854/ \n 
URL:https://dianamariekeller.com/event-1/april-hike-cincy-views-brews-at-spring-grove/
LOCATION:Spring Grove Cemetary\, 4521 Spring Grove Ave\, Cincinnati\, OH\, 45232\, United States
CATEGORIES:Fierce Ladies Go Hiking
END:VEVENT
END:VCALENDAR