BEGIN:VCALENDAR
VERSION:2.0
PRODID:-//Diana Marie Keller - ECPv6.15.16.1//NONSGML v1.0//EN
CALSCALE:GREGORIAN
METHOD:PUBLISH
X-WR-CALNAME:Diana Marie Keller
X-ORIGINAL-URL:https://dianamariekeller.com
X-WR-CALDESC:Events for Diana Marie Keller
REFRESH-INTERVAL;VALUE=DURATION:PT1H
X-Robots-Tag:noindex
X-PUBLISHED-TTL:PT1H
BEGIN:VTIMEZONE
TZID:America/New_York
BEGIN:DAYLIGHT
TZOFFSETFROM:-0500
TZOFFSETTO:-0400
TZNAME:EDT
DTSTART:20240310T070000
END:DAYLIGHT
BEGIN:STANDARD
TZOFFSETFROM:-0400
TZOFFSETTO:-0500
TZNAME:EST
DTSTART:20241103T060000
END:STANDARD
BEGIN:DAYLIGHT
TZOFFSETFROM:-0500
TZOFFSETTO:-0400
TZNAME:EDT
DTSTART:20250309T070000
END:DAYLIGHT
BEGIN:STANDARD
TZOFFSETFROM:-0400
TZOFFSETTO:-0500
TZNAME:EST
DTSTART:20251102T060000
END:STANDARD
BEGIN:DAYLIGHT
TZOFFSETFROM:-0500
TZOFFSETTO:-0400
TZNAME:EDT
DTSTART:20260308T070000
END:DAYLIGHT
BEGIN:STANDARD
TZOFFSETFROM:-0400
TZOFFSETTO:-0500
TZNAME:EST
DTSTART:20261101T060000
END:STANDARD
END:VTIMEZONE
BEGIN:VEVENT
DTSTART;TZID=America/New_York:20251011T183000
DTEND;TZID=America/New_York:20251011T203000
DTSTAMP:20260424T074914
CREATED:20250718T221602Z
LAST-MODIFIED:20250725T171357Z
UID:10000207-1760207400-1760214600@dianamariekeller.com
SUMMARY:Fierce Ladies Monthly Meal – Mita’s
DESCRIPTION:This one’s just for our Standard and Premium members! \nThe event you’re trying to access is exclusive to Standard and Premium members of the Fierce Ladies Collective. These tiers are designed for women who are ready to go deeper\, show up regularly\, and say YES to unforgettable experiences. \nIf you’re already a Standard or Premium member\, go ahead and log in below.\nAre you a basic member that wants to upgrade your account\, upgrade your membership here.\nIf you're not a member of the Fierce Ladies Collective—you’re invited to join us. Your next great friendship could be waiting inside! \nWe’d love to have you with us! \n      \n              \n                    \n\n                       \n            \n        \n                              Username or E-mail\n        \n        \n      \n      \n        \n          Password\n          \n            \n            \n              \n            \n          \n        \n      \n            \n         Remember Me\n      \n       \n      \n        \n        \n        \n        \n      \n    \n     \n    \n        \n          Forgot Password
URL:https://dianamariekeller.com/event-1/fierce-ladies-monthly-meal-mitas/
LOCATION:Mita’s\, 501 Race St\, Cincinnati\, OH\, 45202
CATEGORIES:Fierce Ladies Open House Dinner
ATTACH;FMTTYPE=image/png:https://dianamariekeller.com/wp-content/uploads/2025/02/Monthly-Meal-1.png
ORGANIZER;CN="KMF%3A Keep Moving Forward%2C LLC":MAILTO:Diana.Marie.Keller@gmail.com
END:VEVENT
BEGIN:VEVENT
DTSTART;TZID=America/New_York:20251014T183000
DTEND;TZID=America/New_York:20251014T203000
DTSTAMP:20260424T074914
CREATED:20250718T224420Z
LAST-MODIFIED:20251008T132726Z
UID:10000209-1760466600-1760473800@dianamariekeller.com
SUMMARY:Fierce Ladies Social Hour – Element Eatery (Standard + Premium Tier)
DESCRIPTION:This one’s just for our Standard and Premium members! \nThe event you’re trying to access is exclusive to Standard and Premium members of the Fierce Ladies Collective. These tiers are designed for women who are ready to go deeper\, show up regularly\, and say YES to unforgettable experiences. \nIf you’re already a Standard or Premium member\, go ahead and log in below.\nAre you a basic member that wants to upgrade your account\, upgrade your membership here.\nIf you're not a member of the Fierce Ladies Collective—you’re invited to join us. Your next great friendship could be waiting inside! \nWe’d love to have you with us!
URL:https://dianamariekeller.com/event-1/fierce-ladies-social-hour-element-eatery-6/
LOCATION:Element Eatery\, 5350 Medpace Way\, Cincinnati\, OH\, 45227
CATEGORIES:Fierce Ladies Social Hour
ATTACH;FMTTYPE=image/png:https://dianamariekeller.com/wp-content/uploads/2025/02/Social-Hour-1.png
ORGANIZER;CN="KMF%3A Keep Moving Forward%2C LLC":MAILTO:Diana.Marie.Keller@gmail.com
END:VEVENT
BEGIN:VEVENT
DTSTART;TZID=America/New_York:20251030T183000
DTEND;TZID=America/New_York:20251030T203000
DTSTAMP:20260424T074914
CREATED:20250923T162437Z
LAST-MODIFIED:20250923T162632Z
UID:10000225-1761849000-1761856200@dianamariekeller.com
SUMMARY:Fierce Ladies Monthly Experience – Private Shopping Party at Bobbles & Lace (Standard + Premium Tier)
DESCRIPTION:This one’s just for our Standard and Premium members! \nThe event you’re trying to access is exclusive to Standard and Premium members of the Fierce Ladies Collective. These tiers are designed for women who are ready to go deeper\, show up regularly\, and say YES to unforgettable experiences. \nIf you’re already a Standard or Premium member\, go ahead and log in below.\nAre you a basic member that wants to upgrade your account\, upgrade your membership here.\nIf you're not a member of the Fierce Ladies Collective—you’re invited to join us. Your next great friendship could be waiting inside! \nWe’d love to have you with us!
URL:https://dianamariekeller.com/event-1/fierce-ladies-monthly-experience-private-shopping-party-at-bobbles-lace-standard-premium-tier/
LOCATION:Bobbles & Lace\, 1209 Vine St\, Cincinnati\, OH\, 45202
CATEGORIES:Fierce Ladies Monthly Meetup
ATTACH;FMTTYPE=image/png:https://dianamariekeller.com/wp-content/uploads/2025/02/Fierce-Ladies-Monthly-Experience.png
ORGANIZER;CN="KMF%3A Keep Moving Forward%2C LLC":MAILTO:Diana.Marie.Keller@gmail.com
END:VEVENT
END:VCALENDAR