BEGIN:VCALENDAR
VERSION:2.0
PRODID:-//Diana Marie Keller - ECPv6.15.16.1//NONSGML v1.0//EN
CALSCALE:GREGORIAN
METHOD:PUBLISH
X-WR-CALNAME:Diana Marie Keller
X-ORIGINAL-URL:https://dianamariekeller.com
X-WR-CALDESC:Events for Diana Marie Keller
REFRESH-INTERVAL;VALUE=DURATION:PT1H
X-Robots-Tag:noindex
X-PUBLISHED-TTL:PT1H
BEGIN:VTIMEZONE
TZID:America/New_York
BEGIN:DAYLIGHT
TZOFFSETFROM:-0500
TZOFFSETTO:-0400
TZNAME:EDT
DTSTART:20250309T070000
END:DAYLIGHT
BEGIN:STANDARD
TZOFFSETFROM:-0400
TZOFFSETTO:-0500
TZNAME:EST
DTSTART:20251102T060000
END:STANDARD
BEGIN:DAYLIGHT
TZOFFSETFROM:-0500
TZOFFSETTO:-0400
TZNAME:EDT
DTSTART:20260308T070000
END:DAYLIGHT
BEGIN:STANDARD
TZOFFSETFROM:-0400
TZOFFSETTO:-0500
TZNAME:EST
DTSTART:20261101T060000
END:STANDARD
BEGIN:DAYLIGHT
TZOFFSETFROM:-0500
TZOFFSETTO:-0400
TZNAME:EDT
DTSTART:20270314T070000
END:DAYLIGHT
BEGIN:STANDARD
TZOFFSETFROM:-0400
TZOFFSETTO:-0500
TZNAME:EST
DTSTART:20271107T060000
END:STANDARD
END:VTIMEZONE
BEGIN:VEVENT
DTSTART;TZID=America/New_York:20260108T183000
DTEND;TZID=America/New_York:20260108T203000
DTSTAMP:20260424T032504
CREATED:20251124T223619Z
LAST-MODIFIED:20251124T223619Z
UID:10000252-1767897000-1767904200@dianamariekeller.com
SUMMARY:Fierce Ladies Social Hour – Element Eatery (Basic Tier)
DESCRIPTION:This event is available to all members of the Fierce Ladies Collective—including our FREE Basic tier! \nTo see the details and RSVP or grab your ticket\, you'll need to log in to your account.\nNot a member yet? Signing up is totally free\, and takes just a minute! You can sign up here! \nWe can’t wait to meet you and help you find your people. \n      \n              \n                    \n\n                       \n            \n        \n                              Username or E-mail\n        \n        \n      \n      \n        \n          Password\n          \n            \n            \n              \n            \n          \n        \n      \n            \n         Remember Me\n      \n       \n      \n        \n        \n        \n        \n      \n    \n     \n    \n        \n          Forgot Password
URL:https://dianamariekeller.com/event-1/fierce-ladies-social-hour-element-eatery-basic-tier-4/
LOCATION:Element Eatery\, 5350 Medpace Way\, Cincinnati\, OH\, 45227
CATEGORIES:Fierce Ladies Social Hour
ATTACH;FMTTYPE=image/png:https://dianamariekeller.com/wp-content/uploads/2025/02/Social-Hour-1.png
ORGANIZER;CN="KMF%3A Keep Moving Forward%2C LLC":MAILTO:Diana.Marie.Keller@gmail.com
END:VEVENT
BEGIN:VEVENT
DTSTART;TZID=America/New_York:20260109T110000
DTEND;TZID=America/New_York:20260109T140000
DTSTAMP:20260424T032504
CREATED:20251124T184100Z
LAST-MODIFIED:20251202T001928Z
UID:10000236-1767956400-1767967200@dianamariekeller.com
SUMMARY:Fierce Ladies Coworking Session – Chasing Cali Collective
DESCRIPTION:This event is available to all members of the Fierce Ladies Collective—including our FREE Basic tier! \nTo see the details and RSVP or grab your ticket\, you'll need to log in to your account.\nNot a member yet? Signing up is totally free\, and takes just a minute! You can sign up here! \nWe can’t wait to meet you and help you find your people.
URL:https://dianamariekeller.com/event-1/fierce-ladies-coworking-session-chasing-cali-collective-2/
LOCATION:Chasing Cali Collective\, 418 W Benson St\, Reading\, OH\, 45215
CATEGORIES:Fierce Ladies Coffeehouse Work Sessions
ATTACH;FMTTYPE=image/png:https://dianamariekeller.com/wp-content/uploads/2025/02/Coworking-Sessions-1.png
ORGANIZER;CN="KMF%3A Keep Moving Forward%2C LLC":MAILTO:Diana.Marie.Keller@gmail.com
END:VEVENT
END:VCALENDAR