BEGIN:VCALENDAR
VERSION:2.0
PRODID:-//Diana Marie Keller - ECPv6.15.16.1//NONSGML v1.0//EN
CALSCALE:GREGORIAN
METHOD:PUBLISH
X-ORIGINAL-URL:https://dianamariekeller.com
X-WR-CALDESC:Events for Diana Marie Keller
REFRESH-INTERVAL;VALUE=DURATION:PT1H
X-Robots-Tag:noindex
X-PUBLISHED-TTL:PT1H
BEGIN:VTIMEZONE
TZID:America/New_York
BEGIN:DAYLIGHT
TZOFFSETFROM:-0500
TZOFFSETTO:-0400
TZNAME:EDT
DTSTART:20250309T070000
END:DAYLIGHT
BEGIN:STANDARD
TZOFFSETFROM:-0400
TZOFFSETTO:-0500
TZNAME:EST
DTSTART:20251102T060000
END:STANDARD
BEGIN:DAYLIGHT
TZOFFSETFROM:-0500
TZOFFSETTO:-0400
TZNAME:EDT
DTSTART:20260308T070000
END:DAYLIGHT
BEGIN:STANDARD
TZOFFSETFROM:-0400
TZOFFSETTO:-0500
TZNAME:EST
DTSTART:20261101T060000
END:STANDARD
BEGIN:DAYLIGHT
TZOFFSETFROM:-0500
TZOFFSETTO:-0400
TZNAME:EDT
DTSTART:20270314T070000
END:DAYLIGHT
BEGIN:STANDARD
TZOFFSETFROM:-0400
TZOFFSETTO:-0500
TZNAME:EST
DTSTART:20271107T060000
END:STANDARD
END:VTIMEZONE
BEGIN:VEVENT
DTSTART;TZID=America/New_York:20260501T110000
DTEND;TZID=America/New_York:20260501T140000
DTSTAMP:20260423T130726
CREATED:20260310T171131Z
LAST-MODIFIED:20260310T171131Z
UID:10000256-1777633200-1777644000@dianamariekeller.com
SUMMARY:Fierce Ladies Coworking Session – Forest Park Library
DESCRIPTION:This event is available to all members of the Fierce Ladies Collective!\nTo see the details and RSVP or grab your ticket\, you'll need to log in to your account.\nNot a member yet? Signing up is totally free\, and takes just a minute! You can sign up here! \nWe can’t wait to meet you and help you find your people. \n      \n              \n                    \n\n                       \n            \n        \n                              Username or E-mail\n        \n        \n      \n      \n        \n          Password\n          \n            \n            \n              \n            \n          \n        \n      \n            \n         Remember Me\n      \n       \n      \n        \n        \n        \n        \n      \n    \n     \n    \n        \n          Forgot Password
URL:https://dianamariekeller.com/event-1/fierce-ladies-coworking-session-forest-park-library/
LOCATION:Forest Park Library\, 660 Northland Blvd. Cincinnati\, Ohio 45240
CATEGORIES:Fierce Ladies Coffeehouse Work Sessions
ATTACH;FMTTYPE=image/png:https://dianamariekeller.com/wp-content/uploads/2025/02/Coworking-Sessions-1.png
ORGANIZER;CN="KMF%3A Keep Moving Forward%2C LLC":MAILTO:Diana.Marie.Keller@gmail.com
END:VEVENT
BEGIN:VEVENT
DTSTART;TZID=America/New_York:20260505T183000
DTEND;TZID=America/New_York:20260505T203000
DTSTAMP:20260423T130726
CREATED:20260310T173514Z
LAST-MODIFIED:20260310T173514Z
UID:10000257-1778005800-1778013000@dianamariekeller.com
SUMMARY:Fierce Ladies Monthly Meal – Frida 602
DESCRIPTION:This event is available to all members of the Fierce Ladies Collective!\nTo see the details and RSVP or grab your ticket\, you'll need to log in to your account.\nNot a member yet? Signing up is totally free\, and takes just a minute! You can sign up here! \nWe can’t wait to meet you and help you find your people.
URL:https://dianamariekeller.com/event-1/fierce-ladies-monthly-meal-frida-602/
LOCATION:Frida 602\, 602 Main St\, Covington\, KY\, 41011
CATEGORIES:Fierce Ladies Open House Dinner
ATTACH;FMTTYPE=image/png:https://dianamariekeller.com/wp-content/uploads/2025/02/Monthly-Meal-1.png
ORGANIZER;CN="KMF%3A Keep Moving Forward%2C LLC":MAILTO:Diana.Marie.Keller@gmail.com
END:VEVENT
BEGIN:VEVENT
DTSTART;TZID=America/New_York:20260516T110000
DTEND;TZID=America/New_York:20260516T130000
DTSTAMP:20260423T130726
CREATED:20260310T173922Z
LAST-MODIFIED:20260310T173922Z
UID:10000259-1778929200-1778936400@dianamariekeller.com
SUMMARY:Fierce Ladies Monthly Experience – Afternoon Tea at The BonBonerie
DESCRIPTION:This event is available to all members of the Fierce Ladies Collective!\nTo see the details and RSVP or grab your ticket\, you'll need to log in to your account.\nNot a member yet? Signing up is totally free\, and takes just a minute! You can sign up here! \nWe can’t wait to meet you and help you find your people.
URL:https://dianamariekeller.com/event-1/fierce-ladies-monthly-experience-afternoon-tea-at-the-bonbonerie/
LOCATION:The BonBonerie\, 2030 Madison Rd\, Cincinnati\, OH 45208
CATEGORIES:Fierce Ladies Monthly Meetup
ATTACH;FMTTYPE=image/png:https://dianamariekeller.com/wp-content/uploads/2025/02/Fierce-Ladies-Monthly-Experience.png
ORGANIZER;CN="KMF%3A Keep Moving Forward%2C LLC":MAILTO:Diana.Marie.Keller@gmail.com
END:VEVENT
END:VCALENDAR