BEGIN:VCALENDAR
VERSION:2.0
PRODID:-//Diana Marie Keller - ECPv6.15.16.1//NONSGML v1.0//EN
CALSCALE:GREGORIAN
METHOD:PUBLISH
X-WR-CALNAME:Diana Marie Keller
X-ORIGINAL-URL:https://dianamariekeller.com
X-WR-CALDESC:Events for Diana Marie Keller
REFRESH-INTERVAL;VALUE=DURATION:PT1H
X-Robots-Tag:noindex
X-PUBLISHED-TTL:PT1H
BEGIN:VTIMEZONE
TZID:America/New_York
BEGIN:DAYLIGHT
TZOFFSETFROM:-0500
TZOFFSETTO:-0400
TZNAME:EDT
DTSTART:20230312T070000
END:DAYLIGHT
BEGIN:STANDARD
TZOFFSETFROM:-0400
TZOFFSETTO:-0500
TZNAME:EST
DTSTART:20231105T060000
END:STANDARD
BEGIN:DAYLIGHT
TZOFFSETFROM:-0500
TZOFFSETTO:-0400
TZNAME:EDT
DTSTART:20240310T070000
END:DAYLIGHT
BEGIN:STANDARD
TZOFFSETFROM:-0400
TZOFFSETTO:-0500
TZNAME:EST
DTSTART:20241103T060000
END:STANDARD
BEGIN:DAYLIGHT
TZOFFSETFROM:-0500
TZOFFSETTO:-0400
TZNAME:EDT
DTSTART:20250309T070000
END:DAYLIGHT
BEGIN:STANDARD
TZOFFSETFROM:-0400
TZOFFSETTO:-0500
TZNAME:EST
DTSTART:20251102T060000
END:STANDARD
END:VTIMEZONE
BEGIN:VTIMEZONE
TZID:UTC
BEGIN:STANDARD
TZOFFSETFROM:+0000
TZOFFSETTO:+0000
TZNAME:UTC
DTSTART:20230101T000000
END:STANDARD
END:VTIMEZONE
BEGIN:VEVENT
DTSTART;TZID=America/New_York:20240712T110000
DTEND;TZID=America/New_York:20240712T140000
DTSTAMP:20260425T221423
CREATED:20240604T152209Z
LAST-MODIFIED:20240626T223615Z
UID:10000111-1720782000-1720792800@dianamariekeller.com
SUMMARY:Fierce Ladies Coffeehouse Work Sessions - Mom 'n 'em Coffee
DESCRIPTION:This event is available to all members of the Fierce Ladies Collective!\nTo see the details and RSVP or grab your ticket\, you'll need to log in to your account.\nNot a member yet? Signing up is totally free\, and takes just a minute! You can sign up here! \nWe can’t wait to meet you and help you find your people. \n      \n              \n                    \n\n                       \n            \n        \n                              Username or E-mail\n        \n        \n      \n      \n        \n          Password\n          \n            \n            \n              \n            \n          \n        \n      \n            \n         Remember Me\n      \n       \n      \n        \n        \n        \n        \n      \n    \n     \n    \n        \n          Forgot Password
URL:https://dianamariekeller.com/event-1/fierce-ladies-coffeehouse-work-sessions-mom-n-em-coffee/
LOCATION:Mom ‘n’ Em Coffee\, 4310 Whetsel Ave\, Cincinnati\, OH\, 45227
CATEGORIES:Fierce Ladies Coffeehouse Work Sessions
ATTACH;FMTTYPE=image/png:https://dianamariekeller.com/wp-content/uploads/2024/06/Coffeehouse-Work-Sessions.png
ORGANIZER;CN="KMF%3A Keep Moving Forward%2C LLC":MAILTO:Diana.Marie.Keller@gmail.com
END:VEVENT
BEGIN:VEVENT
DTSTART;TZID=UTC:20240713T100000
DTEND;TZID=UTC:20240713T150000
DTSTAMP:20260425T221423
CREATED:20240527T173030Z
LAST-MODIFIED:20240626T223559Z
UID:10000109-1720864800-1720882800@dianamariekeller.com
SUMMARY:Fierce Ladies Monthly Meetup – Scenic River Kayaking Excursion
DESCRIPTION:This event is available to all members of the Fierce Ladies Collective!\nTo see the details and RSVP or grab your ticket\, you'll need to log in to your account.\nNot a member yet? Signing up is totally free\, and takes just a minute! You can sign up here! \nWe can’t wait to meet you and help you find your people.
URL:https://dianamariekeller.com/event-1/fierce-ladies-monthly-meetup-scenic-river-kayaking-excursion-2/
LOCATION:Scenic River Canoe Excursions\, 4595 Round Bottom Rd\, Cincinnati\, Ohio\, 45244
CATEGORIES:Fierce Ladies Monthly Meetup
ORGANIZER;CN="KMF%3A Keep Moving Forward%2C LLC":MAILTO:Diana.Marie.Keller@gmail.com
END:VEVENT
BEGIN:VEVENT
DTSTART;TZID=America/New_York:20240715T183000
DTEND;TZID=America/New_York:20240715T203000
DTSTAMP:20260425T221423
CREATED:20240527T170541Z
LAST-MODIFIED:20240626T223545Z
UID:10000105-1721068200-1721075400@dianamariekeller.com
SUMMARY:July Hike - Cincy Hikes Mt. Airy Mondays
DESCRIPTION:This event is available to all members of the Fierce Ladies Collective!\nTo see the details and RSVP or grab your ticket\, you'll need to log in to your account.\nNot a member yet? Signing up is totally free\, and takes just a minute! You can sign up here! \nWe can’t wait to meet you and help you find your people.
URL:https://dianamariekeller.com/event-1/july-hike-cincy-hikes-mt-airy-mondays/
LOCATION:Mt. Airy Forest\, 1212 Trail Ridge Rd\, Cincinnati\, OH\, 45223
CATEGORIES:Fierce Ladies Go Hiking
ORGANIZER;CN="KMF%3A Keep Moving Forward%2C LLC":MAILTO:Diana.Marie.Keller@gmail.com
END:VEVENT
BEGIN:VEVENT
DTSTART;TZID=America/New_York:20240726T110000
DTEND;TZID=America/New_York:20240726T140000
DTSTAMP:20260425T221423
CREATED:20240604T155154Z
LAST-MODIFIED:20240626T223534Z
UID:10000113-1721991600-1722002400@dianamariekeller.com
SUMMARY:Fierce Ladies Coffeehouse Work Sessions - Carabello Coffee Company
DESCRIPTION:This event is available to all members of the Fierce Ladies Collective!\nTo see the details and RSVP or grab your ticket\, you'll need to log in to your account.\nNot a member yet? Signing up is totally free\, and takes just a minute! You can sign up here! \nWe can’t wait to meet you and help you find your people.
URL:https://dianamariekeller.com/event-1/fierce-ladies-coffeehouse-work-sessions-carabello-coffee-company/
LOCATION:Carabello Coffee Company\, 107 E 9th St\, Newport\, KY\, 41071
CATEGORIES:Fierce Ladies Coffeehouse Work Sessions
ATTACH;FMTTYPE=image/png:https://dianamariekeller.com/wp-content/uploads/2024/06/Coffeehouse-Work-Sessions.png
ORGANIZER;CN="KMF%3A Keep Moving Forward%2C LLC":MAILTO:Diana.Marie.Keller@gmail.com
END:VEVENT
BEGIN:VEVENT
DTSTART;TZID=America/New_York:20240727T180000
DTEND;TZID=America/New_York:20240727T203000
DTSTAMP:20260425T221423
CREATED:20240527T165732Z
LAST-MODIFIED:20240727T111911Z
UID:10000103-1722103200-1722112200@dianamariekeller.com
SUMMARY:Fierce Ladies Open House Dinner – Baru
DESCRIPTION:This event is available to all members of the Fierce Ladies Collective!\nTo see the details and RSVP or grab your ticket\, you'll need to log in to your account.\nNot a member yet? Signing up is totally free\, and takes just a minute! You can sign up here! \nWe can’t wait to meet you and help you find your people.
URL:https://dianamariekeller.com/event-1/fierce-ladies-open-house-dinner-baru/
LOCATION:Baru\, 595 Race St\, Cincinnati\, OH\, 45202
CATEGORIES:Fierce Ladies Open House Dinner
ORGANIZER;CN="KMF%3A Keep Moving Forward%2C LLC":MAILTO:Diana.Marie.Keller@gmail.com
END:VEVENT
END:VCALENDAR