BEGIN:VCALENDAR
VERSION:2.0
PRODID:-//Diana Marie Keller - ECPv6.15.16.1//NONSGML v1.0//EN
CALSCALE:GREGORIAN
METHOD:PUBLISH
X-ORIGINAL-URL:https://dianamariekeller.com
X-WR-CALDESC:Events for Diana Marie Keller
REFRESH-INTERVAL;VALUE=DURATION:PT1H
X-Robots-Tag:noindex
X-PUBLISHED-TTL:PT1H
BEGIN:VTIMEZONE
TZID:America/New_York
BEGIN:DAYLIGHT
TZOFFSETFROM:-0500
TZOFFSETTO:-0400
TZNAME:EDT
DTSTART:20240310T070000
END:DAYLIGHT
BEGIN:STANDARD
TZOFFSETFROM:-0400
TZOFFSETTO:-0500
TZNAME:EST
DTSTART:20241103T060000
END:STANDARD
BEGIN:DAYLIGHT
TZOFFSETFROM:-0500
TZOFFSETTO:-0400
TZNAME:EDT
DTSTART:20250309T070000
END:DAYLIGHT
BEGIN:STANDARD
TZOFFSETFROM:-0400
TZOFFSETTO:-0500
TZNAME:EST
DTSTART:20251102T060000
END:STANDARD
BEGIN:DAYLIGHT
TZOFFSETFROM:-0500
TZOFFSETTO:-0400
TZNAME:EDT
DTSTART:20260308T070000
END:DAYLIGHT
BEGIN:STANDARD
TZOFFSETFROM:-0400
TZOFFSETTO:-0500
TZNAME:EST
DTSTART:20261101T060000
END:STANDARD
BEGIN:DAYLIGHT
TZOFFSETFROM:-0500
TZOFFSETTO:-0400
TZNAME:EDT
DTSTART:20270314T070000
END:DAYLIGHT
BEGIN:STANDARD
TZOFFSETFROM:-0400
TZOFFSETTO:-0500
TZNAME:EST
DTSTART:20271107T060000
END:STANDARD
END:VTIMEZONE
BEGIN:VEVENT
DTSTART;TZID=America/New_York:20250625T180000
DTEND;TZID=America/New_York:20250625T203000
DTSTAMP:20260425T124232
CREATED:20250222T140048Z
LAST-MODIFIED:20250617T183110Z
UID:10000180-1750874400-1750883400@dianamariekeller.com
SUMMARY:Fierce Ladies Monthly Meal - Baker's Table
DESCRIPTION:This one’s just for our Standard and Premium members! \nThe event you’re trying to access is exclusive to Standard and Premium members of the Fierce Ladies Collective. These tiers are designed for women who are ready to go deeper\, show up regularly\, and say YES to unforgettable experiences. \nIf you’re already a Standard or Premium member\, go ahead and log in below.\nAre you a basic member that wants to upgrade your account\, upgrade your membership here.\nIf you're not a member of the Fierce Ladies Collective—you’re invited to join us. Your next great friendship could be waiting inside! \nWe’d love to have you with us! \n      \n              \n                    \n\n                       \n            \n        \n                              Username or E-mail\n        \n        \n      \n      \n        \n          Password\n          \n            \n            \n              \n            \n          \n        \n      \n            \n         Remember Me\n      \n       \n      \n        \n        \n        \n        \n      \n    \n     \n    \n        \n          Forgot Password
URL:https://dianamariekeller.com/event-1/fierce-ladies-monthly-meal-bakers-table/
LOCATION:Baker’s Table\, 1004 Monmouth Street\, Newport\, KY\, 41071
CATEGORIES:Fierce Ladies Open House Dinner
ATTACH;FMTTYPE=image/png:https://dianamariekeller.com/wp-content/uploads/2025/02/Monthly-Meal-1.png
ORGANIZER;CN="KMF%3A Keep Moving Forward%2C LLC":MAILTO:Diana.Marie.Keller@gmail.com
END:VEVENT
BEGIN:VEVENT
DTSTART;TZID=America/New_York:20250719T080000
DTEND;TZID=America/New_York:20250719T170000
DTSTAMP:20260425T124232
CREATED:20250719T125753Z
LAST-MODIFIED:20250719T125821Z
UID:10000216-1752912000-1752944400@dianamariekeller.com
SUMMARY:Fierce Ladies Premium Only Dinner – Bouquet Restaurant
DESCRIPTION:This one’s just for our Standard and Premium members! \nThe event you’re trying to access is exclusive to Standard and Premium members of the Fierce Ladies Collective. These tiers are designed for women who are ready to go deeper\, show up regularly\, and say YES to unforgettable experiences. \nIf you’re already a Standard or Premium member\, go ahead and log in below.\nAre you a basic member that wants to upgrade your account\, upgrade your membership here.\nIf you're not a member of the Fierce Ladies Collective—you’re invited to join us. Your next great friendship could be waiting inside! \nWe’d love to have you with us!
URL:https://dianamariekeller.com/event-1/fierce-ladies-premium-only-dinner-bouquet-restaurant/
CATEGORIES:Fierce Ladies Open House Dinner
ATTACH;FMTTYPE=image/png:https://dianamariekeller.com/wp-content/uploads/2025/02/Monthly-Meal-1.png
ORGANIZER;CN="KMF%3A Keep Moving Forward%2C LLC":MAILTO:Diana.Marie.Keller@gmail.com
END:VEVENT
BEGIN:VEVENT
DTSTART;TZID=America/New_York:20250725T183000
DTEND;TZID=America/New_York:20250725T203000
DTSTAMP:20260425T124232
CREATED:20250603T143216Z
LAST-MODIFIED:20250714T231438Z
UID:10000193-1753468200-1753475400@dianamariekeller.com
SUMMARY:Fierce Ladies Monthly Meal - The Davidson
DESCRIPTION:This one’s just for our Standard and Premium members! \nThe event you’re trying to access is exclusive to Standard and Premium members of the Fierce Ladies Collective. These tiers are designed for women who are ready to go deeper\, show up regularly\, and say YES to unforgettable experiences. \nIf you’re already a Standard or Premium member\, go ahead and log in below.\nAre you a basic member that wants to upgrade your account\, upgrade your membership here.\nIf you're not a member of the Fierce Ladies Collective—you’re invited to join us. Your next great friendship could be waiting inside! \nWe’d love to have you with us!
URL:https://dianamariekeller.com/event-1/fierce-ladies-monthly-meal-the-davidson/
LOCATION:The Davidson\, 501 Vine St\, Cincinnati\, OH\, 45202
CATEGORIES:Fierce Ladies Open House Dinner
ATTACH;FMTTYPE=image/png:https://dianamariekeller.com/wp-content/uploads/2025/02/Monthly-Meal-1.png
ORGANIZER;CN="KMF%3A Keep Moving Forward%2C LLC":MAILTO:Diana.Marie.Keller@gmail.com
END:VEVENT
BEGIN:VEVENT
DTSTART;TZID=America/New_York:20250730T183000
DTEND;TZID=America/New_York:20250730T203000
DTSTAMP:20260425T124232
CREATED:20250603T142805Z
LAST-MODIFIED:20250725T171234Z
UID:10000192-1753900200-1753907400@dianamariekeller.com
SUMMARY:Fierce Ladies Newbie Meal - Marigold
DESCRIPTION:This one’s just for our Standard and Premium members! \nThe event you’re trying to access is exclusive to Standard and Premium members of the Fierce Ladies Collective. These tiers are designed for women who are ready to go deeper\, show up regularly\, and say YES to unforgettable experiences. \nIf you’re already a Standard or Premium member\, go ahead and log in below.\nAre you a basic member that wants to upgrade your account\, upgrade your membership here.\nIf you're not a member of the Fierce Ladies Collective—you’re invited to join us. Your next great friendship could be waiting inside! \nWe’d love to have you with us!
URL:https://dianamariekeller.com/event-1/fierce-ladies-newbie-meal-marigold/
LOCATION:Marigold\, 60 W 5th St\, Cincinnati\, OH\, 45202
CATEGORIES:Fierce Ladies Open House Dinner
ATTACH;FMTTYPE=image/png:https://dianamariekeller.com/wp-content/uploads/2025/04/Newbie-Meal.png
ORGANIZER;CN="KMF%3A Keep Moving Forward%2C LLC":MAILTO:Diana.Marie.Keller@gmail.com
END:VEVENT
BEGIN:VEVENT
DTSTART;TZID=America/New_York:20250806T183000
DTEND;TZID=America/New_York:20250806T203000
DTSTAMP:20260425T124232
CREATED:20250603T144438Z
LAST-MODIFIED:20250725T171505Z
UID:10000197-1754505000-1754512200@dianamariekeller.com
SUMMARY:Fierce Ladies Newbie Meal - The Park Pour
DESCRIPTION:This one’s just for our Standard and Premium members! \nThe event you’re trying to access is exclusive to Standard and Premium members of the Fierce Ladies Collective. These tiers are designed for women who are ready to go deeper\, show up regularly\, and say YES to unforgettable experiences. \nIf you’re already a Standard or Premium member\, go ahead and log in below.\nAre you a basic member that wants to upgrade your account\, upgrade your membership here.\nIf you're not a member of the Fierce Ladies Collective—you’re invited to join us. Your next great friendship could be waiting inside! \nWe’d love to have you with us!
URL:https://dianamariekeller.com/event-1/fierce-ladies-newbie-meal-the-park-pour/
LOCATION:The Park Pour\, 4815 Cooper Road\, Blue Ash\, Ohio\, 45242
CATEGORIES:Fierce Ladies Open House Dinner
ATTACH;FMTTYPE=image/png:https://dianamariekeller.com/wp-content/uploads/2025/04/Newbie-Meal.png
ORGANIZER;CN="KMF%3A Keep Moving Forward%2C LLC":MAILTO:Diana.Marie.Keller@gmail.com
END:VEVENT
BEGIN:VEVENT
DTSTART;TZID=America/New_York:20250826T183000
DTEND;TZID=America/New_York:20250826T203000
DTSTAMP:20260425T124232
CREATED:20250603T144914Z
LAST-MODIFIED:20250715T001403Z
UID:10000198-1756233000-1756240200@dianamariekeller.com
SUMMARY:Fierce Ladies Monthly Meal - Abigail Street
DESCRIPTION:This one’s just for our Standard and Premium members! \nThe event you’re trying to access is exclusive to Standard and Premium members of the Fierce Ladies Collective. These tiers are designed for women who are ready to go deeper\, show up regularly\, and say YES to unforgettable experiences. \nIf you’re already a Standard or Premium member\, go ahead and log in below.\nAre you a basic member that wants to upgrade your account\, upgrade your membership here.\nIf you're not a member of the Fierce Ladies Collective—you’re invited to join us. Your next great friendship could be waiting inside! \nWe’d love to have you with us!
URL:https://dianamariekeller.com/event-1/fierce-ladies-monthly-meal-abigail-street/
LOCATION:Abigail Street\, 1214 Vine St\, Cincinnati\, OH\, 45202
CATEGORIES:Fierce Ladies Open House Dinner
ATTACH;FMTTYPE=image/png:https://dianamariekeller.com/wp-content/uploads/2025/02/Monthly-Meal-1.png
ORGANIZER;CN="KMF%3A Keep Moving Forward%2C LLC":MAILTO:Diana.Marie.Keller@gmail.com
END:VEVENT
BEGIN:VEVENT
DTSTART;TZID=America/New_York:20250919T183000
DTEND;TZID=America/New_York:20250919T203000
DTSTAMP:20260425T124232
CREATED:20250603T163618Z
LAST-MODIFIED:20250715T001456Z
UID:10000200-1758306600-1758313800@dianamariekeller.com
SUMMARY:Fierce Ladies Monthly Meal - Court Street Kitchen
DESCRIPTION:This one’s just for our Standard and Premium members! \nThe event you’re trying to access is exclusive to Standard and Premium members of the Fierce Ladies Collective. These tiers are designed for women who are ready to go deeper\, show up regularly\, and say YES to unforgettable experiences. \nIf you’re already a Standard or Premium member\, go ahead and log in below.\nAre you a basic member that wants to upgrade your account\, upgrade your membership here.\nIf you're not a member of the Fierce Ladies Collective—you’re invited to join us. Your next great friendship could be waiting inside! \nWe’d love to have you with us!
URL:https://dianamariekeller.com/event-1/fierce-ladies-monthly-meal-court-street-kitchen/
LOCATION:Court Street Kitchen\, 7 E Court St\, Cincinnati\, OH\, 45202
CATEGORIES:Fierce Ladies Open House Dinner
ATTACH;FMTTYPE=image/png:https://dianamariekeller.com/wp-content/uploads/2025/02/Monthly-Meal-1.png
ORGANIZER;CN="KMF%3A Keep Moving Forward%2C LLC":MAILTO:Diana.Marie.Keller@gmail.com
END:VEVENT
BEGIN:VEVENT
DTSTART;TZID=America/New_York:20250924T183000
DTEND;TZID=America/New_York:20250924T203000
DTSTAMP:20260425T124232
CREATED:20250603T164129Z
LAST-MODIFIED:20250725T171648Z
UID:10000201-1758738600-1758745800@dianamariekeller.com
SUMMARY:Fierce Ladies Newbie Meal - Tela Bar + Kitchen
DESCRIPTION:This one’s just for our Standard and Premium members! \nThe event you’re trying to access is exclusive to Standard and Premium members of the Fierce Ladies Collective. These tiers are designed for women who are ready to go deeper\, show up regularly\, and say YES to unforgettable experiences. \nIf you’re already a Standard or Premium member\, go ahead and log in below.\nAre you a basic member that wants to upgrade your account\, upgrade your membership here.\nIf you're not a member of the Fierce Ladies Collective—you’re invited to join us. Your next great friendship could be waiting inside! \nWe’d love to have you with us!
URL:https://dianamariekeller.com/event-1/fierce-ladies-newbie-meal-tela-bar-kitchen/
LOCATION:Tela Bar + Kitchen\, 1212 Springfield Pike\, Cincinnati\, OH\, 45215\, United States
CATEGORIES:Fierce Ladies Open House Dinner
ATTACH;FMTTYPE=image/png:https://dianamariekeller.com/wp-content/uploads/2025/04/Newbie-Meal.png
ORGANIZER;CN="KMF%3A Keep Moving Forward%2C LLC":MAILTO:Diana.Marie.Keller@gmail.com
END:VEVENT
BEGIN:VEVENT
DTSTART;TZID=America/New_York:20251011T183000
DTEND;TZID=America/New_York:20251011T203000
DTSTAMP:20260425T124232
CREATED:20250718T221602Z
LAST-MODIFIED:20250725T171357Z
UID:10000207-1760207400-1760214600@dianamariekeller.com
SUMMARY:Fierce Ladies Monthly Meal – Mita’s
DESCRIPTION:This one’s just for our Standard and Premium members! \nThe event you’re trying to access is exclusive to Standard and Premium members of the Fierce Ladies Collective. These tiers are designed for women who are ready to go deeper\, show up regularly\, and say YES to unforgettable experiences. \nIf you’re already a Standard or Premium member\, go ahead and log in below.\nAre you a basic member that wants to upgrade your account\, upgrade your membership here.\nIf you're not a member of the Fierce Ladies Collective—you’re invited to join us. Your next great friendship could be waiting inside! \nWe’d love to have you with us!
URL:https://dianamariekeller.com/event-1/fierce-ladies-monthly-meal-mitas/
LOCATION:Mita’s\, 501 Race St\, Cincinnati\, OH\, 45202
CATEGORIES:Fierce Ladies Open House Dinner
ATTACH;FMTTYPE=image/png:https://dianamariekeller.com/wp-content/uploads/2025/02/Monthly-Meal-1.png
ORGANIZER;CN="KMF%3A Keep Moving Forward%2C LLC":MAILTO:Diana.Marie.Keller@gmail.com
END:VEVENT
BEGIN:VEVENT
DTSTART;TZID=America/New_York:20251029T181500
DTEND;TZID=America/New_York:20251029T203000
DTSTAMP:20260425T124232
CREATED:20250718T222856Z
LAST-MODIFIED:20250803T103555Z
UID:10000208-1761761700-1761769800@dianamariekeller.com
SUMMARY:Fierce Ladies Newbie Meal – Mama’s on Main
DESCRIPTION:This one’s just for our Standard and Premium members! \nThe event you’re trying to access is exclusive to Standard and Premium members of the Fierce Ladies Collective. These tiers are designed for women who are ready to go deeper\, show up regularly\, and say YES to unforgettable experiences. \nIf you’re already a Standard or Premium member\, go ahead and log in below.\nAre you a basic member that wants to upgrade your account\, upgrade your membership here.\nIf you're not a member of the Fierce Ladies Collective—you’re invited to join us. Your next great friendship could be waiting inside! \nWe’d love to have you with us!
URL:https://dianamariekeller.com/event-1/fierce-ladies-newbie-meal-mamas-on-main/
LOCATION:Mama’s on Main\, 621 Main St\, Covington\, Kentucky
CATEGORIES:Fierce Ladies Open House Dinner
ATTACH;FMTTYPE=image/png:https://dianamariekeller.com/wp-content/uploads/2025/04/Newbie-Meal.png
ORGANIZER;CN="KMF%3A Keep Moving Forward%2C LLC":MAILTO:Diana.Marie.Keller@gmail.com
END:VEVENT
BEGIN:VEVENT
DTSTART;TZID=America/New_York:20251114T184500
DTEND;TZID=America/New_York:20251114T204500
DTSTAMP:20260425T124232
CREATED:20250719T115846Z
LAST-MODIFIED:20251112T204149Z
UID:10000211-1763145900-1763153100@dianamariekeller.com
SUMMARY:Fierce Ladies Monthly Meal – Sotto
DESCRIPTION:This one’s just for our Standard and Premium members! \nThe event you’re trying to access is exclusive to Standard and Premium members of the Fierce Ladies Collective. These tiers are designed for women who are ready to go deeper\, show up regularly\, and say YES to unforgettable experiences. \nIf you’re already a Standard or Premium member\, go ahead and log in below.\nAre you a basic member that wants to upgrade your account\, upgrade your membership here.\nIf you're not a member of the Fierce Ladies Collective—you’re invited to join us. Your next great friendship could be waiting inside! \nWe’d love to have you with us!
URL:https://dianamariekeller.com/event-1/fierce-ladies-monthly-meal-sotto/
LOCATION:Sotto\, 118 E 6th St\, Cincinnati\, OH\, 45202
CATEGORIES:Fierce Ladies Open House Dinner
ATTACH;FMTTYPE=image/png:https://dianamariekeller.com/wp-content/uploads/2025/02/Monthly-Meal-1.png
ORGANIZER;CN="KMF%3A Keep Moving Forward%2C LLC":MAILTO:Diana.Marie.Keller@gmail.com
END:VEVENT
BEGIN:VEVENT
DTSTART;TZID=America/New_York:20251121T183000
DTEND;TZID=America/New_York:20251121T203000
DTSTAMP:20260425T124232
CREATED:20250719T122357Z
LAST-MODIFIED:20251117T144043Z
UID:10000213-1763749800-1763757000@dianamariekeller.com
SUMMARY:Fierce Ladies Newbie Meal – Libby’s Southern Comfort
DESCRIPTION:This one’s just for our Standard and Premium members! \nThe event you’re trying to access is exclusive to Standard and Premium members of the Fierce Ladies Collective. These tiers are designed for women who are ready to go deeper\, show up regularly\, and say YES to unforgettable experiences. \nIf you’re already a Standard or Premium member\, go ahead and log in below.\nAre you a basic member that wants to upgrade your account\, upgrade your membership here.\nIf you're not a member of the Fierce Ladies Collective—you’re invited to join us. Your next great friendship could be waiting inside! \nWe’d love to have you with us!
URL:https://dianamariekeller.com/event-1/fierce-ladies-newbie-meal-libbys-southern-comfort/
LOCATION:Libby’s Southern Comfort\, 35 West 8th Street\, Covington\, KY\, 41011
CATEGORIES:Fierce Ladies Open House Dinner
ATTACH;FMTTYPE=image/png:https://dianamariekeller.com/wp-content/uploads/2025/04/Newbie-Meal.png
ORGANIZER;CN="KMF%3A Keep Moving Forward%2C LLC":MAILTO:Diana.Marie.Keller@gmail.com
END:VEVENT
BEGIN:VEVENT
DTSTART;TZID=America/New_York:20251209T183000
DTEND;TZID=America/New_York:20251209T203000
DTSTAMP:20260425T124232
CREATED:20250721T135038Z
LAST-MODIFIED:20250721T135038Z
UID:10000219-1765305000-1765312200@dianamariekeller.com
SUMMARY:Fierce Ladies Newbie Meal – Colette
DESCRIPTION:This one’s just for our Standard and Premium members! \nThe event you’re trying to access is exclusive to Standard and Premium members of the Fierce Ladies Collective. These tiers are designed for women who are ready to go deeper\, show up regularly\, and say YES to unforgettable experiences. \nIf you’re already a Standard or Premium member\, go ahead and log in below.\nAre you a basic member that wants to upgrade your account\, upgrade your membership here.\nIf you're not a member of the Fierce Ladies Collective—you’re invited to join us. Your next great friendship could be waiting inside! \nWe’d love to have you with us!
URL:https://dianamariekeller.com/event-1/fierce-ladies-newbie-meal-colette/
LOCATION:Colette\, 1400 Race St.\, Cincinnati\, Ohio\, 45202
CATEGORIES:Fierce Ladies Open House Dinner
ATTACH;FMTTYPE=image/png:https://dianamariekeller.com/wp-content/uploads/2025/04/Newbie-Meal.png
ORGANIZER;CN="KMF%3A Keep Moving Forward%2C LLC":MAILTO:Diana.Marie.Keller@gmail.com
END:VEVENT
BEGIN:VEVENT
DTSTART;TZID=America/New_York:20251216T183000
DTEND;TZID=America/New_York:20251216T203000
DTSTAMP:20260425T124232
CREATED:20250721T134252Z
LAST-MODIFIED:20251029T152729Z
UID:10000221-1765909800-1765917000@dianamariekeller.com
SUMMARY:Fierce Ladies Monthly Meal – Court Street Kitchen
DESCRIPTION:This one’s just for our Standard and Premium members! \nThe event you’re trying to access is exclusive to Standard and Premium members of the Fierce Ladies Collective. These tiers are designed for women who are ready to go deeper\, show up regularly\, and say YES to unforgettable experiences. \nIf you’re already a Standard or Premium member\, go ahead and log in below.\nAre you a basic member that wants to upgrade your account\, upgrade your membership here.\nIf you're not a member of the Fierce Ladies Collective—you’re invited to join us. Your next great friendship could be waiting inside! \nWe’d love to have you with us!
URL:https://dianamariekeller.com/event-1/fierce-ladies-monthly-meal-court-street-kitchen-2/
LOCATION:Court Street Kitchen\, 7 E Court St\, Cincinnati\, OH\, 45202
CATEGORIES:Fierce Ladies Open House Dinner
ATTACH;FMTTYPE=image/png:https://dianamariekeller.com/wp-content/uploads/2025/02/Monthly-Meal-1.png
ORGANIZER;CN="KMF%3A Keep Moving Forward%2C LLC":MAILTO:Diana.Marie.Keller@gmail.com
END:VEVENT
BEGIN:VEVENT
DTSTART;TZID=America/New_York:20260116T183000
DTEND;TZID=America/New_York:20260116T203000
DTSTAMP:20260425T124232
CREATED:20251124T185053Z
LAST-MODIFIED:20251202T001947Z
UID:10000237-1768588200-1768595400@dianamariekeller.com
SUMMARY:Fierce Ladies Monthly Meal – Truva Turkish Kitchen
DESCRIPTION:This one’s just for our Standard and Premium members! \nThe event you’re trying to access is exclusive to Standard and Premium members of the Fierce Ladies Collective. These tiers are designed for women who are ready to go deeper\, show up regularly\, and say YES to unforgettable experiences. \nIf you’re already a Standard or Premium member\, go ahead and log in below.\nAre you a basic member that wants to upgrade your account\, upgrade your membership here.\nIf you're not a member of the Fierce Ladies Collective—you’re invited to join us. Your next great friendship could be waiting inside! \nWe’d love to have you with us!
URL:https://dianamariekeller.com/event-1/fierce-ladies-monthly-meal-truva-turkish-kitchen/
LOCATION:Truva Turkish Kitchen\, 8060 Montgomery Rd Suite 400\, Cincinnati\, OH 45236
CATEGORIES:Fierce Ladies Open House Dinner
ATTACH;FMTTYPE=image/png:https://dianamariekeller.com/wp-content/uploads/2025/02/Monthly-Meal-1.png
ORGANIZER;CN="KMF%3A Keep Moving Forward%2C LLC":MAILTO:Diana.Marie.Keller@gmail.com
END:VEVENT
BEGIN:VEVENT
DTSTART;TZID=America/New_York:20260206T183000
DTEND;TZID=America/New_York:20260206T203000
DTSTAMP:20260425T124232
CREATED:20251124T202747Z
LAST-MODIFIED:20251229T165149Z
UID:10000244-1770402600-1770409800@dianamariekeller.com
SUMMARY:Fierce Ladies Monthly Meal – Ivory House
DESCRIPTION:This one’s just for our Standard and Premium members! \nThe event you’re trying to access is exclusive to Standard and Premium members of the Fierce Ladies Collective. These tiers are designed for women who are ready to go deeper\, show up regularly\, and say YES to unforgettable experiences. \nIf you’re already a Standard or Premium member\, go ahead and log in below.\nAre you a basic member that wants to upgrade your account\, upgrade your membership here.\nIf you're not a member of the Fierce Ladies Collective—you’re invited to join us. Your next great friendship could be waiting inside! \nWe’d love to have you with us!
URL:https://dianamariekeller.com/event-1/fierce-ladies-monthly-meal-ivory-house/
LOCATION:Ivory House\, 2998 Harrison Ave\, Cincinnati\, OH 45211
CATEGORIES:Fierce Ladies Open House Dinner
ATTACH;FMTTYPE=image/png:https://dianamariekeller.com/wp-content/uploads/2025/02/Monthly-Meal-1.png
ORGANIZER;CN="KMF%3A Keep Moving Forward%2C LLC":MAILTO:Diana.Marie.Keller@gmail.com
END:VEVENT
BEGIN:VEVENT
DTSTART;TZID=America/New_York:20260313T183000
DTEND;TZID=America/New_York:20260313T203000
DTSTAMP:20260425T124232
CREATED:20251124T220758Z
LAST-MODIFIED:20260310T193110Z
UID:10000247-1773426600-1773433800@dianamariekeller.com
SUMMARY:Fierce Ladies Monthly Meal – Emery
DESCRIPTION:This one’s just for our Standard and Premium members! \nThe event you’re trying to access is exclusive to Standard and Premium members of the Fierce Ladies Collective. These tiers are designed for women who are ready to go deeper\, show up regularly\, and say YES to unforgettable experiences. \nIf you’re already a Standard or Premium member\, go ahead and log in below.\nAre you a basic member that wants to upgrade your account\, upgrade your membership here.\nIf you're not a member of the Fierce Ladies Collective—you’re invited to join us. Your next great friendship could be waiting inside! \nWe’d love to have you with us!
URL:https://dianamariekeller.com/event-1/fierce-ladies-monthly-meal-emery/
LOCATION:Emery\, 6914 Wooster Pike\, Cincinnati\, Ohio\, 45227
CATEGORIES:Fierce Ladies Open House Dinner
ATTACH;FMTTYPE=image/png:https://dianamariekeller.com/wp-content/uploads/2025/02/Monthly-Meal-1.png
ORGANIZER;CN="KMF%3A Keep Moving Forward%2C LLC":MAILTO:Diana.Marie.Keller@gmail.com
END:VEVENT
BEGIN:VEVENT
DTSTART;TZID=America/New_York:20260416T183000
DTEND;TZID=America/New_York:20260416T203000
DTSTAMP:20260425T124232
CREATED:20260310T170026Z
LAST-MODIFIED:20260310T170026Z
UID:10000254-1776364200-1776371400@dianamariekeller.com
SUMMARY:Fierce Ladies Monthly Meal – Nicola's
DESCRIPTION:This one’s just for our Standard and Premium members! \nThe event you’re trying to access is exclusive to Standard and Premium members of the Fierce Ladies Collective. These tiers are designed for women who are ready to go deeper\, show up regularly\, and say YES to unforgettable experiences. \nIf you’re already a Standard or Premium member\, go ahead and log in below.\nAre you a basic member that wants to upgrade your account\, upgrade your membership here.\nIf you're not a member of the Fierce Ladies Collective—you’re invited to join us. Your next great friendship could be waiting inside! \nWe’d love to have you with us!
URL:https://dianamariekeller.com/event-1/fierce-ladies-monthly-meal-nicolas/
LOCATION:Nicola’s\, 1420 Sycamore St\, Cincinnati\, OH 45202
CATEGORIES:Fierce Ladies Open House Dinner
ATTACH;FMTTYPE=image/png:https://dianamariekeller.com/wp-content/uploads/2025/02/Monthly-Meal-1.png
ORGANIZER;CN="KMF%3A Keep Moving Forward%2C LLC":MAILTO:Diana.Marie.Keller@gmail.com
END:VEVENT
BEGIN:VEVENT
DTSTART;TZID=America/New_York:20260505T183000
DTEND;TZID=America/New_York:20260505T203000
DTSTAMP:20260425T124232
CREATED:20260310T173514Z
LAST-MODIFIED:20260310T173514Z
UID:10000257-1778005800-1778013000@dianamariekeller.com
SUMMARY:Fierce Ladies Monthly Meal – Frida 602
DESCRIPTION:This one’s just for our Standard and Premium members! \nThe event you’re trying to access is exclusive to Standard and Premium members of the Fierce Ladies Collective. These tiers are designed for women who are ready to go deeper\, show up regularly\, and say YES to unforgettable experiences. \nIf you’re already a Standard or Premium member\, go ahead and log in below.\nAre you a basic member that wants to upgrade your account\, upgrade your membership here.\nIf you're not a member of the Fierce Ladies Collective—you’re invited to join us. Your next great friendship could be waiting inside! \nWe’d love to have you with us!
URL:https://dianamariekeller.com/event-1/fierce-ladies-monthly-meal-frida-602/
LOCATION:Frida 602\, 602 Main St\, Covington\, KY\, 41011
CATEGORIES:Fierce Ladies Open House Dinner
ATTACH;FMTTYPE=image/png:https://dianamariekeller.com/wp-content/uploads/2025/02/Monthly-Meal-1.png
ORGANIZER;CN="KMF%3A Keep Moving Forward%2C LLC":MAILTO:Diana.Marie.Keller@gmail.com
END:VEVENT
BEGIN:VEVENT
DTSTART;TZID=America/New_York:20260604T183000
DTEND;TZID=America/New_York:20260604T203000
DTSTAMP:20260425T124232
CREATED:20260310T185547Z
LAST-MODIFIED:20260310T185547Z
UID:10000261-1780597800-1780605000@dianamariekeller.com
SUMMARY:Fierce Ladies Monthly Meal – Juniper's Gin Bar
DESCRIPTION:This one’s just for our Standard and Premium members! \nThe event you’re trying to access is exclusive to Standard and Premium members of the Fierce Ladies Collective. These tiers are designed for women who are ready to go deeper\, show up regularly\, and say YES to unforgettable experiences. \nIf you’re already a Standard or Premium member\, go ahead and log in below.\nAre you a basic member that wants to upgrade your account\, upgrade your membership here.\nIf you're not a member of the Fierce Ladies Collective—you’re invited to join us. Your next great friendship could be waiting inside! \nWe’d love to have you with us!
URL:https://dianamariekeller.com/event-1/fierce-ladies-monthly-meal-junipers-gin-bar/
LOCATION:Juniper’s Gin Bar\, 409 W 6th St\, Covington\, KY\, 41011
CATEGORIES:Fierce Ladies Open House Dinner
ATTACH;FMTTYPE=image/png:https://dianamariekeller.com/wp-content/uploads/2025/02/Monthly-Meal-1.png
ORGANIZER;CN="KMF%3A Keep Moving Forward%2C LLC":MAILTO:Diana.Marie.Keller@gmail.com
END:VEVENT
END:VCALENDAR