BEGIN:VCALENDAR
VERSION:2.0
PRODID:-//Diana Marie Keller - ECPv6.15.16.1//NONSGML v1.0//EN
CALSCALE:GREGORIAN
METHOD:PUBLISH
X-WR-CALNAME:Diana Marie Keller
X-ORIGINAL-URL:https://dianamariekeller.com
X-WR-CALDESC:Events for Diana Marie Keller
REFRESH-INTERVAL;VALUE=DURATION:PT1H
X-Robots-Tag:noindex
X-PUBLISHED-TTL:PT1H
BEGIN:VTIMEZONE
TZID:America/New_York
BEGIN:DAYLIGHT
TZOFFSETFROM:-0500
TZOFFSETTO:-0400
TZNAME:EDT
DTSTART:20230312T070000
END:DAYLIGHT
BEGIN:STANDARD
TZOFFSETFROM:-0400
TZOFFSETTO:-0500
TZNAME:EST
DTSTART:20231105T060000
END:STANDARD
BEGIN:DAYLIGHT
TZOFFSETFROM:-0500
TZOFFSETTO:-0400
TZNAME:EDT
DTSTART:20240310T070000
END:DAYLIGHT
BEGIN:STANDARD
TZOFFSETFROM:-0400
TZOFFSETTO:-0500
TZNAME:EST
DTSTART:20241103T060000
END:STANDARD
BEGIN:DAYLIGHT
TZOFFSETFROM:-0500
TZOFFSETTO:-0400
TZNAME:EDT
DTSTART:20250309T070000
END:DAYLIGHT
BEGIN:STANDARD
TZOFFSETFROM:-0400
TZOFFSETTO:-0500
TZNAME:EST
DTSTART:20251102T060000
END:STANDARD
END:VTIMEZONE
BEGIN:VTIMEZONE
TZID:UTC
BEGIN:STANDARD
TZOFFSETFROM:+0000
TZOFFSETTO:+0000
TZNAME:UTC
DTSTART:20230101T000000
END:STANDARD
END:VTIMEZONE
BEGIN:VEVENT
DTSTART;TZID=America/New_York:20241012T080000
DTEND;TZID=America/New_York:20241012T120000
DTSTAMP:20260424T015729
CREATED:20240730T195903Z
LAST-MODIFIED:20240730T195903Z
UID:10000130-1728720000-1728734400@dianamariekeller.com
SUMMARY:Fierce Ladies Collective Meetup at the Queen Bee 4-Miler Race
DESCRIPTION:Join the Fierce Ladies Collective for a special bonus event this October as we come together to participate in the Queen Bee 4-Miler race! This event is open to all women\, and we’ll be walking the 4-miler together\, fostering community and support every step of the way. \nEvent Details: \n\nDate: Saturday\, October 12th\nTime: 8:00am\nLocation: Course Route\nCost: Free to join our group; race registration fee applies\n\nAbout the Queen Bee Race: The Queen Bee Half Marathon Weekend\, organized by the creators of the famous Flying Pig Marathon\, is a celebration of sisterhood and fitness. Launched in 2014\, this event aims to promote health and wellness among women while also supporting local charities. The weekend features various events\, including the signature Queen Bee Half Marathon and the fun and accessible 4-Miler race. It’s a perfect way for women of all fitness levels to come together\, have fun\, and enjoy the vibrant community spirit. \nSign up for the Queen Bee 4-Miler race HERE!\nMatching Shirts: Enhance the sense of unity by purchasing a matching shirt for $28. These classic unisex jersey short sleeve tees fit like a well-loved favorite. Made with 100% Airlume combed and ring-spun cotton\, they are soft\, breathable\, and perfect for both active and leisure wear. \nShirt Details: \n\nMaterial: 100% Airlume combed and ring-spun cotton\, lightweight fabric (4.2 oz/yd²)\nFit: Retail fit with a crew neckline\, suitable for casual and semi-formal settings\nManufacturing: Made in humane\, no-sweat-shop\, sustainable conditions\, Fair Labor Association and Platinum WRAP certified\nFeatures: Tear-away label\, ribbed knit collars\, tapered shoulders\, dual side seams\nColors Available: Black\, Dark Gray\, Team Purple\, Heather Team Purple\n\n    \nAdd this event to your Google Calendar by CLICKING HERE! \nThe Fierce Ladies Collective: The Fierce Ladies Collective is designed for the spirited woman eager to explore the depths of her potential in a supportive and dynamic environment. Whether you’re a professional seeking deeper connections\, a creative soul looking to express herself\, or someone yearning to break out of the everyday routine\, our community is your sanctuary. We cater to those who value authenticity and are ready to step outside their comfort zones to forge genuine friendships and embrace transformative experiences. At the Fierce Ladies Collective\, you’ll find a diverse group of women committed to empowering each other\, sharing in each other’s victories\, and growing together in a space that celebrates every step of the journey. \nJoin the Facebook Group here: https://www.facebook.com/groups/1206674110190854/
URL:https://dianamariekeller.com/event-1/fierce-ladies-collective-meetup-at-the-queen-bee-4-miler-race/
LOCATION:OH
CATEGORIES:Fierce Ladies Monthly Meetup
ORGANIZER;CN="KMF%3A Keep Moving Forward%2C LLC":MAILTO:Diana.Marie.Keller@gmail.com
END:VEVENT
BEGIN:VEVENT
DTSTART;TZID=America/New_York:20240914T193000
DTEND;TZID=America/New_York:20240914T223000
DTSTAMP:20260424T015729
CREATED:20240430T170957Z
LAST-MODIFIED:20240909T175635Z
UID:10000101-1726342200-1726353000@dianamariekeller.com
SUMMARY:Fierce Ladies Collective - FC Cincinnati Match
DESCRIPTION:Join the Fierce Ladies Collective for an electrifying outing to witness the rivalry ignite at the FC Cincinnati vs Columbus Crew match on Saturday\, September 14th. As FC Cincinnati’s most anticipated game of the year\, this clash is famously dubbed the Hell is Real Derby\, promising a thrilling atmosphere charged with passion and intensity. \nImmerse yourself in the fervor of this legendary rivalry alongside fellow Fierce Ladies\, as we unite to cheer on our team and revel in the exhilarating energy of the stadium. Don’t miss this opportunity to experience the pulse-pounding excitement of live soccer action! \nAdd this event to your Google Calendar by CLICKING HERE! \nThe Fierce Ladies Collective is designed for the spirited woman eager to explore the depths of her potential in a supportive and dynamic environment. Whether you’re a professional seeking deeper connections\, a creative soul looking to express herself\, or someone yearning to break out of the everyday routine\, our community is your sanctuary. We cater to those who value authenticity and are ready to step outside their comfort zones to forge genuine friendships and embrace transformative experiences. At the Fierce Ladies Collective\, you’ll find a diverse group of women committed to empowering each other\, sharing in each other’s victories\, and growing together in a space that celebrates every step of the journey. \nJoin the Facebook Group here: https://www.facebook.com/groups/1206674110190854/ \n 
URL:https://dianamariekeller.com/event-1/fierce-ladies-collective-fc-cincinnati-match/
LOCATION:TQL Stadium\, 1501 Central Parkway\, Cincinnati\, OH\, 45214
CATEGORIES:Fierce Ladies Monthly Meetup
ORGANIZER;CN="KMF%3A Keep Moving Forward%2C LLC":MAILTO:Diana.Marie.Keller@gmail.com
END:VEVENT
BEGIN:VEVENT
DTSTART;TZID=America/New_York:20240830T184500
DTEND;TZID=America/New_York:20240830T204500
DTSTAMP:20260424T015729
CREATED:20240527T170107Z
LAST-MODIFIED:20240626T223212Z
UID:10000104-1725043500-1725050700@dianamariekeller.com
SUMMARY:Fierce Ladies Open House Dinner – Sotto
DESCRIPTION:Join us for our August Fierce Ladies Open House Dinner at Sotto on Friday\, August 30th\, from 6:45pm – 8:45pm. Tickets are $17.50 and include one FREE beverage! (You will pay for the cost of your meal.) This will be an opportunity to meet other women\, and just talk and hang out! \nRESERVE YOUR SEAT HERE! — SOLD OUT!\n**PLEASE BE ADVISED – Tickets are NON-REFUNDABLE\, but are transferrable. You must find your own transfer.** \nAdd this event to your Google Calendar by CLICKING HERE! \nThe Fierce Ladies Collective is designed for the spirited woman eager to explore the depths of her potential in a supportive and dynamic environment. Whether you’re a professional seeking deeper connections\, a creative soul looking to express herself\, or someone yearning to break out of the everyday routine\, our community is your sanctuary. We cater to those who value authenticity and are ready to step outside their comfort zones to forge genuine friendships and embrace transformative experiences. At the Fierce Ladies Collective\, you’ll find a diverse group of women committed to empowering each other\, sharing in each other’s victories\, and growing together in a space that celebrates every step of the journey. \nJoin the Facebook Group here: https://www.facebook.com/groups/1206674110190854/
URL:https://dianamariekeller.com/event-1/fierce-ladies-open-house-dinner-sotto/
LOCATION:Sotto\, 118 E 6th St\, Cincinnati\, OH\, 45202
CATEGORIES:Fierce Ladies Monthly Meetup
ORGANIZER;CN="KMF%3A Keep Moving Forward%2C LLC":MAILTO:Diana.Marie.Keller@gmail.com
END:VEVENT
BEGIN:VEVENT
DTSTART;TZID=UTC:20240816T183000
DTEND;TZID=UTC:20240816T203000
DTSTAMP:20260424T015729
CREATED:20240626T165639Z
LAST-MODIFIED:20240626T223311Z
UID:10000118-1723833000-1723840200@dianamariekeller.com
SUMMARY:Fierce Ladies Monthly Meetup – Here & Now Candle Making Class
DESCRIPTION:Join us for an enchanting and creative experience at the August Fierce Ladies Monthly Meetup\, featuring a special Here & Now Candle Making Class! This event is hosted by Amruta\, the talented founder of Art by Amruta and Here & Now Candles\, who is also a cherished member of the Fierce Ladies Collective. We are thrilled to announce this as our first official collaboration event\, making it even more special! We can’t wait to see you there for an evening of creativity\, community\, and fun. Whether you’re a seasoned candle-maker or a complete beginner\, this workshop is designed for all skill levels. Come make new friends\, learn a new skill\, and take home a beautiful candle creation of your own! \nBOOK YOUR TICKET HERE!\nWhat to Expect: \n\nCandle Making Workshop: Attendees will be guided through the delightful process of making a large 13 oz candle. Amruta will share her expert tips and techniques to help you create a beautiful\, personalized candle\, which you can take home that night! (If candle does not cool down/cure that evening\, it can be picked up at a later time)\nMatch Jar: As a bonus\, you will receive a charming match jar to complement your handcrafted candles.\n\nAbout the Host: Amruta is the creative force behind Art by Amruta and Here & Now Candles. Her passion for art and candle-making shines through in every piece she creates. Her Etsy shop\, Here & Now Candles\, features a stunning collection of hand-poured candles that bring warmth and ambiance to any space. Amruta’s dedication to her craft and her vibrant personality make her workshops a memorable experience for all participants. \nAdd this event to your Google Calendar by CLICKING HERE! \nThe Fierce Ladies Collective is designed for the spirited woman eager to explore the depths of her potential in a supportive and dynamic environment. Whether you’re a professional seeking deeper connections\, a creative soul looking to express herself\, or someone yearning to break out of the everyday routine\, our community is your sanctuary. We cater to those who value authenticity and are ready to step outside their comfort zones to forge genuine friendships and embrace transformative experiences. At the Fierce Ladies Collective\, you’ll find a diverse group of women committed to empowering each other\, sharing in each other’s victories\, and growing together in a space that celebrates every step of the journey. \nJoin the Facebook Group here: https://www.facebook.com/groups/1206674110190854/
URL:https://dianamariekeller.com/event-1/fierce-ladies-monthly-meetup-candle-making-class/
LOCATION:OH
CATEGORIES:Fierce Ladies Monthly Meetup
ORGANIZER;CN="KMF%3A Keep Moving Forward%2C LLC":MAILTO:Diana.Marie.Keller@gmail.com
END:VEVENT
BEGIN:VEVENT
DTSTART;TZID=UTC:20240713T100000
DTEND;TZID=UTC:20240713T150000
DTSTAMP:20260424T015729
CREATED:20240527T173030Z
LAST-MODIFIED:20240626T223559Z
UID:10000109-1720864800-1720882800@dianamariekeller.com
SUMMARY:Fierce Ladies Monthly Meetup – Scenic River Kayaking Excursion
DESCRIPTION:It’s SUMMER and we are going to enjoy some time outside with a Fierce Ladies Collective KAYAKING excursion at Scenic River Canoe Excursions!\n\nWe will be completing the Remington’s Run (8.5 Mile Kayak Adventure Trip)\, on Sunday\, July 13th beginning at 10:00am. (ARRIVE NO LATER THAN 9:40AM) You can expect the duration to be about 3 – 5 hours of paddling time (depending on river levels)\, however\, there will be places to stop along the way if we wanted to get out and take pictures\, have a snack\, stop at Little Miami Brewing Company\, and more! (Check out this video to learn more!)\n \nBOOK YOUR TICKET HERE: https://scenicrivercanoe.com/canoe-kayak-tube-rentals/ (Select “Book Online Now” –> Remington’s 8.5 Mile Trip –> July 13th\, 10:00am) \nFAQs:\nDo the trips end where we parked? Or\, do they pick us up at the end of the trip and bus us back to our car?: All trips end where you parked (4595 Round Bottom Road\, Cincinnati\, OH 45244). From here\, you will check in\, pick out your lifejacket\, and hop on a bus and they will drive you to the put-in spot up river. You will then enjoy a beautiful leisurely float back to where you parked.\n\nAre there rapids?: Yes\, and they are a ton of fun! The Little Miami is a class one river and generally beginner friendly.\n\nWhat should I bring?: They recommend wearing old gym shoes or water shoes that you don’t mind getting wet or ruined. Flip flops do not hold up well on the river. Bring sunblock\, plenty of water\, snacks/food\, garbage bags (they have plenty of reusable ones available for free in case you forget)\, hat and sunglasses. If you are going to take your phone or any valuables with you\, please be sure to bring an appropriate dry box or bag to keep them safe and secure. They have a variety of waterproof boxes and bags available for sale at the check-in.\n\nAre coolers permitted?: Yes\, but they must be small enough to fit on the kayak. Styrofoam coolers are not permitted as they are a hazard to the environment. Glass bottles are also NOT permitted.\n\nAre there any weight limitations?: Single person kayaks are rated for up to 275lbs.\n \nAdd this event to your Google Calendar by CLICKING HERE! \nThe Fierce Ladies Collective is designed for the spirited woman eager to explore the depths of her potential in a supportive and dynamic environment. Whether you’re a professional seeking deeper connections\, a creative soul looking to express herself\, or someone yearning to break out of the everyday routine\, our community is your sanctuary. We cater to those who value authenticity and are ready to step outside their comfort zones to forge genuine friendships and embrace transformative experiences. At the Fierce Ladies Collective\, you’ll find a diverse group of women committed to empowering each other\, sharing in each other’s victories\, and growing together in a space that celebrates every step of the journey. \nJoin the Facebook Group here: https://www.facebook.com/groups/1206674110190854/
URL:https://dianamariekeller.com/event-1/fierce-ladies-monthly-meetup-scenic-river-kayaking-excursion-2/
LOCATION:Scenic River Canoe Excursions\, 4595 Round Bottom Rd\, Cincinnati\, Ohio\, 45244
CATEGORIES:Fierce Ladies Monthly Meetup
ORGANIZER;CN="KMF%3A Keep Moving Forward%2C LLC":MAILTO:Diana.Marie.Keller@gmail.com
END:VEVENT
BEGIN:VEVENT
DTSTART;TZID=America/New_York:20240518T120000
DTEND;TZID=America/New_York:20240518T170000
DTSTAMP:20260424T015729
CREATED:20240309T014841Z
LAST-MODIFIED:20240518T143213Z
UID:10000097-1716033600-1716051600@dianamariekeller.com
SUMMARY:Fierce Ladies Monthly Meetup – Connector Crawl
DESCRIPTION:Get ready for an epic day of exploration and camaraderie at the Cincinnati Connector Crawl on Saturday\, May 18th\, from 12 pm to 5 pm! Starting and ending at The Banks\, we’ll embark on a unique adventure\, combining the excitement of a traditional bar crawl with the convenience of the Cincinnati Connector. \nJoin fellow adventurers as we hop aboard the Connector and journey through downtown\, making stops at handpicked bars\, restaurants\, and points of interest along the way. With the flexibility to branch out on your own at each stop\, you have the freedom to tailor the day to your preferences and create unforgettable memories with friends old and new. \nAll participants will have a portal to log into which outlines the route and highlights notable establishments and attractions to explore at each stop. The portal will be available to all participants beginning Saturday\, April 27th. Participants will also be added to a group chat with all other attendees\, so that plans can be made in advance (you can connect with others that want to stop at the same locations as you\, you can meet other “crawlers”\, and you’ll receive important day-of updates from me)! PLUS all attendees will receive swag bag from me with essential Connector Crawl goodies! \nDon’t miss this opportunity to experience the best of Cincinnati while connecting with fellow adventurers. Grab your tickets now to secure your spot on this unforgettable journey! Let’s make May 18th a day to remember – see you on the Connector Crawl! \nRESERVE YOUR SPOT HERE! – SOLD OUT!\n**PLEASE BE ADVISED – Tickets are NON-REFUNDABLE\, but are transferrable. You must find your own transfer.** \nAdd this event to your Google Calendar by CLICKING HERE!\n​\nThe Fierce Ladies Collective is a group of ambitious\, hard-working\, enthusiastic\, and driven women to come together and support one another! Whether you’re an entrepreneur\, a momma\, a woman with goals\, or someone who needs a community to lean into\, we’ve got you covered! We are focused on lifting each other up\, supporting one another\, coming together to accomplish goals\, and finding the community we need to take us to that next step! We host monthly in-person meetups and one virtual happy hour per month.\n​\nJoin the Facebook Group here: https://www.facebook.com/groups/1206674110190854/
URL:https://dianamariekeller.com/event-1/fierce-ladies-monthly-meetup-connector-crawl/
LOCATION:OH
CATEGORIES:Fierce Ladies Monthly Meetup
ORGANIZER;CN="KMF%3A Keep Moving Forward%2C LLC":MAILTO:Diana.Marie.Keller@gmail.com
END:VEVENT
BEGIN:VEVENT
DTSTART;TZID=America/New_York:20240421T120000
DTEND;TZID=America/New_York:20240421T153000
DTSTAMP:20260424T015729
CREATED:20240309T005133Z
LAST-MODIFIED:20240309T005133Z
UID:10000094-1713700800-1713713400@dianamariekeller.com
SUMMARY:Fierce Ladies Monthly Meetup – Anjou Mixology 101
DESCRIPTION:Mark your calendars for an unforgettable afternoon of empowerment and connection at Anjou for the April Fierce Ladies Monthly Meetup on Sunday\, April 21st\, from 12 pm to 3:30 pm. Join us for an exclusive Cocktail Making Class where you’ll learn the art of mixology from the experts at Anjou! This special event offers a unique opportunity to mingle with like-minded fierce ladies while mastering the craft of creating delicious cocktails. Whether you’re a cocktail connoisseur or a novice\, this class is designed for all levels of experience. \nIndulge your taste buds as you sip on handcrafted cocktails and enjoy delectable treats provided by Anjou. Plus\, take advantage of the vibrant atmosphere and make new connections with fellow fierce ladies who share your passion for empowerment and fun! But wait\, there’s more! As an added bonus\, attendees will receive a special discount on future bookings at Anjou. Don’t miss out on this fabulous opportunity to elevate your cocktail-making skills and connect with amazing women in the community. \nTickets for this event are limited\, so be sure to reserve your spot today! Visit the event page here to secure your ticket and join us for an unforgettable afternoon of cocktails\, camaraderie\, and empowerment! \nAdd this event to your Google Calendar by CLICKING HERE!\n​\nThe Fierce Ladies Collective is a group of ambitious\, hard-working\, enthusiastic\, and driven women to come together and support one another! Whether you’re an entrepreneur\, a momma\, a woman with goals\, or someone who needs a community to lean into\, we’ve got you covered! We are focused on lifting each other up\, supporting one another\, coming together to accomplish goals\, and finding the community we need to take us to that next step! We host monthly in-person meetups and one virtual happy hour per month.\n​\nJoin the Facebook Group here: https://www.facebook.com/groups/1206674110190854/
URL:https://dianamariekeller.com/event-1/fierce-ladies-monthly-meetup-anjou-mixology/
LOCATION:Anjou\, 2804 Woodburn Ave\, Cincinnati\, OH\, 45206
CATEGORIES:Fierce Ladies Monthly Meetup
ORGANIZER;CN="KMF%3A Keep Moving Forward%2C LLC":MAILTO:Diana.Marie.Keller@gmail.com
END:VEVENT
BEGIN:VEVENT
DTSTART;TZID=America/New_York:20240307T183000
DTEND;TZID=America/New_York:20240307T203000
DTSTAMP:20260424T015729
CREATED:20240211T155111Z
LAST-MODIFIED:20240211T155111Z
UID:10000093-1709836200-1709843400@dianamariekeller.com
SUMMARY:Fierce Ladies Monthly Meetup – Factory 52 Night Out
DESCRIPTION:Mark your calendars for a fabulous evening of connection and empowerment at Factory 52 in Norwood\, Ohio\, on Thursday\, March 7th\, from 6:30 to 8:30 pm. This casual meetup is your chance to mingle\, make new friends\, and indulge in some delicious eats from Factory 52’s diverse food options. Whether you’re in the mood for savory bites or sweet treats\, Factory 52 has something for everyone! Feel free to explore the shops\, unwind with a drink\, or simply enjoy the vibrant atmosphere surrounded by fellow fierce ladies.\n​\nAs if that wasn’t enticing enough\, Factory 52 is also home to Aces Pickleball Court\, offering an exciting opportunity for those who want to add a little sporty fun to the mix! Reserve your spot and join other fierce ladies for a friendly game or two.\n​\nBest of all\, this event is completely FREE—simply pay for whatever you decide to indulge in. \n​\nAdd this event to your Google Calendar by CLICKING HERE!\n​\nThe Fierce Ladies Collective is a group of ambitious\, hard-working\, enthusiastic\, and driven women to come together and support one another! Whether you’re an entrepreneur\, a momma\, a woman with goals\, or someone who needs a community to lean into\, we’ve got you covered! We are focused on lifting each other up\, supporting one another\, coming together to accomplish goals\, and finding the community we need to take us to that next step! We host monthly in-person meetups and one virtual happy hour per month.\n​\nJoin the Facebook Group here: https://www.facebook.com/groups/1206674110190854/
URL:https://dianamariekeller.com/event-1/fierce-ladies-monthly-meetup-factory-52-night-out/
LOCATION:Factory 52\, 4590 Beech St\, Cincinnati\, OH\, 45212
CATEGORIES:Fierce Ladies Monthly Meetup
ORGANIZER;CN="KMF%3A Keep Moving Forward%2C LLC":MAILTO:Diana.Marie.Keller@gmail.com
END:VEVENT
BEGIN:VEVENT
DTSTART;TZID=America/New_York:20240213T190000
DTEND;TZID=America/New_York:20240213T210000
DTSTAMP:20260424T015729
CREATED:20231215T204914Z
LAST-MODIFIED:20231215T204914Z
UID:10000092-1707850800-1707858000@dianamariekeller.com
SUMMARY:Fierce Ladies Monthly Meetup - Pinot's Palette Paint Night
DESCRIPTION:Join us for an enchanting evening of creativity and camaraderie at our February Fierce Ladies Collective Monthly Meetup\, happening on GALENTINES DAY (Tuesday\, February 13th) from 7:00p – 9:00p! We’ll be gathering at the vibrant Pinot’s Palette (Kenwood) for a heartwarming celebration of friendship and artistry. Prepare to unleash your inner artist as we dive into the “Heartbreaker” painting experience.  \nNo prior painting skills are needed – just bring your enthusiasm and the desire to create something beautiful. \nFor just $39\, you’ll receive all the materials and guidance you need to craft your own masterpiece. Click here to secure your spot. Immerse yourself in the joy of painting\, laughter\, and the uplifting spirit of Galentine’s Day. Connect with fellow fierce ladies\, share stories\, and leave with not only a stunning piece of art but also cherished memories. Let’s make this Galentine’s Day one to remember – a canvas of friendship\, laughter\, and creativity awaits! 💖 \nAdd this event to your Google Calendar by CLICKING HERE! \nThe Fierce Ladies Collective is a group of ambitious\, hard-working\, enthusiastic\, and driven women to come together and support one another! Whether you’re an entrepreneur\, a momma\, a woman with goals\, or someone who needs a community to lean into\, we’ve got you covered! We are focused on lifting each other up\, supporting one another\, coming together to accomplish goals\, and finding the community we need to take us to that next step! We host monthly in-person meetups and one virtual happy hour per month. \nJoin the Facebook Group here: https://www.facebook.com/groups/1206674110190854/ \n 
URL:https://dianamariekeller.com/event-1/fierce-ladies-monthly-meetup-pinots-palette-paint-night/
LOCATION:Pinot’s Palette\, 714 Montgomery Rd\, Unit C\, Cincinnati\, Ohio\, 45236
CATEGORIES:Fierce Ladies Monthly Meetup
ORGANIZER;CN="KMF%3A Keep Moving Forward%2C LLC":MAILTO:Diana.Marie.Keller@gmail.com
END:VEVENT
BEGIN:VEVENT
DTSTART;TZID=America/New_York:20240118T193000
DTEND;TZID=America/New_York:20240118T203000
DTSTAMP:20260424T015729
CREATED:20231215T194042Z
LAST-MODIFIED:20231215T194042Z
UID:10000091-1705606200-1705609800@dianamariekeller.com
SUMMARY:Fierce Ladies Monthly Meetup - SWT Fitness Dance Class
DESCRIPTION:Dive into the rhythm of self-expression at our upcoming Fierce Ladies Collective Monthly Meetup on Thursday\, January 18th\, from 7:35 – 8:35 at SWT Fitness! Join us for an exhilarating evening of empowerment as we attend the SWT – Sparkle. WURK. Twerk Dance class. This lively session\, hosted by SWT Fitness\, promises a fusion of sparkle\, fitness\, and the sheer joy of movement. \nImagine an hour of infectious beats\, confidence-building choreography\, and an atmosphere that encourages every participant to embrace their unique sparkle. Whether you’re a seasoned dancer or just looking for a fun way to shake off stress\, this class welcomes all levels of experience. \nThe cost of this uplifting experience is just around $20\, and you can secure your spot by purchasing your ticket here! Get ready to twirl\, sparkle\, and werk it on the dance floor\, surrounded by a community of fierce ladies cheering you on. Don’t miss out on the chance to make memories\, forge connections\, and celebrate the power of movement together! See you on the dance floor! \nAdd this event to your Google Calendar by CLICKING HERE! \nThe Fierce Ladies Collective is a group of ambitious\, hard-working\, enthusiastic\, and driven women to come together and support one another! Whether you’re an entrepreneur\, a momma\, a woman with goals\, or someone who needs a community to lean into\, we’ve got you covered! We are focused on lifting each other up\, supporting one another\, coming together to accomplish goals\, and finding the community we need to take us to that next step! We host monthly in-person meetups and one virtual happy hour per month. \nJoin the Facebook Group here: https://www.facebook.com/groups/1206674110190854/ \n 
URL:https://dianamariekeller.com/event-1/fierce-ladies-monthly-meetup-swt-fitness-dance-class/
LOCATION:SWT Fitness\, 5260 Crookshank Rd\, Cincinnati\, Ohio\, 45238
CATEGORIES:Fierce Ladies Monthly Meetup
ORGANIZER;CN="KMF%3A Keep Moving Forward%2C LLC":MAILTO:Diana.Marie.Keller@gmail.com
END:VEVENT
END:VCALENDAR