BEGIN:VCALENDAR
VERSION:2.0
PRODID:-//Diana Marie Keller - ECPv6.15.16.1//NONSGML v1.0//EN
CALSCALE:GREGORIAN
METHOD:PUBLISH
X-ORIGINAL-URL:https://dianamariekeller.com
X-WR-CALDESC:Events for Diana Marie Keller
REFRESH-INTERVAL;VALUE=DURATION:PT1H
X-Robots-Tag:noindex
X-PUBLISHED-TTL:PT1H
BEGIN:VTIMEZONE
TZID:America/New_York
BEGIN:DAYLIGHT
TZOFFSETFROM:-0500
TZOFFSETTO:-0400
TZNAME:EDT
DTSTART:20250309T070000
END:DAYLIGHT
BEGIN:STANDARD
TZOFFSETFROM:-0400
TZOFFSETTO:-0500
TZNAME:EST
DTSTART:20251102T060000
END:STANDARD
BEGIN:DAYLIGHT
TZOFFSETFROM:-0500
TZOFFSETTO:-0400
TZNAME:EDT
DTSTART:20260308T070000
END:DAYLIGHT
BEGIN:STANDARD
TZOFFSETFROM:-0400
TZOFFSETTO:-0500
TZNAME:EST
DTSTART:20261101T060000
END:STANDARD
BEGIN:DAYLIGHT
TZOFFSETFROM:-0500
TZOFFSETTO:-0400
TZNAME:EDT
DTSTART:20270314T070000
END:DAYLIGHT
BEGIN:STANDARD
TZOFFSETFROM:-0400
TZOFFSETTO:-0500
TZNAME:EST
DTSTART:20271107T060000
END:STANDARD
END:VTIMEZONE
BEGIN:VEVENT
DTSTART;TZID=America/New_York:20260325T193000
DTEND;TZID=America/New_York:20260325T223000
DTSTAMP:20260425T110126
CREATED:20251124T221642Z
LAST-MODIFIED:20251124T223013Z
UID:10000248-1774467000-1774477800@dianamariekeller.com
SUMMARY:Fierce Ladies Monthly Experience – Chicago Musical
DESCRIPTION:This March\, join us to see the legendary Broadway production of Chicago—live at the Aronoff Center! \nThis razzle-dazzling performance has everything that makes Broadway unforgettable: sharp wit\, showstopping songs\, iconic choreography\, and a storyline packed with fame\, rivalry\, and all that jazz. Set during the whirlwind of the Jazz Age\, Chicago follows vaudeville star Velma Kelly and chorus girl Roxie Hart—two of the Cook County Jail’s most notorious murderesses—as they compete for headlines amidst a media frenzy. \nBroadway’s longest-running musical\, Chicago has captivated audiences for nearly three decades with over 10\,000 performances\, 6 Tony Awards®\, and a Grammy®. \nThis Monthly Experience is perfect for anyone who loves bold storytelling\, big energy\, and a chance to experience something unforgettable with other Fierce Ladies. We’ll coordinate seating as a group and offer a pre-show meetup to connect before the curtain rises. \nWhether you come for the music\, the company\, or the sheer theatrical magic\, this night is going to be one to remember. \n**PLEASE BE ADVISED – Tickets are NON-REFUNDABLE\, but are transferrable. You must find your own transfer.** \nAdd this event to your Google Calendar by CLICKING HERE! \nThe Fierce Ladies Collective is a community for women who are ready to show up\, be real\, and build meaningful friendships. Whether you’re new to Cincinnati or just looking to expand your circle\, FLC creates fun\, low-pressure spaces to connect—from social hours and monthly meals to creative events and coworking sessions. We believe friendship should be easier to find\, and that you don’t have to change who you are to belong. If you’ve ever felt like making friends as an adult is hard\, you’re not alone—and you’re in the right place. Come as you are; there’s a seat for you here. \nJoin the Facebook Group here: https://www.facebook.com/groups/1206674110190854/
URL:https://dianamariekeller.com/event-1/fierce-ladies-monthly-experience-chicago-musical/
LOCATION:Aronoff Center for the Arts\, 650 Walnut St\, Cincinnati\, OH 45202
CATEGORIES:Fierce Ladies Monthly Meetup
ATTACH;FMTTYPE=image/png:https://dianamariekeller.com/wp-content/uploads/2025/02/Fierce-Ladies-Monthly-Experience.png
ORGANIZER;CN="KMF%3A Keep Moving Forward%2C LLC":MAILTO:Diana.Marie.Keller@gmail.com
END:VEVENT
BEGIN:VEVENT
DTSTART;TZID=America/New_York:20260411T180000
DTEND;TZID=America/New_York:20260411T210000
DTSTAMP:20260425T110126
CREATED:20260310T170659Z
LAST-MODIFIED:20260310T170659Z
UID:10000255-1775930400-1775941200@dianamariekeller.com
SUMMARY:Fierce Ladies Monthly Experience – The Dinner Detective
DESCRIPTION:Get ready for an evening of mystery\, laughter\, and interactive fun at our April Monthly Experience: The Dinner Detective. \nThis one-of-a-kind event combines a delicious dinner with a live\, interactive comedy mystery show where anyone in the room could be a suspect. As the evening unfolds\, you’ll watch clues develop\, interrogate possible suspects\, and work with your table to solve the mystery before the final reveal. \nUnlike traditional murder mystery shows\, the actors blend in with the audience—so the story unfolds all around you in surprising and hilarious ways. No stage\, no costumes\, and no pressure to perform—just an engaging experience where you can sit back\, enjoy dinner\, and see if you can crack the case. \nMonthly Experiences are designed to bring women together through unique shared experiences that spark conversation and connection. Whether you’re great at solving mysteries or just excited for a fun night out\, this event offers the perfect mix of entertainment\, laughter\, and community. So grab your detective hat (or just your curiosity) and join us for an unforgettable evening where the biggest question of the night will be… \nWhodunit? \n**PLEASE BE ADVISED – Tickets are NON-REFUNDABLE\, but are transferrable. You must find your own transfer.** \nAdd this event to your Google Calendar by CLICKING HERE! \nThe Fierce Ladies Collective is a community for women who are ready to show up\, be real\, and build meaningful friendships. Whether you’re new to Cincinnati or just looking to expand your circle\, FLC creates fun\, low-pressure spaces to connect—from social hours and monthly meals to creative events and coworking sessions. We believe friendship should be easier to find\, and that you don’t have to change who you are to belong. If you’ve ever felt like making friends as an adult is hard\, you’re not alone—and you’re in the right place. Come as you are; there’s a seat for you here. \nJoin the Facebook Group here: https://www.facebook.com/groups/1206674110190854/
URL:https://dianamariekeller.com/event-1/fierce-ladies-monthly-experience-the-dinner-detective/
LOCATION:Embassy Suites by Hilton Cincinnati Rivercenter\, 10 E Rivercenter Blvd Covington\, KY 41011
CATEGORIES:Fierce Ladies Monthly Meetup
ATTACH;FMTTYPE=image/png:https://dianamariekeller.com/wp-content/uploads/2025/02/Fierce-Ladies-Monthly-Experience.png
ORGANIZER;CN="KMF%3A Keep Moving Forward%2C LLC":MAILTO:Diana.Marie.Keller@gmail.com
END:VEVENT
BEGIN:VEVENT
DTSTART;TZID=America/New_York:20260516T110000
DTEND;TZID=America/New_York:20260516T130000
DTSTAMP:20260425T110126
CREATED:20260310T173922Z
LAST-MODIFIED:20260310T173922Z
UID:10000259-1778929200-1778936400@dianamariekeller.com
SUMMARY:Fierce Ladies Monthly Experience – Afternoon Tea at The BonBonerie
DESCRIPTION:Step into a slower\, more elegant afternoon as we gather for Afternoon Tea at The BonBonerie\, one of Cincinnati’s most beloved bakeries and cafés. \nThis charming experience invites us to pause\, relax\, and enjoy a beautifully presented three-tiered afternoon tea service filled with delicate pastries\, savory bites\, and freshly baked treats. We will receive a three-tiered stand featuring tea sandwiches\, handmade desserts from The BonBonerie’s award-winning bakery\, and freshly baked scones served with clotted cream and jam. \nEach fierce lady will also select their own freshly brewed hot tea from a curated selection of blends created by world-renowned tea specialist Bruce Richardson of Elmwood Inn Tea in Danville\, Kentucky. With more than fifteen varieties to choose from—including black teas\, green blends\, fruity whites\, and caffeine-free tisanes—there’s a perfect cup for everyone. \nWhether you’re treating yourself to something special or simply looking for a cozy way to spend the afternoon\, this experience promises delicious treats\, warm conversation\, and a beautiful space to enjoy it all together. Come sip\, savor\, and connect. \n**PLEASE BE ADVISED – Tickets are NON-REFUNDABLE\, but are transferrable. You must find your own transfer.** \nAdd this event to your Google Calendar by CLICKING HERE! \nThe Fierce Ladies Collective is a community for women who are ready to show up\, be real\, and build meaningful friendships. Whether you’re new to Cincinnati or just looking to expand your circle\, FLC creates fun\, low-pressure spaces to connect—from social hours and monthly meals to creative events and coworking sessions. We believe friendship should be easier to find\, and that you don’t have to change who you are to belong. If you’ve ever felt like making friends as an adult is hard\, you’re not alone—and you’re in the right place. Come as you are; there’s a seat for you here. \nJoin the Facebook Group here: https://www.facebook.com/groups/1206674110190854/
URL:https://dianamariekeller.com/event-1/fierce-ladies-monthly-experience-afternoon-tea-at-the-bonbonerie/
LOCATION:The BonBonerie\, 2030 Madison Rd\, Cincinnati\, OH 45208
CATEGORIES:Fierce Ladies Monthly Meetup
ATTACH;FMTTYPE=image/png:https://dianamariekeller.com/wp-content/uploads/2025/02/Fierce-Ladies-Monthly-Experience.png
ORGANIZER;CN="KMF%3A Keep Moving Forward%2C LLC":MAILTO:Diana.Marie.Keller@gmail.com
END:VEVENT
BEGIN:VEVENT
DTSTART;TZID=America/New_York:20260623T170000
DTEND;TZID=America/New_York:20260623T210000
DTSTAMP:20260425T110126
CREATED:20260310T190816Z
LAST-MODIFIED:20260310T190816Z
UID:10000262-1782234000-1782248400@dianamariekeller.com
SUMMARY:Fierce Ladies Monthly Experience – Game Night at Victory Pints
DESCRIPTION:Join us for a relaxed and playful evening at Victory Pints\, Cincinnati’s beloved board game café\, for a night of games\, laughter\, and connection. Victory Pints offers an incredible library of board games—from classic favorites to modern strategy and party games—so there’s something for everyone\, whether you’re a seasoned gamer or someone who just enjoys a fun and casual night out. \nThis Monthly Experience is all about bringing people together through play. We’ll gather around the tables\, explore different games\, and enjoy the kind of easygoing atmosphere that makes it simple to strike up conversation and connect with new friends. \nNo need to bring anything or know how to play specific games—part of the fun is discovering new ones together. The Victory Pints team is always happy to help explain rules\, and there will be plenty of opportunities to jump into games with others throughout the evening. \nWhether you come for the games\, the laughter\, or simply the chance to spend time with a great group of women\, this event promises a fun and welcoming night out. Come ready to play\, connect\, and maybe discover your new favorite game. \n**PLEASE BE ADVISED – Tickets are NON-REFUNDABLE\, but are transferrable. You must find your own transfer.** \nAdd this event to your Google Calendar by CLICKING HERE! \nThe Fierce Ladies Collective is a community for women who are ready to show up\, be real\, and build meaningful friendships. Whether you’re new to Cincinnati or just looking to expand your circle\, FLC creates fun\, low-pressure spaces to connect—from social hours and monthly meals to creative events and coworking sessions. We believe friendship should be easier to find\, and that you don’t have to change who you are to belong. If you’ve ever felt like making friends as an adult is hard\, you’re not alone—and you’re in the right place. Come as you are; there’s a seat for you here. \nJoin the Facebook Group here: https://www.facebook.com/groups/1206674110190854/
URL:https://dianamariekeller.com/event-1/fierce-ladies-monthly-experience-game-night-at-victory-pints/
LOCATION:Victory Pints\, 48 W Foster-Maineville Rd\, Maineville\, OH 45039
CATEGORIES:Fierce Ladies Monthly Meetup
ATTACH;FMTTYPE=image/png:https://dianamariekeller.com/wp-content/uploads/2025/02/Fierce-Ladies-Monthly-Experience.png
ORGANIZER;CN="KMF%3A Keep Moving Forward%2C LLC":MAILTO:Diana.Marie.Keller@gmail.com
END:VEVENT
END:VCALENDAR