BEGIN:VCALENDAR
VERSION:2.0
PRODID:-//Diana Marie Keller - ECPv6.15.16.1//NONSGML v1.0//EN
CALSCALE:GREGORIAN
METHOD:PUBLISH
X-WR-CALNAME:Diana Marie Keller
X-ORIGINAL-URL:https://dianamariekeller.com
X-WR-CALDESC:Events for Diana Marie Keller
REFRESH-INTERVAL;VALUE=DURATION:PT1H
X-Robots-Tag:noindex
X-PUBLISHED-TTL:PT1H
BEGIN:VTIMEZONE
TZID:America/New_York
BEGIN:DAYLIGHT
TZOFFSETFROM:-0500
TZOFFSETTO:-0400
TZNAME:EDT
DTSTART:20240310T070000
END:DAYLIGHT
BEGIN:STANDARD
TZOFFSETFROM:-0400
TZOFFSETTO:-0500
TZNAME:EST
DTSTART:20241103T060000
END:STANDARD
BEGIN:DAYLIGHT
TZOFFSETFROM:-0500
TZOFFSETTO:-0400
TZNAME:EDT
DTSTART:20250309T070000
END:DAYLIGHT
BEGIN:STANDARD
TZOFFSETFROM:-0400
TZOFFSETTO:-0500
TZNAME:EST
DTSTART:20251102T060000
END:STANDARD
BEGIN:DAYLIGHT
TZOFFSETFROM:-0500
TZOFFSETTO:-0400
TZNAME:EDT
DTSTART:20260308T070000
END:DAYLIGHT
BEGIN:STANDARD
TZOFFSETFROM:-0400
TZOFFSETTO:-0500
TZNAME:EST
DTSTART:20261101T060000
END:STANDARD
END:VTIMEZONE
BEGIN:VEVENT
DTSTART;VALUE=DATE:20251016
DTEND;VALUE=DATE:20251020
DTSTAMP:20260423T165027
CREATED:20240815T131046Z
LAST-MODIFIED:20250908T162509Z
UID:10000135-1760572800-1760918399@dianamariekeller.com
SUMMARY:Nurtue Retreat: Top Bunk Spot
DESCRIPTION:Join us for Nurture\, the 3rd Annual Fierce Ladies Collective Retreat! Experience comfort and community in our custom-made bunk beds located on the bottom floor of The Acres Cabin. This retreat is dedicated to exploring the pillars of self-love\, including self-compassion\, self-care\, self-respect\, self-trust\, self-control\, and self-knowledge. Your stay will feature engaging workshops\, wellness activities\, and communal meals\, all designed to foster self-discovery in a nurturing environment. \nThe Acres offers rustic yet comfortable accommodations\, blending private king rooms with shared bunk spaces to promote intimacy among participants. Enjoy key amenities such as cozy gathering areas\, fire pits for evening relaxation\, and expansive outdoor settings ideal for meditation and group activities. The peaceful surroundings of The Acres provide a perfect backdrop for a transformative experience centered around deepening self-love. \nLearn more about the retreat\, what’s include and all amenities here.
URL:https://dianamariekeller.com/event-1/nurtue-retreat-top-bunk-spot/
LOCATION:The Acres Cabin
CATEGORIES:Fierce Ladies Collective Retreat
ATTACH;FMTTYPE=image/png:https://dianamariekeller.com/wp-content/uploads/2024/08/34.png
ORGANIZER;CN="KMF%3A Keep Moving Forward%2C LLC":MAILTO:Diana.Marie.Keller@gmail.com
END:VEVENT
END:VCALENDAR