BEGIN:VCALENDAR
VERSION:2.0
PRODID:-//Diana Marie Keller - ECPv6.15.16.1//NONSGML v1.0//EN
CALSCALE:GREGORIAN
METHOD:PUBLISH
X-WR-CALNAME:Diana Marie Keller
X-ORIGINAL-URL:https://dianamariekeller.com
X-WR-CALDESC:Events for Diana Marie Keller
REFRESH-INTERVAL;VALUE=DURATION:PT1H
X-Robots-Tag:noindex
X-PUBLISHED-TTL:PT1H
BEGIN:VTIMEZONE
TZID:America/New_York
BEGIN:DAYLIGHT
TZOFFSETFROM:-0500
TZOFFSETTO:-0400
TZNAME:EDT
DTSTART:20230312T070000
END:DAYLIGHT
BEGIN:STANDARD
TZOFFSETFROM:-0400
TZOFFSETTO:-0500
TZNAME:EST
DTSTART:20231105T060000
END:STANDARD
BEGIN:DAYLIGHT
TZOFFSETFROM:-0500
TZOFFSETTO:-0400
TZNAME:EDT
DTSTART:20240310T070000
END:DAYLIGHT
BEGIN:STANDARD
TZOFFSETFROM:-0400
TZOFFSETTO:-0500
TZNAME:EST
DTSTART:20241103T060000
END:STANDARD
BEGIN:DAYLIGHT
TZOFFSETFROM:-0500
TZOFFSETTO:-0400
TZNAME:EDT
DTSTART:20250309T070000
END:DAYLIGHT
BEGIN:STANDARD
TZOFFSETFROM:-0400
TZOFFSETTO:-0500
TZNAME:EST
DTSTART:20251102T060000
END:STANDARD
END:VTIMEZONE
BEGIN:VEVENT
DTSTART;TZID=America/New_York:20241206T110000
DTEND;TZID=America/New_York:20241206T140000
DTSTAMP:20260423T225226
CREATED:20240730T195826Z
LAST-MODIFIED:20240730T195826Z
UID:10000126-1733482800-1733493600@dianamariekeller.com
SUMMARY:Fierce Ladies Coffeehouse Work Sessions - Coffee Cup Overflowing
DESCRIPTION:Introducing the Fierce Ladies Coffeehouse Work Sessions! These sessions are designed to empower women by offering a fresh environment to work in\, while also encouraging you to make new friends\, and support local businesses! \nWhether you’re a freelancer\, remote worker\, or entrepreneur\, our Coffeehouse Work Sessions are the perfect opportunity to break out of your routine\, find inspiration in new surroundings\, and build meaningful connections. \nNote: Be sure to bring your laptop\, charger\, and anything else you need to get your work done. We’ll provide the coffee and community spirit! \nThese work sessions are offered 1 – 2 times per month and will rotate to various coffee shops around the Greater Cincinnati area! Be sure to check out where we are headed each week! \nAdd this event to your Google Calendar by CLICKING HERE! \nThe Fierce Ladies Collective is designed for the spirited woman eager to explore the depths of her potential in a supportive and dynamic environment. Whether you’re a professional seeking deeper connections\, a creative soul looking to express herself\, or someone yearning to break out of the everyday routine\, our community is your sanctuary. We cater to those who value authenticity and are ready to step outside their comfort zones to forge genuine friendships and embrace transformative experiences. At the Fierce Ladies Collective\, you’ll find a diverse group of women committed to empowering each other\, sharing in each other’s victories\, and growing together in a space that celebrates every step of the journey. \nJoin the Facebook Group here: https://www.facebook.com/groups/1206674110190854/ \n\n\n\n\n\n\n\n 
URL:https://dianamariekeller.com/event-1/fierce-ladies-coffeehouse-work-sessions-coffee-cup-overflowing/
LOCATION:Coffee Cup Overflowing\, 6544 Winford Ave\, Hamilton\, OH\, 45011
CATEGORIES:Fierce Ladies Coffeehouse Work Sessions
ATTACH;FMTTYPE=image/png:https://dianamariekeller.com/wp-content/uploads/2024/06/Coffeehouse-Work-Sessions.png
ORGANIZER;CN="KMF%3A Keep Moving Forward%2C LLC":MAILTO:Diana.Marie.Keller@gmail.com
END:VEVENT
BEGIN:VEVENT
DTSTART;TZID=America/New_York:20241122T110000
DTEND;TZID=America/New_York:20241122T140000
DTSTAMP:20260423T225226
CREATED:20240730T195803Z
LAST-MODIFIED:20241016T180109Z
UID:10000125-1732273200-1732284000@dianamariekeller.com
SUMMARY:Fierce Ladies Coffeehouse Work Sessions - Cocoon Coffee
DESCRIPTION:Introducing the Fierce Ladies Coffeehouse Work Sessions! These sessions are designed to empower women by offering a fresh environment to work in\, while also encouraging you to make new friends\, and support local businesses! \nWhether you’re a freelancer\, remote worker\, or entrepreneur\, our Coffeehouse Work Sessions are the perfect opportunity to break out of your routine\, find inspiration in new surroundings\, and build meaningful connections. \nNote: Be sure to bring your laptop\, charger\, and anything else you need to get your work done. We’ll provide the coffee and community spirit! \nThese work sessions are offered 1 – 2 times per month and will rotate to various coffee shops around the Greater Cincinnati area! Be sure to check out where we are headed each week! \nAdd this event to your Google Calendar by CLICKING HERE! \nThe Fierce Ladies Collective is designed for the spirited woman eager to explore the depths of her potential in a supportive and dynamic environment. Whether you’re a professional seeking deeper connections\, a creative soul looking to express herself\, or someone yearning to break out of the everyday routine\, our community is your sanctuary. We cater to those who value authenticity and are ready to step outside their comfort zones to forge genuine friendships and embrace transformative experiences. At the Fierce Ladies Collective\, you’ll find a diverse group of women committed to empowering each other\, sharing in each other’s victories\, and growing together in a space that celebrates every step of the journey. \nJoin the Facebook Group here: https://www.facebook.com/groups/1206674110190854/ \n\n\n\n\n\n\n\n 
URL:https://dianamariekeller.com/event-1/fierce-ladies-coffeehouse-work-sessions-cocoon-coffee-2/
LOCATION:Cocoon Coffee\, 6209 Snider Rd\, Mason\, OH\, 45040
CATEGORIES:Fierce Ladies Coffeehouse Work Sessions
ATTACH;FMTTYPE=image/png:https://dianamariekeller.com/wp-content/uploads/2024/06/Coffeehouse-Work-Sessions.png
ORGANIZER;CN="KMF%3A Keep Moving Forward%2C LLC":MAILTO:Diana.Marie.Keller@gmail.com
END:VEVENT
BEGIN:VEVENT
DTSTART;TZID=America/New_York:20241025T110000
DTEND;TZID=America/New_York:20241025T140000
DTSTAMP:20260423T225226
CREATED:20240730T195731Z
LAST-MODIFIED:20240730T195731Z
UID:10000124-1729854000-1729864800@dianamariekeller.com
SUMMARY:Fierce Ladies Coffeehouse Work Sessions - Sidewinder
DESCRIPTION:Introducing the Fierce Ladies Coffeehouse Work Sessions! These sessions are designed to empower women by offering a fresh environment to work in\, while also encouraging you to make new friends\, and support local businesses! \nWhether you’re a freelancer\, remote worker\, or entrepreneur\, our Coffeehouse Work Sessions are the perfect opportunity to break out of your routine\, find inspiration in new surroundings\, and build meaningful connections. \nNote: Be sure to bring your laptop\, charger\, and anything else you need to get your work done. We’ll provide the coffee and community spirit! \nThese work sessions are offered 1 – 2 times per month and will rotate to various coffee shops around the Greater Cincinnati area! Be sure to check out where we are headed each week! \nAdd this event to your Google Calendar by CLICKING HERE! \nThe Fierce Ladies Collective is designed for the spirited woman eager to explore the depths of her potential in a supportive and dynamic environment. Whether you’re a professional seeking deeper connections\, a creative soul looking to express herself\, or someone yearning to break out of the everyday routine\, our community is your sanctuary. We cater to those who value authenticity and are ready to step outside their comfort zones to forge genuine friendships and embrace transformative experiences. At the Fierce Ladies Collective\, you’ll find a diverse group of women committed to empowering each other\, sharing in each other’s victories\, and growing together in a space that celebrates every step of the journey. \nJoin the Facebook Group here: https://www.facebook.com/groups/1206674110190854/ \n\n\n\n\n\n\n\n 
URL:https://dianamariekeller.com/event-1/fierce-ladies-coffeehouse-work-sessions-sidewinder/
LOCATION:Sidewinder Coffee\, 4181 Hamilton Ave\, Cincinnati\, OH\, 45223
CATEGORIES:Fierce Ladies Coffeehouse Work Sessions
ATTACH;FMTTYPE=image/png:https://dianamariekeller.com/wp-content/uploads/2024/06/Coffeehouse-Work-Sessions.png
ORGANIZER;CN="KMF%3A Keep Moving Forward%2C LLC":MAILTO:Diana.Marie.Keller@gmail.com
END:VEVENT
BEGIN:VEVENT
DTSTART;TZID=America/New_York:20241011T110000
DTEND;TZID=America/New_York:20241011T140000
DTSTAMP:20260423T225226
CREATED:20240730T195711Z
LAST-MODIFIED:20240730T195711Z
UID:10000123-1728644400-1728655200@dianamariekeller.com
SUMMARY:Fierce Ladies Coffeehouse Work Sessions - Unataza Coffee
DESCRIPTION:Introducing the Fierce Ladies Coffeehouse Work Sessions! These sessions are designed to empower women by offering a fresh environment to work in\, while also encouraging you to make new friends\, and support local businesses! \nWhether you’re a freelancer\, remote worker\, or entrepreneur\, our Coffeehouse Work Sessions are the perfect opportunity to break out of your routine\, find inspiration in new surroundings\, and build meaningful connections. \nNote: Be sure to bring your laptop\, charger\, and anything else you need to get your work done. We’ll provide the coffee and community spirit! \nThese work sessions are offered 1 – 2 times per month and will rotate to various coffee shops around the Greater Cincinnati area! Be sure to check out where we are headed each week! \nAdd this event to your Google Calendar by CLICKING HERE! \nThe Fierce Ladies Collective is designed for the spirited woman eager to explore the depths of her potential in a supportive and dynamic environment. Whether you’re a professional seeking deeper connections\, a creative soul looking to express herself\, or someone yearning to break out of the everyday routine\, our community is your sanctuary. We cater to those who value authenticity and are ready to step outside their comfort zones to forge genuine friendships and embrace transformative experiences. At the Fierce Ladies Collective\, you’ll find a diverse group of women committed to empowering each other\, sharing in each other’s victories\, and growing together in a space that celebrates every step of the journey. \nJoin the Facebook Group here: https://www.facebook.com/groups/1206674110190854/ \n\n\n\n\n\n\n\n 
URL:https://dianamariekeller.com/event-1/fierce-ladies-coffeehouse-work-sessions-unataza-coffee/
LOCATION:Unataza Coffee\, 603 6th Ave\, Dayton\, KY\, 41074
CATEGORIES:Fierce Ladies Coffeehouse Work Sessions
ATTACH;FMTTYPE=image/png:https://dianamariekeller.com/wp-content/uploads/2024/06/Coffeehouse-Work-Sessions.png
ORGANIZER;CN="KMF%3A Keep Moving Forward%2C LLC":MAILTO:Diana.Marie.Keller@gmail.com
END:VEVENT
BEGIN:VEVENT
DTSTART;TZID=America/New_York:20240927T110000
DTEND;TZID=America/New_York:20240927T140000
DTSTAMP:20260423T225226
CREATED:20240604T160306Z
LAST-MODIFIED:20240626T223043Z
UID:10000116-1727434800-1727445600@dianamariekeller.com
SUMMARY:Fierce Ladies Coffeehouse Work Sessions - Moonflower Coffee Collective
DESCRIPTION:Introducing the Fierce Ladies Coffeehouse Work Sessions! These sessions are designed to empower women by offering a fresh environment to work in\, while also encouraging you to make new friends\, and support local businesses! \nWhether you’re a freelancer\, remote worker\, or entrepreneur\, our Coffeehouse Work Sessions are the perfect opportunity to break out of your routine\, find inspiration in new surroundings\, and build meaningful connections. \nNote: Be sure to bring your laptop\, charger\, and anything else you need to get your work done. We’ll provide the coffee and community spirit! \nThese work sessions are offered 1 – 2 times per month and will rotate to various coffee shops around the Greater Cincinnati area! Be sure to check out where we are headed each week! \nAdd this event to your Google Calendar by CLICKING HERE! \nThe Fierce Ladies Collective is designed for the spirited woman eager to explore the depths of her potential in a supportive and dynamic environment. Whether you’re a professional seeking deeper connections\, a creative soul looking to express herself\, or someone yearning to break out of the everyday routine\, our community is your sanctuary. We cater to those who value authenticity and are ready to step outside their comfort zones to forge genuine friendships and embrace transformative experiences. At the Fierce Ladies Collective\, you’ll find a diverse group of women committed to empowering each other\, sharing in each other’s victories\, and growing together in a space that celebrates every step of the journey. \nJoin the Facebook Group here: https://www.facebook.com/groups/1206674110190854/ \n\n\n\n\n\n\n\n 
URL:https://dianamariekeller.com/event-1/fierce-ladies-coffeehouse-work-sessions-moonflower-coffee-collective/
LOCATION:Moonflower Coffee Collective\, 10938 Reading Rd\, Sharonville\, OH\, 45241
CATEGORIES:Fierce Ladies Coffeehouse Work Sessions
ATTACH;FMTTYPE=image/png:https://dianamariekeller.com/wp-content/uploads/2024/06/Coffeehouse-Work-Sessions.png
ORGANIZER;CN="KMF%3A Keep Moving Forward%2C LLC":MAILTO:Diana.Marie.Keller@gmail.com
END:VEVENT
BEGIN:VEVENT
DTSTART;TZID=America/New_York:20240906T110000
DTEND;TZID=America/New_York:20240906T140000
DTSTAMP:20260423T225226
CREATED:20240604T155834Z
LAST-MODIFIED:20240626T223148Z
UID:10000115-1725620400-1725631200@dianamariekeller.com
SUMMARY:Fierce Ladies Coffeehouse Work Sessions - Luminary by La Terza
DESCRIPTION:Introducing the Fierce Ladies Coffeehouse Work Sessions! These sessions are designed to empower women by offering a fresh environment to work in\, while also encouraging you to make new friends\, and support local businesses! \nWhether you’re a freelancer\, remote worker\, or entrepreneur\, our Coffeehouse Work Sessions are the perfect opportunity to break out of your routine\, find inspiration in new surroundings\, and build meaningful connections. \nNote: Be sure to bring your laptop\, charger\, and anything else you need to get your work done. We’ll provide the coffee and community spirit! \nThese work sessions are offered 1 – 2 times per month and will rotate to various coffee shops around the Greater Cincinnati area! Be sure to check out where we are headed each week! \nAdd this event to your Google Calendar by CLICKING HERE! \nThe Fierce Ladies Collective is designed for the spirited woman eager to explore the depths of her potential in a supportive and dynamic environment. Whether you’re a professional seeking deeper connections\, a creative soul looking to express herself\, or someone yearning to break out of the everyday routine\, our community is your sanctuary. We cater to those who value authenticity and are ready to step outside their comfort zones to forge genuine friendships and embrace transformative experiences. At the Fierce Ladies Collective\, you’ll find a diverse group of women committed to empowering each other\, sharing in each other’s victories\, and growing together in a space that celebrates every step of the journey. \nJoin the Facebook Group here: https://www.facebook.com/groups/1206674110190854/ \n\n\n\n\n\n\n\n 
URL:https://dianamariekeller.com/event-1/fierce-ladies-coffeehouse-work-sessions-luminary-by-la-terza/
LOCATION:Luminary by La Terza\, 6128 Hamilton Ave\, Cincinnati\, OH\, 45224
CATEGORIES:Fierce Ladies Coffeehouse Work Sessions
ATTACH;FMTTYPE=image/png:https://dianamariekeller.com/wp-content/uploads/2024/06/Coffeehouse-Work-Sessions.png
ORGANIZER;CN="KMF%3A Keep Moving Forward%2C LLC":MAILTO:Diana.Marie.Keller@gmail.com
END:VEVENT
BEGIN:VEVENT
DTSTART;TZID=America/New_York:20240823T110000
DTEND;TZID=America/New_York:20240823T140000
DTSTAMP:20260423T225226
CREATED:20240604T155516Z
LAST-MODIFIED:20240626T223232Z
UID:10000114-1724410800-1724421600@dianamariekeller.com
SUMMARY:Fierce Ladies Coffeehouse Work Sessions - Birdie's Coffee Co
DESCRIPTION:Introducing the Fierce Ladies Coffeehouse Work Sessions! These sessions are designed to empower women by offering a fresh environment to work in\, while also encouraging you to make new friends\, and support local businesses! \nWhether you’re a freelancer\, remote worker\, or entrepreneur\, our Coffeehouse Work Sessions are the perfect opportunity to break out of your routine\, find inspiration in new surroundings\, and build meaningful connections. \nNote: Be sure to bring your laptop\, charger\, and anything else you need to get your work done. We’ll provide the coffee and community spirit! \nThese work sessions are offered 1 – 2 times per month and will rotate to various coffee shops around the Greater Cincinnati area! Be sure to check out where we are headed each week! \nAdd this event to your Google Calendar by CLICKING HERE! \nThe Fierce Ladies Collective is designed for the spirited woman eager to explore the depths of her potential in a supportive and dynamic environment. Whether you’re a professional seeking deeper connections\, a creative soul looking to express herself\, or someone yearning to break out of the everyday routine\, our community is your sanctuary. We cater to those who value authenticity and are ready to step outside their comfort zones to forge genuine friendships and embrace transformative experiences. At the Fierce Ladies Collective\, you’ll find a diverse group of women committed to empowering each other\, sharing in each other’s victories\, and growing together in a space that celebrates every step of the journey. \nJoin the Facebook Group here: https://www.facebook.com/groups/1206674110190854/ \n\n\n\n\n\n\n\n 
URL:https://dianamariekeller.com/event-1/fierce-ladies-coffeehouse-work-sessions-birdies-coffee-co/
LOCATION:Birdie’s Coffee Co\, 4030 Forest Ave\, Cincinnati\, OH\, 45212
CATEGORIES:Fierce Ladies Coffeehouse Work Sessions
ATTACH;FMTTYPE=image/png:https://dianamariekeller.com/wp-content/uploads/2024/06/Coffeehouse-Work-Sessions.png
ORGANIZER;CN="KMF%3A Keep Moving Forward%2C LLC":MAILTO:Diana.Marie.Keller@gmail.com
END:VEVENT
BEGIN:VEVENT
DTSTART;TZID=America/New_York:20240726T110000
DTEND;TZID=America/New_York:20240726T140000
DTSTAMP:20260423T225226
CREATED:20240604T155154Z
LAST-MODIFIED:20240626T223534Z
UID:10000113-1721991600-1722002400@dianamariekeller.com
SUMMARY:Fierce Ladies Coffeehouse Work Sessions - Carabello Coffee Company
DESCRIPTION:Introducing the Fierce Ladies Coffeehouse Work Sessions! These sessions are designed to empower women by offering a fresh environment to work in\, while also encouraging you to make new friends\, and support local businesses! \nWhether you’re a freelancer\, remote worker\, or entrepreneur\, our Coffeehouse Work Sessions are the perfect opportunity to break out of your routine\, find inspiration in new surroundings\, and build meaningful connections. \nNote: Be sure to bring your laptop\, charger\, and anything else you need to get your work done. We’ll provide the coffee and community spirit! \nThese work sessions are offered 1 – 2 times per month and will rotate to various coffee shops around the Greater Cincinnati area! Be sure to check out where we are headed each week! \nAdd this event to your Google Calendar by CLICKING HERE! \nThe Fierce Ladies Collective is designed for the spirited woman eager to explore the depths of her potential in a supportive and dynamic environment. Whether you’re a professional seeking deeper connections\, a creative soul looking to express herself\, or someone yearning to break out of the everyday routine\, our community is your sanctuary. We cater to those who value authenticity and are ready to step outside their comfort zones to forge genuine friendships and embrace transformative experiences. At the Fierce Ladies Collective\, you’ll find a diverse group of women committed to empowering each other\, sharing in each other’s victories\, and growing together in a space that celebrates every step of the journey. \nJoin the Facebook Group here: https://www.facebook.com/groups/1206674110190854/ \n\n\n\n\n\n\n\n 
URL:https://dianamariekeller.com/event-1/fierce-ladies-coffeehouse-work-sessions-carabello-coffee-company/
LOCATION:Carabello Coffee Company\, 107 E 9th St\, Newport\, KY\, 41071
CATEGORIES:Fierce Ladies Coffeehouse Work Sessions
ATTACH;FMTTYPE=image/png:https://dianamariekeller.com/wp-content/uploads/2024/06/Coffeehouse-Work-Sessions.png
ORGANIZER;CN="KMF%3A Keep Moving Forward%2C LLC":MAILTO:Diana.Marie.Keller@gmail.com
END:VEVENT
BEGIN:VEVENT
DTSTART;TZID=America/New_York:20240712T110000
DTEND;TZID=America/New_York:20240712T140000
DTSTAMP:20260423T225226
CREATED:20240604T152209Z
LAST-MODIFIED:20240626T223615Z
UID:10000111-1720782000-1720792800@dianamariekeller.com
SUMMARY:Fierce Ladies Coffeehouse Work Sessions - Mom 'n 'em Coffee
DESCRIPTION:Introducing the Fierce Ladies Coffeehouse Work Sessions! These sessions are designed to empower women by offering a fresh environment to work in\, while also encouraging you to make new friends\, and support local businesses! \nWhether you’re a freelancer\, remote worker\, or entrepreneur\, our Coffeehouse Work Sessions are the perfect opportunity to break out of your routine\, find inspiration in new surroundings\, and build meaningful connections. \nNote: Be sure to bring your laptop\, charger\, and anything else you need to get your work done. We’ll provide the coffee and community spirit! \nThese work sessions are offered 1 – 2 times per month and will rotate to various coffee shops around the Greater Cincinnati area! Be sure to check out where we are headed each week! \nAdd this event to your Google Calendar by CLICKING HERE! \nThe Fierce Ladies Collective is designed for the spirited woman eager to explore the depths of her potential in a supportive and dynamic environment. Whether you’re a professional seeking deeper connections\, a creative soul looking to express herself\, or someone yearning to break out of the everyday routine\, our community is your sanctuary. We cater to those who value authenticity and are ready to step outside their comfort zones to forge genuine friendships and embrace transformative experiences. At the Fierce Ladies Collective\, you’ll find a diverse group of women committed to empowering each other\, sharing in each other’s victories\, and growing together in a space that celebrates every step of the journey. \nJoin the Facebook Group here: https://www.facebook.com/groups/1206674110190854/
URL:https://dianamariekeller.com/event-1/fierce-ladies-coffeehouse-work-sessions-mom-n-em-coffee/
LOCATION:Mom ‘n’ Em Coffee\, 4310 Whetsel Ave\, Cincinnati\, OH\, 45227
CATEGORIES:Fierce Ladies Coffeehouse Work Sessions
ATTACH;FMTTYPE=image/png:https://dianamariekeller.com/wp-content/uploads/2024/06/Coffeehouse-Work-Sessions.png
ORGANIZER;CN="KMF%3A Keep Moving Forward%2C LLC":MAILTO:Diana.Marie.Keller@gmail.com
END:VEVENT
BEGIN:VEVENT
DTSTART;TZID=America/New_York:20240628T110000
DTEND;TZID=America/New_York:20240628T140000
DTSTAMP:20260423T225226
CREATED:20240604T154810Z
LAST-MODIFIED:20240626T222747Z
UID:10000112-1719572400-1719583200@dianamariekeller.com
SUMMARY:Fierce Ladies Coffeehouse Work Sessions - Cocoon Coffee
DESCRIPTION:Introducing the Fierce Ladies Coffeehouse Work Sessions! These sessions are designed to empower women by offering a fresh environment to work in\, while also encouraging you to make new friends\, and support local businesses! \nWhether you’re a freelancer\, remote worker\, or entrepreneur\, our Coffeehouse Work Sessions are the perfect opportunity to break out of your routine\, find inspiration in new surroundings\, and build meaningful connections. \nNote: Be sure to bring your laptop\, charger\, and anything else you need to get your work done. We’ll provide the coffee and community spirit! \nThese work sessions are offered 1 – 2 times per month and will rotate to various coffee shops around the Greater Cincinnati area! Be sure to check out where we are headed each week! \nAdd this event to your Google Calendar by CLICKING HERE! \nThe Fierce Ladies Collective is designed for the spirited woman eager to explore the depths of her potential in a supportive and dynamic environment. Whether you’re a professional seeking deeper connections\, a creative soul looking to express herself\, or someone yearning to break out of the everyday routine\, our community is your sanctuary. We cater to those who value authenticity and are ready to step outside their comfort zones to forge genuine friendships and embrace transformative experiences. At the Fierce Ladies Collective\, you’ll find a diverse group of women committed to empowering each other\, sharing in each other’s victories\, and growing together in a space that celebrates every step of the journey. \nJoin the Facebook Group here: https://www.facebook.com/groups/1206674110190854/ \n\n\n\n\n\n\n\n 
URL:https://dianamariekeller.com/event-1/fierce-ladies-coffeehouse-work-sessions-cocoon-coffee/
LOCATION:Cocoon Coffee\, 6209 Snider Rd\, Mason\, OH\, 45040
CATEGORIES:Fierce Ladies Coffeehouse Work Sessions
ATTACH;FMTTYPE=image/png:https://dianamariekeller.com/wp-content/uploads/2024/06/Coffeehouse-Work-Sessions.png
ORGANIZER;CN="KMF%3A Keep Moving Forward%2C LLC":MAILTO:Diana.Marie.Keller@gmail.com
END:VEVENT
BEGIN:VEVENT
DTSTART;TZID=America/New_York:20240614T110000
DTEND;TZID=America/New_York:20240614T140000
DTSTAMP:20260423T225226
CREATED:20240604T145750Z
LAST-MODIFIED:20240604T151704Z
UID:10000110-1718362800-1718373600@dianamariekeller.com
SUMMARY:Fierce Ladies Coffeehouse Work Sessions - High Grain (Brentwood)
DESCRIPTION:Introducing the Fierce Ladies Coffeehouse Work Sessions! These sessions are designed to empower women by offering a fresh environment to work in\, while also encouraging you to make new friends\, and support local businesses! \nWhether you’re a freelancer\, remote worker\, or entrepreneur\, our Coffeehouse Work Sessions are the perfect opportunity to break out of your routine\, find inspiration in new surroundings\, and build meaningful connections. \nNote: Be sure to bring your laptop\, charger\, and anything else you need to get your work done. We’ll provide the coffee and community spirit! \nThese work sessions are offered 1 – 2 times per month and will rotate to various coffee shops around the Greater Cincinnati area! Be sure to check out where we are headed each week! \nAdd this event to your Google Calendar by CLICKING HERE! \nThe Fierce Ladies Collective is a group of ambitious\, hard-working\, enthusiastic\, and driven women to come together and support one another! Whether you’re an entrepreneur\, a momma\, a woman with goals\, or someone who needs a community to lean into\, we’ve got you covered! We are focused on lifting each other up\, supporting one another\, coming together to accomplish goals\, and finding the community we need to take us to that next step! We host monthly in-person meetups and one virtual happy hour per month. \nJoin the Facebook Group here: https://www.facebook.com/groups/1206674110190854/ \n\n\n\n\n\n\n\n 
URL:https://dianamariekeller.com/event-1/fierce-ladies-coffeehouse-work-sessions/
LOCATION:High Grain Brentwood\, 9176 Winton Rd\, Cincinnati\, OH\, 45231
CATEGORIES:Fierce Ladies Coffeehouse Work Sessions
ATTACH;FMTTYPE=image/png:https://dianamariekeller.com/wp-content/uploads/2024/06/Coffeehouse-Work-Sessions.png
ORGANIZER;CN="KMF%3A Keep Moving Forward%2C LLC":MAILTO:Diana.Marie.Keller@gmail.com
END:VEVENT
END:VCALENDAR