BEGIN:VCALENDAR
VERSION:2.0
PRODID:-//Diana Marie Keller - ECPv6.15.16.1//NONSGML v1.0//EN
CALSCALE:GREGORIAN
METHOD:PUBLISH
X-ORIGINAL-URL:https://dianamariekeller.com
X-WR-CALDESC:Events for Diana Marie Keller
REFRESH-INTERVAL;VALUE=DURATION:PT1H
X-Robots-Tag:noindex
X-PUBLISHED-TTL:PT1H
BEGIN:VTIMEZONE
TZID:UTC
BEGIN:STANDARD
TZOFFSETFROM:+0000
TZOFFSETTO:+0000
TZNAME:UTC
DTSTART:20230101T000000
END:STANDARD
END:VTIMEZONE
BEGIN:VEVENT
DTSTART;TZID=UTC:20241130T100000
DTEND;TZID=UTC:20241130T130000
DTSTAMP:20260425T061904
CREATED:20240730T195948Z
LAST-MODIFIED:20241130T125635Z
UID:10000133-1732960800-1732971600@dianamariekeller.com
SUMMARY:Fierce Ladies Monthly Meetup - Houses 101 Do It Yourself Darlin' Class
DESCRIPTION:This event is available to all members of the Fierce Ladies Collective!\nTo see the details and RSVP or grab your ticket\, you'll need to log in to your account.\nNot a member yet? Signing up is totally free\, and takes just a minute! You can sign up here! \nWe can’t wait to meet you and help you find your people. \n      \n              \n                    \n\n                       \n            \n        \n                              Username or E-mail\n        \n        \n      \n      \n        \n          Password\n          \n            \n            \n              \n            \n          \n        \n      \n            \n         Remember Me\n      \n       \n      \n        \n        \n        \n        \n      \n    \n     \n    \n        \n          Forgot Password
URL:https://dianamariekeller.com/event-1/fierce-ladies-monthly-meetup-houses-101-do-it-yourself-darlin-class/
LOCATION:Casa Colina\, 821 Purcell Ave.\, Cincinnati\, OH\, 45205
CATEGORIES:Fierce Ladies Monthly Meetup
ORGANIZER;CN="KMF%3A Keep Moving Forward%2C LLC":MAILTO:Diana.Marie.Keller@gmail.com
END:VEVENT
END:VCALENDAR